{"text_format":"1","workbook":"xlsx","n_sheets":3,"sheets":["Arkusz2","Arkusz1","Arkusz3"],"not_rendered":{"charts":3,"images":0,"macros":1,"external_links":0,"defined_names":0,"comments":0,"pivot_tables":0},"unopened":[],"bounds":{"document_bytes":16777216,"sheet_cells":100000,"rows_first":2000,"rows_last":500,"rows_between":2000,"halvings":0,"cell_chars":16384,"cell_head_chars":4096},"cells_cut":0,"cells_raw":0,"read":"whole","date_system":"1900"}

{"sheet":"Arkusz2","index":0,"n_rows":134,"n_cols":15,"rows_kept":134,"cut":false,"hidden":false,"merged":[]}
[]
[]
[]
[]
[]
[]
["c","d",0]
["p","k",1]
[]
[]
[]
[]
[null,"opcja 1",null,"opcja 2",null,"opcja 3",null,"opcja 4",null,"opcja 5",null,"opcja 6",null,"portfel"]
[{"$f":"Arkusz1!A13","v":70},{"$f":"IF(Arkusz1!B$9=1,Arkusz1!B13+Arkusz1!C13,\"\")","v":34.767069735453099},{"$f":"IF(Arkusz1!B$9=1,Arkusz1!C13,\"\")","v":13.587318287844688},{"$f":"IF(Arkusz1!D$9=1,Arkusz1!D13+Arkusz1!E13,\"\")","v":-8.1737840434190066},{"$f":"IF(Arkusz1!D$9=1,Arkusz1!E13,\"\")","v":-9.0414390673057845},{"$f":"IF(Arkusz1!F$9=1,Arkusz1!F13+Arkusz1!G13,\"\")","v":""},{"$f":"IF(Arkusz1!F$9=1,Arkusz1!G13,\"\")","v":""},{"$f":"IF(Arkusz1!H$9=1,Arkusz1!H13+Arkusz1!I13,\"\")","v":""},{"$f":"IF(Arkusz1!H$9=1,Arkusz1!I13,\"\")","v":""},{"$f":"IF(Arkusz1!J$9=1,Arkusz1!J13+Arkusz1!K13,\"\")","v":""},{"$f":"IF(Arkusz1!J$9=1,Arkusz1!K13,\"\")","v":""},{"$f":"IF(Arkusz1!L$9=1,Arkusz1!L13+Arkusz1!M13,\"\")","v":""},{"$f":"IF(Arkusz1!L$9=1,Arkusz1!M13,\"\")","v":""},{"$f":"Arkusz1!O13+Arkusz1!P13","v":26.59328569203409},{"$f":"Arkusz1!P13","v":4.5458792205389038}]
[{"$f":"Arkusz1!A14","v":70.5},{"$f":"IF(Arkusz1!B$9=1,Arkusz1!B14+Arkusz1!C14,\"\")","v":33.902674782223677},{"$f":"IF(Arkusz1!B$9=1,Arkusz1!C14,\"\")","v":13.087318287844688},{"$f":"IF(Arkusz1!D$9=1,Arkusz1!D14+Arkusz1!E14,\"\")","v":-8.1234755583208944},{"$f":"IF(Arkusz1!D$9=1,Arkusz1!E14,\"\")","v":-9.0414390673057845},{"$f":"IF(Arkusz1!F$9=1,Arkusz1!F14+Arkusz1!G14,\"\")","v":""},{"$f":"IF(Arkusz1!F$9=1,Arkusz1!G14,\"\")","v":""},{"$f":"IF(Arkusz1!H$9=1,Arkusz1!H14+Arkusz1!I14,\"\")","v":""},{"$f":"IF(Arkusz1!H$9=1,Arkusz1!I14,\"\")","v":""},{"$f":"IF(Arkusz1!J$9=1,Arkusz1!J14+Arkusz1!K14,\"\")","v":""},{"$f":"IF(Arkusz1!J$9=1,Arkusz1!K14,\"\")","v":""},{"$f":"IF(Arkusz1!L$9=1,Arkusz1!L14+Arkusz1!M14,\"\")","v":""},{"$f":"IF(Arkusz1!L$9=1,Arkusz1!M14,\"\")","v":""},{"$f":"Arkusz1!O14+Arkusz1!P14","v":25.779199223902783},{"$f":"Arkusz1!P14","v":4.0458792205389038}]
[{"$f":"Arkusz1!A15","v":71},{"$f":"IF(Arkusz1!B$9=1,Arkusz1!B15+Arkusz1!C15,\"\")","v":33.042224787226111},{"$f":"IF(Arkusz1!B$9=1,Arkusz1!C15,\"\")","v":12.587318287844688},{"$f":"IF(Arkusz1!D$9=1,Arkusz1!D15+Arkusz1!E15,\"\")","v":-8.0710517611499206},{"$f":"IF(Arkusz1!D$9=1,Arkusz1!E15,\"\")","v":-9.0414390673057845},{"$f":"IF(Arkusz1!F$9=1,Arkusz1!F15+Arkusz1!G15,\"\")","v":""},{"$f":"IF(Arkusz1!F$9=1,Arkusz1!G15,\"\")","v":""},{"$f":"IF(Arkusz1!H$9=1,Arkusz1!H15+Arkusz1!I15,\"\")","v":""},{"$f":"IF(Arkusz1!H$9=1,Arkusz1!I15,\"\")","v":""},{"$f":"IF(Arkusz1!J$9=1,Arkusz1!J15+Arkusz1!K15,\"\")","v":""},{"$f":"IF(Arkusz1!J$9=1,Arkusz1!K15,\"\")","v":""},{"$f":"IF(Arkusz1!L$9=1,Arkusz1!L15+Arkusz1!M15,\"\")","v":""},{"$f":"IF(Arkusz1!L$9=1,Arkusz1!M15,\"\")","v":""},{"$f":"Arkusz1!O15+Arkusz1!P15","v":24.97117302607619},{"$f":"Arkusz1!P15","v":3.5458792205389038}]
[{"$f":"Arkusz1!A16","v":71.5},{"$f":"IF(Arkusz1!B$9=1,Arkusz1!B16+Arkusz1!C16,\"\")","v":32.185746377649494},{"$f":"IF(Arkusz1!B$9=1,Arkusz1!C16,\"\")","v":12.087318287844688},{"$f":"IF(Arkusz1!D$9=1,Arkusz1!D16+Arkusz1!E16,\"\")","v":-8.0164645555247063},{"$f":"IF(Arkusz1!D$9=1,Arkusz1!E16,\"\")","v":-9.0414390673057845},{"$f":"IF(Arkusz1!F$9=1,Arkusz1!F16+Arkusz1!G16,\"\")","v":""},{"$f":"IF(Arkusz1!F$9=1,Arkusz1!G16,\"\")","v":""},{"$f":"IF(Arkusz1!H$9=1,Arkusz1!H16+Arkusz1!I16,\"\")","v":""},{"$f":"IF(Arkusz1!H$9=1,Arkusz1!I16,\"\")","v":""},{"$f":"IF(Arkusz1!J$9=1,Arkusz1!J16+Arkusz1!K16,\"\")","v":""},{"$f":"IF(Arkusz1!J$9=1,Arkusz1!K16,\"\")","v":""},{"$f":"IF(Arkusz1!L$9=1,Arkusz1!L16+Arkusz1!M16,\"\")","v":""},{"$f":"IF(Arkusz1!L$9=1,Arkusz1!M16,\"\")","v":""},{"$f":"Arkusz1!O16+Arkusz1!P16","v":24.169281822124788},{"$f":"Arkusz1!P16","v":3.0458792205389038}]
[{"$f":"Arkusz1!A17","v":72},{"$f":"IF(Arkusz1!B$9=1,Arkusz1!B17+Arkusz1!C17,\"\")","v":31.33326397698292},{"$f":"IF(Arkusz1!B$9=1,Arkusz1!C17,\"\")","v":11.587318287844688},{"$f":"IF(Arkusz1!D$9=1,Arkusz1!D17+Arkusz1!E17,\"\")","v":-7.9596663147836155},{"$f":"IF(Arkusz1!D$9=1,Arkusz1!E17,\"\")","v":-9.0414390673057845},{"$f":"IF(Arkusz1!F$9=1,Arkusz1!F17+Arkusz1!G17,\"\")","v":""},{"$f":"IF(Arkusz1!F$9=1,Arkusz1!G17,\"\")","v":""},{"$f":"IF(Arkusz1!H$9=1,Arkusz1!H17+Arkusz1!I17,\"\")","v":""},{"$f":"IF(Arkusz1!H$9=1,Arkusz1!I17,\"\")","v":""},{"$f":"IF(Arkusz1!J$9=1,Arkusz1!J17+Arkusz1!K17,\"\")","v":""},{"$f":"IF(Arkusz1!J$9=1,Arkusz1!K17,\"\")","v":""},{"$f":"IF(Arkusz1!L$9=1,Arkusz1!L17+Arkusz1!M17,\"\")","v":""},{"$f":"IF(Arkusz1!L$9=1,Arkusz1!M17,\"\")","v":""},{"$f":"Arkusz1!O17+Arkusz1!P17","v":23.373597662199305},{"$f":"Arkusz1!P17","v":2.5458792205389038}]
[{"$f":"Arkusz1!A18","v":72.5},{"$f":"IF(Arkusz1!B$9=1,Arkusz1!B18+Arkusz1!C18,\"\")","v":30.484799810963096},{"$f":"IF(Arkusz1!B$9=1,Arkusz1!C18,\"\")","v":11.087318287844688},{"$f":"IF(Arkusz1!D$9=1,Arkusz1!D18+Arkusz1!E18,\"\")","v":-7.9006099295192742},{"$f":"IF(Arkusz1!D$9=1,Arkusz1!E18,\"\")","v":-9.0414390673057845},{"$f":"IF(Arkusz1!F$9=1,Arkusz1!F18+Arkusz1!G18,\"\")","v":""},{"$f":"IF(Arkusz1!F$9=1,Arkusz1!G18,\"\")","v":""},{"$f":"IF(Arkusz1!H$9=1,Arkusz1!H18+Arkusz1!I18,\"\")","v":""},{"$f":"IF(Arkusz1!H$9=1,Arkusz1!I18,\"\")","v":""},{"$f":"IF(Arkusz1!J$9=1,Arkusz1!J18+Arkusz1!K18,\"\")","v":""},{"$f":"IF(Arkusz1!J$9=1,Arkusz1!K18,\"\")","v":""},{"$f":"IF(Arkusz1!L$9=1,Arkusz1!L18+Arkusz1!M18,\"\")","v":""},{"$f":"IF(Arkusz1!L$9=1,Arkusz1!M18,\"\")","v":""},{"$f":"Arkusz1!O18+Arkusz1!P18","v":22.584189881443823},{"$f":"Arkusz1!P18","v":2.0458792205389038}]
[{"$f":"Arkusz1!A19","v":73},{"$f":"IF(Arkusz1!B$9=1,Arkusz1!B19+Arkusz1!C19,\"\")","v":29.640373917040385},{"$f":"IF(Arkusz1!B$9=1,Arkusz1!C19,\"\")","v":10.587318287844688},{"$f":"IF(Arkusz1!D$9=1,Arkusz1!D19+Arkusz1!E19,\"\")","v":-7.8392488538702594},{"$f":"IF(Arkusz1!D$9=1,Arkusz1!E19,\"\")","v":-9.0414390673057845},{"$f":"IF(Arkusz1!F$9=1,Arkusz1!F19+Arkusz1!G19,\"\")","v":""},{"$f":"IF(Arkusz1!F$9=1,Arkusz1!G19,\"\")","v":""},{"$f":"IF(Arkusz1!H$9=1,Arkusz1!H19+Arkusz1!I19,\"\")","v":""},{"$f":"IF(Arkusz1!H$9=1,Arkusz1!I19,\"\")","v":""},{"$f":"IF(Arkusz1!J$9=1,Arkusz1!J19+Arkusz1!K19,\"\")","v":""},{"$f":"IF(Arkusz1!J$9=1,Arkusz1!K19,\"\")","v":""},{"$f":"IF(Arkusz1!L$9=1,Arkusz1!L19+Arkusz1!M19,\"\")","v":""},{"$f":"IF(Arkusz1!L$9=1,Arkusz1!M19,\"\")","v":""},{"$f":"Arkusz1!O19+Arkusz1!P19","v":21.801125063170126},{"$f":"Arkusz1!P19","v":1.5458792205389038}]
[{"$f":"Arkusz1!A20","v":73.5},{"$f":"IF(Arkusz1!B$9=1,Arkusz1!B20+Arkusz1!C20,\"\")","v":28.800004157216513},{"$f":"IF(Arkusz1!B$9=1,Arkusz1!C20,\"\")","v":10.087318287844688},{"$f":"IF(Arkusz1!D$9=1,Arkusz1!D20+Arkusz1!E20,\"\")","v":-7.775537150497021},{"$f":"IF(Arkusz1!D$9=1,Arkusz1!E20,\"\")","v":-9.0414390673057845},{"$f":"IF(Arkusz1!F$9=1,Arkusz1!F20+Arkusz1!G20,\"\")","v":""},{"$f":"IF(Arkusz1!F$9=1,Arkusz1!G20,\"\")","v":""},{"$f":"IF(Arkusz1!H$9=1,Arkusz1!H20+Arkusz1!I20,\"\")","v":""},{"$f":"IF(Arkusz1!H$9=1,Arkusz1!I20,\"\")","v":""},{"$f":"IF(Arkusz1!J$9=1,Arkusz1!J20+Arkusz1!K20,\"\")","v":""},{"$f":"IF(Arkusz1!J$9=1,Arkusz1!K20,\"\")","v":""},{"$f":"IF(Arkusz1!L$9=1,Arkusz1!L20+Arkusz1!M20,\"\")","v":""},{"$f":"IF(Arkusz1!L$9=1,Arkusz1!M20,\"\")","v":""},{"$f":"Arkusz1!O20+Arkusz1!P20","v":21.024467006719494},{"$f":"Arkusz1!P20","v":1.0458792205389038}]
[{"$f":"Arkusz1!A21","v":74},{"$f":"IF(Arkusz1!B$9=1,Arkusz1!B21+Arkusz1!C21,\"\")","v":27.96370623410354},{"$f":"IF(Arkusz1!B$9=1,Arkusz1!C21,\"\")","v":9.5873182878446883},{"$f":"IF(Arkusz1!D$9=1,Arkusz1!D21+Arkusz1!E21,\"\")","v":-7.709429534177147},{"$f":"IF(Arkusz1!D$9=1,Arkusz1!E21,\"\")","v":-9.0414390673057845},{"$f":"IF(Arkusz1!F$9=1,Arkusz1!F21+Arkusz1!G21,\"\")","v":""},{"$f":"IF(Arkusz1!F$9=1,Arkusz1!G21,\"\")","v":""},{"$f":"IF(Arkusz1!H$9=1,Arkusz1!H21+Arkusz1!I21,\"\")","v":""},{"$f":"IF(Arkusz1!H$9=1,Arkusz1!I21,\"\")","v":""},{"$f":"IF(Arkusz1!J$9=1,Arkusz1!J21+Arkusz1!K21,\"\")","v":""},{"$f":"IF(Arkusz1!J$9=1,Arkusz1!K21,\"\")","v":""},{"$f":"IF(Arkusz1!L$9=1,Arkusz1!L21+Arkusz1!M21,\"\")","v":""},{"$f":"IF(Arkusz1!L$9=1,Arkusz1!M21,\"\")","v":""},{"$f":"Arkusz1!O21+Arkusz1!P21","v":20.254276699926393},{"$f":"Arkusz1!P21","v":0.54587922053890381}]
[{"$f":"Arkusz1!A22","v":74.5},{"$f":"IF(Arkusz1!B$9=1,Arkusz1!B22+Arkusz1!C22,\"\")","v":27.131493710051757},{"$f":"IF(Arkusz1!B$9=1,Arkusz1!C22,\"\")","v":9.0873182878446883},{"$f":"IF(Arkusz1!D$9=1,Arkusz1!D22+Arkusz1!E22,\"\")","v":-7.6408814139590824},{"$f":"IF(Arkusz1!D$9=1,Arkusz1!E22,\"\")","v":-9.0414390673057845},{"$f":"IF(Arkusz1!F$9=1,Arkusz1!F22+Arkusz1!G22,\"\")","v":""},{"$f":"IF(Arkusz1!F$9=1,Arkusz1!G22,\"\")","v":""},{"$f":"IF(Arkusz1!H$9=1,Arkusz1!H22+Arkusz1!I22,\"\")","v":""},{"$f":"IF(Arkusz1!H$9=1,Arkusz1!I22,\"\")","v":""},{"$f":"IF(Arkusz1!J$9=1,Arkusz1!J22+Arkusz1!K22,\"\")","v":""},{"$f":"IF(Arkusz1!J$9=1,Arkusz1!K22,\"\")","v":""},{"$f":"IF(Arkusz1!L$9=1,Arkusz1!L22+Arkusz1!M22,\"\")","v":""},{"$f":"IF(Arkusz1!L$9=1,Arkusz1!M22,\"\")","v":""},{"$f":"Arkusz1!O22+Arkusz1!P22","v":19.490612296092674},{"$f":"Arkusz1!P22","v":4.5879220538903809E-2}]
[{"$f":"Arkusz1!A23","v":75},{"$f":"IF(Arkusz1!B$9=1,Arkusz1!B23+Arkusz1!C23,\"\")","v":26.303378029192508},{"$f":"IF(Arkusz1!B$9=1,Arkusz1!C23,\"\")","v":8.5873182878446883},{"$f":"IF(Arkusz1!D$9=1,Arkusz1!D23+Arkusz1!E23,\"\")","v":-7.5698489338201291},{"$f":"IF(Arkusz1!D$9=1,Arkusz1!E23,\"\")","v":-9.0414390673057845},{"$f":"IF(Arkusz1!F$9=1,Arkusz1!F23+Arkusz1!G23,\"\")","v":""},{"$f":"IF(Arkusz1!F$9=1,Arkusz1!G23,\"\")","v":""},{"$f":"IF(Arkusz1!H$9=1,Arkusz1!H23+Arkusz1!I23,\"\")","v":""},{"$f":"IF(Arkusz1!H$9=1,Arkusz1!I23,\"\")","v":""},{"$f":"IF(Arkusz1!J$9=1,Arkusz1!J23+Arkusz1!K23,\"\")","v":""},{"$f":"IF(Arkusz1!J$9=1,Arkusz1!K23,\"\")","v":""},{"$f":"IF(Arkusz1!L$9=1,Arkusz1!L23+Arkusz1!M23,\"\")","v":""},{"$f":"IF(Arkusz1!L$9=1,Arkusz1!M23,\"\")","v":""},{"$f":"Arkusz1!O23+Arkusz1!P23","v":18.733529095372379},{"$f":"Arkusz1!P23","v":-0.45412077946109619}]
[{"$f":"Arkusz1!A24","v":75.5},{"$f":"IF(Arkusz1!B$9=1,Arkusz1!B24+Arkusz1!C24,\"\")","v":25.479368542239875},{"$f":"IF(Arkusz1!B$9=1,Arkusz1!C24,\"\")","v":8.0873182878446883},{"$f":"IF(Arkusz1!D$9=1,Arkusz1!D24+Arkusz1!E24,\"\")","v":-7.4962890117794974},{"$f":"IF(Arkusz1!D$9=1,Arkusz1!E24,\"\")","v":-9.0414390673057845},{"$f":"IF(Arkusz1!F$9=1,Arkusz1!F24+Arkusz1!G24,\"\")","v":""},{"$f":"IF(Arkusz1!F$9=1,Arkusz1!G24,\"\")","v":""},{"$f":"IF(Arkusz1!H$9=1,Arkusz1!H24+Arkusz1!I24,\"\")","v":""},{"$f":"IF(Arkusz1!H$9=1,Arkusz1!I24,\"\")","v":""},{"$f":"IF(Arkusz1!J$9=1,Arkusz1!J24+Arkusz1!K24,\"\")","v":""},{"$f":"IF(Arkusz1!J$9=1,Arkusz1!K24,\"\")","v":""},{"$f":"IF(Arkusz1!L$9=1,Arkusz1!L24+Arkusz1!M24,\"\")","v":""},{"$f":"IF(Arkusz1!L$9=1,Arkusz1!M24,\"\")","v":""},{"$f":"Arkusz1!O24+Arkusz1!P24","v":17.983079530460376},{"$f":"Arkusz1!P24","v":-0.95412077946109619}]
[{"$f":"Arkusz1!A25","v":76},{"$f":"IF(Arkusz1!B$9=1,Arkusz1!B25+Arkusz1!C25,\"\")","v":24.659472533896192},{"$f":"IF(Arkusz1!B$9=1,Arkusz1!C25,\"\")","v":7.5873182878446874},{"$f":"IF(Arkusz1!D$9=1,Arkusz1!D25+Arkusz1!E25,\"\")","v":-7.4201593774230901},{"$f":"IF(Arkusz1!D$9=1,Arkusz1!E25,\"\")","v":-9.0414390673057845},{"$f":"IF(Arkusz1!F$9=1,Arkusz1!F25+Arkusz1!G25,\"\")","v":""},{"$f":"IF(Arkusz1!F$9=1,Arkusz1!G25,\"\")","v":""},{"$f":"IF(Arkusz1!H$9=1,Arkusz1!H25+Arkusz1!I25,\"\")","v":""},{"$f":"IF(Arkusz1!H$9=1,Arkusz1!I25,\"\")","v":""},{"$f":"IF(Arkusz1!J$9=1,Arkusz1!J25+Arkusz1!K25,\"\")","v":""},{"$f":"IF(Arkusz1!J$9=1,Arkusz1!K25,\"\")","v":""},{"$f":"IF(Arkusz1!L$9=1,Arkusz1!L25+Arkusz1!M25,\"\")","v":""},{"$f":"IF(Arkusz1!L$9=1,Arkusz1!M25,\"\")","v":""},{"$f":"Arkusz1!O25+Arkusz1!P25","v":17.239313156473102},{"$f":"Arkusz1!P25","v":-1.4541207794610971}]
[{"$f":"Arkusz1!A26","v":76.5},{"$f":"IF(Arkusz1!B$9=1,Arkusz1!B26+Arkusz1!C26,\"\")","v":23.843695252705267},{"$f":"IF(Arkusz1!B$9=1,Arkusz1!C26,\"\")","v":7.0873182878446874},{"$f":"IF(Arkusz1!D$9=1,Arkusz1!D26+Arkusz1!E26,\"\")","v":-7.3414186078021562},{"$f":"IF(Arkusz1!D$9=1,Arkusz1!E26,\"\")","v":-9.0414390673057845},{"$f":"IF(Arkusz1!F$9=1,Arkusz1!F26+Arkusz1!G26,\"\")","v":""},{"$f":"IF(Arkusz1!F$9=1,Arkusz1!G26,\"\")","v":""},{"$f":"IF(Arkusz1!H$9=1,Arkusz1!H26+Arkusz1!I26,\"\")","v":""},{"$f":"IF(Arkusz1!H$9=1,Arkusz1!I26,\"\")","v":""},{"$f":"IF(Arkusz1!J$9=1,Arkusz1!J26+Arkusz1!K26,\"\")","v":""},{"$f":"IF(Arkusz1!J$9=1,Arkusz1!K26,\"\")","v":""},{"$f":"IF(Arkusz1!L$9=1,Arkusz1!L26+Arkusz1!M26,\"\")","v":""},{"$f":"IF(Arkusz1!L$9=1,Arkusz1!M26,\"\")","v":""},{"$f":"Arkusz1!O26+Arkusz1!P26","v":16.502276644903109},{"$f":"Arkusz1!P26","v":-1.9541207794610971}]
[{"$f":"Arkusz1!A27","v":77},{"$f":"IF(Arkusz1!B$9=1,Arkusz1!B27+Arkusz1!C27,\"\")","v":23.032039943198164},{"$f":"IF(Arkusz1!B$9=1,Arkusz1!C27,\"\")","v":6.5873182878446874},{"$f":"IF(Arkusz1!D$9=1,Arkusz1!D27+Arkusz1!E27,\"\")","v":-7.2600261616726645},{"$f":"IF(Arkusz1!D$9=1,Arkusz1!E27,\"\")","v":-9.0414390673057845},{"$f":"IF(Arkusz1!F$9=1,Arkusz1!F27+Arkusz1!G27,\"\")","v":""},{"$f":"IF(Arkusz1!F$9=1,Arkusz1!G27,\"\")","v":""},{"$f":"IF(Arkusz1!H$9=1,Arkusz1!H27+Arkusz1!I27,\"\")","v":""},{"$f":"IF(Arkusz1!H$9=1,Arkusz1!I27,\"\")","v":""},{"$f":"IF(Arkusz1!J$9=1,Arkusz1!J27+Arkusz1!K27,\"\")","v":""},{"$f":"IF(Arkusz1!J$9=1,Arkusz1!K27,\"\")","v":""},{"$f":"IF(Arkusz1!L$9=1,Arkusz1!L27+Arkusz1!M27,\"\")","v":""},{"$f":"IF(Arkusz1!L$9=1,Arkusz1!M27,\"\")","v":""},{"$f":"Arkusz1!O27+Arkusz1!P27","v":15.772013781525498},{"$f":"Arkusz1!P27","v":-2.4541207794610971}]
[{"$f":"Arkusz1!A28","v":77.5},{"$f":"IF(Arkusz1!B$9=1,Arkusz1!B28+Arkusz1!C28,\"\")","v":22.22450788017764},{"$f":"IF(Arkusz1!B$9=1,Arkusz1!C28,\"\")","v":6.0873182878446874},{"$f":"IF(Arkusz1!D$9=1,Arkusz1!D28+Arkusz1!E28,\"\")","v":-7.1759424120484017},{"$f":"IF(Arkusz1!D$9=1,Arkusz1!E28,\"\")","v":-9.0414390673057845},{"$f":"IF(Arkusz1!F$9=1,Arkusz1!F28+Arkusz1!G28,\"\")","v":""},{"$f":"IF(Arkusz1!F$9=1,Arkusz1!G28,\"\")","v":""},{"$f":"IF(Arkusz1!H$9=1,Arkusz1!H28+Arkusz1!I28,\"\")","v":""},{"$f":"IF(Arkusz1!H$9=1,Arkusz1!I28,\"\")","v":""},{"$f":"IF(Arkusz1!J$9=1,Arkusz1!J28+Arkusz1!K28,\"\")","v":""},{"$f":"IF(Arkusz1!J$9=1,Arkusz1!K28,\"\")","v":""},{"$f":"IF(Arkusz1!L$9=1,Arkusz1!L28+Arkusz1!M28,\"\")","v":""},{"$f":"IF(Arkusz1!L$9=1,Arkusz1!M28,\"\")","v":""},{"$f":"Arkusz1!O28+Arkusz1!P28","v":15.048565468129237},{"$f":"Arkusz1!P28","v":-2.9541207794610971}]
[{"$f":"Arkusz1!A29","v":78},{"$f":"IF(Arkusz1!B$9=1,Arkusz1!B29+Arkusz1!C29,\"\")","v":21.421098404988761},{"$f":"IF(Arkusz1!B$9=1,Arkusz1!C29,\"\")","v":5.5873182878446874},{"$f":"IF(Arkusz1!D$9=1,Arkusz1!D29+Arkusz1!E29,\"\")","v":-7.0891286770449895},{"$f":"IF(Arkusz1!D$9=1,Arkusz1!E29,\"\")","v":-9.0414390673057845},{"$f":"IF(Arkusz1!F$9=1,Arkusz1!F29+Arkusz1!G29,\"\")","v":""},{"$f":"IF(Arkusz1!F$9=1,Arkusz1!G29,\"\")","v":""},{"$f":"IF(Arkusz1!H$9=1,Arkusz1!H29+Arkusz1!I29,\"\")","v":""},{"$f":"IF(Arkusz1!H$9=1,Arkusz1!I29,\"\")","v":""},{"$f":"IF(Arkusz1!J$9=1,Arkusz1!J29+Arkusz1!K29,\"\")","v":""},{"$f":"IF(Arkusz1!J$9=1,Arkusz1!K29,\"\")","v":""},{"$f":"IF(Arkusz1!L$9=1,Arkusz1!L29+Arkusz1!M29,\"\")","v":""},{"$f":"IF(Arkusz1!L$9=1,Arkusz1!M29,\"\")","v":""},{"$f":"Arkusz1!O29+Arkusz1!P29","v":14.331969727943772},{"$f":"Arkusz1!P29","v":-3.4541207794610971}]
[{"$f":"Arkusz1!A30","v":78.5},{"$f":"IF(Arkusz1!B$9=1,Arkusz1!B30+Arkusz1!C30,\"\")","v":20.621808963625057},{"$f":"IF(Arkusz1!B$9=1,Arkusz1!C30,\"\")","v":5.0873182878446874},{"$f":"IF(Arkusz1!D$9=1,Arkusz1!D30+Arkusz1!E30,\"\")","v":-6.9995472489975175},{"$f":"IF(Arkusz1!D$9=1,Arkusz1!E30,\"\")","v":-9.0414390673057845},{"$f":"IF(Arkusz1!F$9=1,Arkusz1!F30+Arkusz1!G30,\"\")","v":""},{"$f":"IF(Arkusz1!F$9=1,Arkusz1!G30,\"\")","v":""},{"$f":"IF(Arkusz1!H$9=1,Arkusz1!H30+Arkusz1!I30,\"\")","v":""},{"$f":"IF(Arkusz1!H$9=1,Arkusz1!I30,\"\")","v":""},{"$f":"IF(Arkusz1!J$9=1,Arkusz1!J30+Arkusz1!K30,\"\")","v":""},{"$f":"IF(Arkusz1!J$9=1,Arkusz1!K30,\"\")","v":""},{"$f":"IF(Arkusz1!L$9=1,Arkusz1!L30+Arkusz1!M30,\"\")","v":""},{"$f":"IF(Arkusz1!L$9=1,Arkusz1!M30,\"\")","v":""},{"$f":"Arkusz1!O30+Arkusz1!P30","v":13.622261714627538},{"$f":"Arkusz1!P30","v":-3.9541207794610971}]
[{"$f":"Arkusz1!A31","v":79},{"$f":"IF(Arkusz1!B$9=1,Arkusz1!B31+Arkusz1!C31,\"\")","v":19.826635146522186},{"$f":"IF(Arkusz1!B$9=1,Arkusz1!C31,\"\")","v":4.5873182878446874},{"$f":"IF(Arkusz1!D$9=1,Arkusz1!D31+Arkusz1!E31,\"\")","v":-6.9071614218387669},{"$f":"IF(Arkusz1!D$9=1,Arkusz1!E31,\"\")","v":-9.0414390673057845},{"$f":"IF(Arkusz1!F$9=1,Arkusz1!F31+Arkusz1!G31,\"\")","v":""},{"$f":"IF(Arkusz1!F$9=1,Arkusz1!G31,\"\")","v":""},{"$f":"IF(Arkusz1!H$9=1,Arkusz1!H31+Arkusz1!I31,\"\")","v":""},{"$f":"IF(Arkusz1!H$9=1,Arkusz1!I31,\"\")","v":""},{"$f":"IF(Arkusz1!J$9=1,Arkusz1!J31+Arkusz1!K31,\"\")","v":""},{"$f":"IF(Arkusz1!J$9=1,Arkusz1!K31,\"\")","v":""},{"$f":"IF(Arkusz1!L$9=1,Arkusz1!L31+Arkusz1!M31,\"\")","v":""},{"$f":"IF(Arkusz1!L$9=1,Arkusz1!M31,\"\")","v":""},{"$f":"Arkusz1!O31+Arkusz1!P31","v":12.919473724683417},{"$f":"Arkusz1!P31","v":-4.4541207794610971}]
[{"$f":"Arkusz1!A32","v":79.5},{"$f":"IF(Arkusz1!B$9=1,Arkusz1!B32+Arkusz1!C32,\"\")","v":19.035570729893635},{"$f":"IF(Arkusz1!B$9=1,Arkusz1!C32,\"\")","v":4.0873182878446874},{"$f":"IF(Arkusz1!D$9=1,Arkusz1!D32+Arkusz1!E32,\"\")","v":-6.8119355167302711},{"$f":"IF(Arkusz1!D$9=1,Arkusz1!E32,\"\")","v":-9.0414390673057845},{"$f":"IF(Arkusz1!F$9=1,Arkusz1!F32+Arkusz1!G32,\"\")","v":""},{"$f":"IF(Arkusz1!F$9=1,Arkusz1!G32,\"\")","v":""},{"$f":"IF(Arkusz1!H$9=1,Arkusz1!H32+Arkusz1!I32,\"\")","v":""},{"$f":"IF(Arkusz1!H$9=1,Arkusz1!I32,\"\")","v":""},{"$f":"IF(Arkusz1!J$9=1,Arkusz1!J32+Arkusz1!K32,\"\")","v":""},{"$f":"IF(Arkusz1!J$9=1,Arkusz1!K32,\"\")","v":""},{"$f":"IF(Arkusz1!L$9=1,Arkusz1!L32+Arkusz1!M32,\"\")","v":""},{"$f":"IF(Arkusz1!L$9=1,Arkusz1!M32,\"\")","v":""},{"$f":"Arkusz1!O32+Arkusz1!P32","v":12.223635213163366},{"$f":"Arkusz1!P32","v":-4.9541207794610971}]
[{"$f":"Arkusz1!A33","v":80},{"$f":"IF(Arkusz1!B$9=1,Arkusz1!B33+Arkusz1!C33,\"\")","v":18.248607718465898},{"$f":"IF(Arkusz1!B$9=1,Arkusz1!C33,\"\")","v":3.5873182878446874},{"$f":"IF(Arkusz1!D$9=1,Arkusz1!D33+Arkusz1!E33,\"\")","v":-6.7138349059417486},{"$f":"IF(Arkusz1!D$9=1,Arkusz1!E33,\"\")","v":-9.0414390673057845},{"$f":"IF(Arkusz1!F$9=1,Arkusz1!F33+Arkusz1!G33,\"\")","v":""},{"$f":"IF(Arkusz1!F$9=1,Arkusz1!G33,\"\")","v":""},{"$f":"IF(Arkusz1!H$9=1,Arkusz1!H33+Arkusz1!I33,\"\")","v":""},{"$f":"IF(Arkusz1!H$9=1,Arkusz1!I33,\"\")","v":""},{"$f":"IF(Arkusz1!J$9=1,Arkusz1!J33+Arkusz1!K33,\"\")","v":""},{"$f":"IF(Arkusz1!J$9=1,Arkusz1!K33,\"\")","v":""},{"$f":"IF(Arkusz1!L$9=1,Arkusz1!L33+Arkusz1!M33,\"\")","v":""},{"$f":"IF(Arkusz1!L$9=1,Arkusz1!M33,\"\")","v":""},{"$f":"Arkusz1!O33+Arkusz1!P33","v":11.53477281252415},{"$f":"Arkusz1!P33","v":-5.4541207794610971}]
[{"$f":"Arkusz1!A34","v":80.5},{"$f":"IF(Arkusz1!B$9=1,Arkusz1!B34+Arkusz1!C34,\"\")","v":17.465736389473967},{"$f":"IF(Arkusz1!B$9=1,Arkusz1!C34,\"\")","v":3.0873182878446874},{"$f":"IF(Arkusz1!D$9=1,Arkusz1!D34+Arkusz1!E34,\"\")","v":-6.6128260349802481},{"$f":"IF(Arkusz1!D$9=1,Arkusz1!E34,\"\")","v":-9.0414390673057845},{"$f":"IF(Arkusz1!F$9=1,Arkusz1!F34+Arkusz1!G34,\"\")","v":""},{"$f":"IF(Arkusz1!F$9=1,Arkusz1!G34,\"\")","v":""},{"$f":"IF(Arkusz1!H$9=1,Arkusz1!H34+Arkusz1!I34,\"\")","v":""},{"$f":"IF(Arkusz1!H$9=1,Arkusz1!I34,\"\")","v":""},{"$f":"IF(Arkusz1!J$9=1,Arkusz1!J34+Arkusz1!K34,\"\")","v":""},{"$f":"IF(Arkusz1!J$9=1,Arkusz1!K34,\"\")","v":""},{"$f":"IF(Arkusz1!L$9=1,Arkusz1!L34+Arkusz1!M34,\"\")","v":""},{"$f":"IF(Arkusz1!L$9=1,Arkusz1!M34,\"\")","v":""},{"$f":"Arkusz1!O34+Arkusz1!P34","v":10.852910354493719},{"$f":"Arkusz1!P34","v":-5.9541207794610971}]
[{"$f":"Arkusz1!A35","v":81},{"$f":"IF(Arkusz1!B$9=1,Arkusz1!B35+Arkusz1!C35,\"\")","v":16.686945337781701},{"$f":"IF(Arkusz1!B$9=1,Arkusz1!C35,\"\")","v":2.5873182878446874},{"$f":"IF(Arkusz1!D$9=1,Arkusz1!D35+Arkusz1!E35,\"\")","v":-6.5088764429728041},{"$f":"IF(Arkusz1!D$9=1,Arkusz1!E35,\"\")","v":-9.0414390673057845},{"$f":"IF(Arkusz1!F$9=1,Arkusz1!F35+Arkusz1!G35,\"\")","v":""},{"$f":"IF(Arkusz1!F$9=1,Arkusz1!G35,\"\")","v":""},{"$f":"IF(Arkusz1!H$9=1,Arkusz1!H35+Arkusz1!I35,\"\")","v":""},{"$f":"IF(Arkusz1!H$9=1,Arkusz1!I35,\"\")","v":""},{"$f":"IF(Arkusz1!J$9=1,Arkusz1!J35+Arkusz1!K35,\"\")","v":""},{"$f":"IF(Arkusz1!J$9=1,Arkusz1!K35,\"\")","v":""},{"$f":"IF(Arkusz1!L$9=1,Arkusz1!L35+Arkusz1!M35,\"\")","v":""},{"$f":"IF(Arkusz1!L$9=1,Arkusz1!M35,\"\")","v":""},{"$f":"Arkusz1!O35+Arkusz1!P35","v":10.178068894808899},{"$f":"Arkusz1!P35","v":-6.4541207794610971}]
[{"$f":"Arkusz1!A36","v":81.5},{"$f":"IF(Arkusz1!B$9=1,Arkusz1!B36+Arkusz1!C36,\"\")","v":15.912221521994894},{"$f":"IF(Arkusz1!B$9=1,Arkusz1!C36,\"\")","v":2.0873182878446874},{"$f":"IF(Arkusz1!D$9=1,Arkusz1!D36+Arkusz1!E36,\"\")","v":-6.4019547813112787},{"$f":"IF(Arkusz1!D$9=1,Arkusz1!E36,\"\")","v":-9.0414390673057845},{"$f":"IF(Arkusz1!F$9=1,Arkusz1!F36+Arkusz1!G36,\"\")","v":""},{"$f":"IF(Arkusz1!F$9=1,Arkusz1!G36,\"\")","v":""},{"$f":"IF(Arkusz1!H$9=1,Arkusz1!H36+Arkusz1!I36,\"\")","v":""},{"$f":"IF(Arkusz1!H$9=1,Arkusz1!I36,\"\")","v":""},{"$f":"IF(Arkusz1!J$9=1,Arkusz1!J36+Arkusz1!K36,\"\")","v":""},{"$f":"IF(Arkusz1!J$9=1,Arkusz1!K36,\"\")","v":""},{"$f":"IF(Arkusz1!L$9=1,Arkusz1!L36+Arkusz1!M36,\"\")","v":""},{"$f":"IF(Arkusz1!L$9=1,Arkusz1!M36,\"\")","v":""},{"$f":"Arkusz1!O36+Arkusz1!P36","v":9.5102667406836154},{"$f":"Arkusz1!P36","v":-6.9541207794610971}]
[{"$f":"Arkusz1!A37","v":82},{"$f":"IF(Arkusz1!B$9=1,Arkusz1!B37+Arkusz1!C37,\"\")","v":15.141550311439367},{"$f":"IF(Arkusz1!B$9=1,Arkusz1!C37,\"\")","v":1.5873182878446874},{"$f":"IF(Arkusz1!D$9=1,Arkusz1!D37+Arkusz1!E37,\"\")","v":-6.2920308305714787},{"$f":"IF(Arkusz1!D$9=1,Arkusz1!E37,\"\")","v":-9.0414390673057845},{"$f":"IF(Arkusz1!F$9=1,Arkusz1!F37+Arkusz1!G37,\"\")","v":""},{"$f":"IF(Arkusz1!F$9=1,Arkusz1!G37,\"\")","v":""},{"$f":"IF(Arkusz1!H$9=1,Arkusz1!H37+Arkusz1!I37,\"\")","v":""},{"$f":"IF(Arkusz1!H$9=1,Arkusz1!I37,\"\")","v":""},{"$f":"IF(Arkusz1!J$9=1,Arkusz1!J37+Arkusz1!K37,\"\")","v":""},{"$f":"IF(Arkusz1!J$9=1,Arkusz1!K37,\"\")","v":""},{"$f":"IF(Arkusz1!L$9=1,Arkusz1!L37+Arkusz1!M37,\"\")","v":""},{"$f":"IF(Arkusz1!L$9=1,Arkusz1!M37,\"\")","v":""},{"$f":"Arkusz1!O37+Arkusz1!P37","v":8.8495194808678868},{"$f":"Arkusz1!P37","v":-7.4541207794610971}]
[{"$f":"Arkusz1!A38","v":82.5},{"$f":"IF(Arkusz1!B$9=1,Arkusz1!B38+Arkusz1!C38,\"\")","v":14.374915533880042},{"$f":"IF(Arkusz1!B$9=1,Arkusz1!C38,\"\")","v":1.0873182878446874},{"$f":"IF(Arkusz1!D$9=1,Arkusz1!D38+Arkusz1!E38,\"\")","v":-6.1790755157219124},{"$f":"IF(Arkusz1!D$9=1,Arkusz1!E38,\"\")","v":-9.0414390673057845},{"$f":"IF(Arkusz1!F$9=1,Arkusz1!F38+Arkusz1!G38,\"\")","v":""},{"$f":"IF(Arkusz1!F$9=1,Arkusz1!G38,\"\")","v":""},{"$f":"IF(Arkusz1!H$9=1,Arkusz1!H38+Arkusz1!I38,\"\")","v":""},{"$f":"IF(Arkusz1!H$9=1,Arkusz1!I38,\"\")","v":""},{"$f":"IF(Arkusz1!J$9=1,Arkusz1!J38+Arkusz1!K38,\"\")","v":""},{"$f":"IF(Arkusz1!J$9=1,Arkusz1!K38,\"\")","v":""},{"$f":"IF(Arkusz1!L$9=1,Arkusz1!L38+Arkusz1!M38,\"\")","v":""},{"$f":"IF(Arkusz1!L$9=1,Arkusz1!M38,\"\")","v":""},{"$f":"Arkusz1!O38+Arkusz1!P38","v":8.1958400181581297},{"$f":"Arkusz1!P38","v":-7.9541207794610971}]
[{"$f":"Arkusz1!A39","v":83},{"$f":"IF(Arkusz1!B$9=1,Arkusz1!B39+Arkusz1!C39,\"\")","v":13.612299523861623},{"$f":"IF(Arkusz1!B$9=1,Arkusz1!C39,\"\")","v":0.58731828784468743},{"$f":"IF(Arkusz1!D$9=1,Arkusz1!D39+Arkusz1!E39,\"\")","v":-6.0630609196412415},{"$f":"IF(Arkusz1!D$9=1,Arkusz1!E39,\"\")","v":-9.0414390673057845},{"$f":"IF(Arkusz1!F$9=1,Arkusz1!F39+Arkusz1!G39,\"\")","v":""},{"$f":"IF(Arkusz1!F$9=1,Arkusz1!G39,\"\")","v":""},{"$f":"IF(Arkusz1!H$9=1,Arkusz1!H39+Arkusz1!I39,\"\")","v":""},{"$f":"IF(Arkusz1!H$9=1,Arkusz1!I39,\"\")","v":""},{"$f":"IF(Arkusz1!J$9=1,Arkusz1!J39+Arkusz1!K39,\"\")","v":""},{"$f":"IF(Arkusz1!J$9=1,Arkusz1!K39,\"\")","v":""},{"$f":"IF(Arkusz1!L$9=1,Arkusz1!L39+Arkusz1!M39,\"\")","v":""},{"$f":"IF(Arkusz1!L$9=1,Arkusz1!M39,\"\")","v":""},{"$f":"Arkusz1!O39+Arkusz1!P39","v":7.5492386042203812},{"$f":"Arkusz1!P39","v":-8.4541207794610962}]
[{"$f":"Arkusz1!A40","v":83.5},{"$f":"IF(Arkusz1!B$9=1,Arkusz1!B40+Arkusz1!C40,\"\")","v":12.853683171555588},{"$f":"IF(Arkusz1!B$9=1,Arkusz1!C40,\"\")","v":8.7318287844687426E-2},{"$f":"IF(Arkusz1!D$9=1,Arkusz1!D40+Arkusz1!E40,\"\")","v":-5.943960294965752},{"$f":"IF(Arkusz1!D$9=1,Arkusz1!E40,\"\")","v":-9.0414390673057845},{"$f":"IF(Arkusz1!F$9=1,Arkusz1!F40+Arkusz1!G40,\"\")","v":""},{"$f":"IF(Arkusz1!F$9=1,Arkusz1!G40,\"\")","v":""},{"$f":"IF(Arkusz1!H$9=1,Arkusz1!H40+Arkusz1!I40,\"\")","v":""},{"$f":"IF(Arkusz1!H$9=1,Arkusz1!I40,\"\")","v":""},{"$f":"IF(Arkusz1!J$9=1,Arkusz1!J40+Arkusz1!K40,\"\")","v":""},{"$f":"IF(Arkusz1!J$9=1,Arkusz1!K40,\"\")","v":""},{"$f":"IF(Arkusz1!L$9=1,Arkusz1!L40+Arkusz1!M40,\"\")","v":""},{"$f":"IF(Arkusz1!L$9=1,Arkusz1!M40,\"\")","v":""},{"$f":"Arkusz1!O40+Arkusz1!P40","v":6.9097228765898357},{"$f":"Arkusz1!P40","v":-8.9541207794610962}]
[{"$f":"Arkusz1!A41","v":84},{"$f":"IF(Arkusz1!B$9=1,Arkusz1!B41+Arkusz1!C41,\"\")","v":12.099045972002564},{"$f":"IF(Arkusz1!B$9=1,Arkusz1!C41,\"\")","v":-0.41268171215531257},{"$f":"IF(Arkusz1!D$9=1,Arkusz1!D41+Arkusz1!E41,\"\")","v":-5.8217480742924366},{"$f":"IF(Arkusz1!D$9=1,Arkusz1!E41,\"\")","v":-9.0414390673057845},{"$f":"IF(Arkusz1!F$9=1,Arkusz1!F41+Arkusz1!G41,\"\")","v":""},{"$f":"IF(Arkusz1!F$9=1,Arkusz1!G41,\"\")","v":""},{"$f":"IF(Arkusz1!H$9=1,Arkusz1!H41+Arkusz1!I41,\"\")","v":""},{"$f":"IF(Arkusz1!H$9=1,Arkusz1!I41,\"\")","v":""},{"$f":"IF(Arkusz1!J$9=1,Arkusz1!J41+Arkusz1!K41,\"\")","v":""},{"$f":"IF(Arkusz1!J$9=1,Arkusz1!K41,\"\")","v":""},{"$f":"IF(Arkusz1!L$9=1,Arkusz1!L41+Arkusz1!M41,\"\")","v":""},{"$f":"IF(Arkusz1!L$9=1,Arkusz1!M41,\"\")","v":""},{"$f":"Arkusz1!O41+Arkusz1!P41","v":6.2772978977101275},{"$f":"Arkusz1!P41","v":-9.4541207794610962}]
[{"$f":"Arkusz1!A42","v":84.5},{"$f":"IF(Arkusz1!B$9=1,Arkusz1!B42+Arkusz1!C42,\"\")","v":11.348366074644211},{"$f":"IF(Arkusz1!B$9=1,Arkusz1!C42,\"\")","v":-0.91268171215531257},{"$f":"IF(Arkusz1!D$9=1,Arkusz1!D42+Arkusz1!E42,\"\")","v":-5.6963998787643391},{"$f":"IF(Arkusz1!D$9=1,Arkusz1!E42,\"\")","v":-9.0414390673057845},{"$f":"IF(Arkusz1!F$9=1,Arkusz1!F42+Arkusz1!G42,\"\")","v":""},{"$f":"IF(Arkusz1!F$9=1,Arkusz1!G42,\"\")","v":""},{"$f":"IF(Arkusz1!H$9=1,Arkusz1!H42+Arkusz1!I42,\"\")","v":""},{"$f":"IF(Arkusz1!H$9=1,Arkusz1!I42,\"\")","v":""},{"$f":"IF(Arkusz1!J$9=1,Arkusz1!J42+Arkusz1!K42,\"\")","v":""},{"$f":"IF(Arkusz1!J$9=1,Arkusz1!K42,\"\")","v":""},{"$f":"IF(Arkusz1!L$9=1,Arkusz1!L42+Arkusz1!M42,\"\")","v":""},{"$f":"IF(Arkusz1!L$9=1,Arkusz1!M42,\"\")","v":""},{"$f":"Arkusz1!O42+Arkusz1!P42","v":5.6519661958798721},{"$f":"Arkusz1!P42","v":-9.9541207794610962}]
[{"$f":"Arkusz1!A43","v":85},{"$f":"IF(Arkusz1!B$9=1,Arkusz1!B43+Arkusz1!C43,\"\")","v":10.601620333042526},{"$f":"IF(Arkusz1!B$9=1,Arkusz1!C43,\"\")","v":-1.4126817121553126},{"$f":"IF(Arkusz1!D$9=1,Arkusz1!D43+Arkusz1!E43,\"\")","v":-5.5678925250684195},{"$f":"IF(Arkusz1!D$9=1,Arkusz1!E43,\"\")","v":-9.0414390673057845},{"$f":"IF(Arkusz1!F$9=1,Arkusz1!F43+Arkusz1!G43,\"\")","v":""},{"$f":"IF(Arkusz1!F$9=1,Arkusz1!G43,\"\")","v":""},{"$f":"IF(Arkusz1!H$9=1,Arkusz1!H43+Arkusz1!I43,\"\")","v":""},{"$f":"IF(Arkusz1!H$9=1,Arkusz1!I43,\"\")","v":""},{"$f":"IF(Arkusz1!J$9=1,Arkusz1!J43+Arkusz1!K43,\"\")","v":""},{"$f":"IF(Arkusz1!J$9=1,Arkusz1!K43,\"\")","v":""},{"$f":"IF(Arkusz1!L$9=1,Arkusz1!L43+Arkusz1!M43,\"\")","v":""},{"$f":"IF(Arkusz1!L$9=1,Arkusz1!M43,\"\")","v":""},{"$f":"Arkusz1!O43+Arkusz1!P43","v":5.0337278079741061},{"$f":"Arkusz1!P43","v":-10.454120779461096}]
[{"$f":"Arkusz1!A44","v":85.5},{"$f":"IF(Arkusz1!B$9=1,Arkusz1!B44+Arkusz1!C44,\"\")","v":9.8587843546897602},{"$f":"IF(Arkusz1!B$9=1,Arkusz1!C44,\"\")","v":-1.9126817121553126},{"$f":"IF(Arkusz1!D$9=1,Arkusz1!D44+Arkusz1!E44,\"\")","v":-5.4362040308784465},{"$f":"IF(Arkusz1!D$9=1,Arkusz1!E44,\"\")","v":-9.0414390673057845},{"$f":"IF(Arkusz1!F$9=1,Arkusz1!F44+Arkusz1!G44,\"\")","v":""},{"$f":"IF(Arkusz1!F$9=1,Arkusz1!G44,\"\")","v":""},{"$f":"IF(Arkusz1!H$9=1,Arkusz1!H44+Arkusz1!I44,\"\")","v":""},{"$f":"IF(Arkusz1!H$9=1,Arkusz1!I44,\"\")","v":""},{"$f":"IF(Arkusz1!J$9=1,Arkusz1!J44+Arkusz1!K44,\"\")","v":""},{"$f":"IF(Arkusz1!J$9=1,Arkusz1!K44,\"\")","v":""},{"$f":"IF(Arkusz1!L$9=1,Arkusz1!L44+Arkusz1!M44,\"\")","v":""},{"$f":"IF(Arkusz1!L$9=1,Arkusz1!M44,\"\")","v":""},{"$f":"Arkusz1!O44+Arkusz1!P44","v":4.4225803238113137},{"$f":"Arkusz1!P44","v":-10.954120779461096}]
[{"$f":"Arkusz1!A45","v":86},{"$f":"IF(Arkusz1!B$9=1,Arkusz1!B45+Arkusz1!C45,\"\")","v":9.1198325508163123},{"$f":"IF(Arkusz1!B$9=1,Arkusz1!C45,\"\")","v":-2.4126817121553126},{"$f":"IF(Arkusz1!D$9=1,Arkusz1!D45+Arkusz1!E45,\"\")","v":-5.3013136187765966},{"$f":"IF(Arkusz1!D$9=1,Arkusz1!E45,\"\")","v":-9.0414390673057845},{"$f":"IF(Arkusz1!F$9=1,Arkusz1!F45+Arkusz1!G45,\"\")","v":""},{"$f":"IF(Arkusz1!F$9=1,Arkusz1!G45,\"\")","v":""},{"$f":"IF(Arkusz1!H$9=1,Arkusz1!H45+Arkusz1!I45,\"\")","v":""},{"$f":"IF(Arkusz1!H$9=1,Arkusz1!I45,\"\")","v":""},{"$f":"IF(Arkusz1!J$9=1,Arkusz1!J45+Arkusz1!K45,\"\")","v":""},{"$f":"IF(Arkusz1!J$9=1,Arkusz1!K45,\"\")","v":""},{"$f":"IF(Arkusz1!L$9=1,Arkusz1!L45+Arkusz1!M45,\"\")","v":""},{"$f":"IF(Arkusz1!L$9=1,Arkusz1!M45,\"\")","v":""},{"$f":"Arkusz1!O45+Arkusz1!P45","v":3.8185189320397157},{"$f":"Arkusz1!P45","v":-11.454120779461096}]
[{"$f":"Arkusz1!A46","v":86.5},{"$f":"IF(Arkusz1!B$9=1,Arkusz1!B46+Arkusz1!C46,\"\")","v":8.3847381861088977},{"$f":"IF(Arkusz1!B$9=1,Arkusz1!C46,\"\")","v":-2.9126817121553126},{"$f":"IF(Arkusz1!D$9=1,Arkusz1!D46+Arkusz1!E46,\"\")","v":-5.1632017186909245},{"$f":"IF(Arkusz1!D$9=1,Arkusz1!E46,\"\")","v":-9.0414390673057845},{"$f":"IF(Arkusz1!F$9=1,Arkusz1!F46+Arkusz1!G46,\"\")","v":""},{"$f":"IF(Arkusz1!F$9=1,Arkusz1!G46,\"\")","v":""},{"$f":"IF(Arkusz1!H$9=1,Arkusz1!H46+Arkusz1!I46,\"\")","v":""},{"$f":"IF(Arkusz1!H$9=1,Arkusz1!I46,\"\")","v":""},{"$f":"IF(Arkusz1!J$9=1,Arkusz1!J46+Arkusz1!K46,\"\")","v":""},{"$f":"IF(Arkusz1!J$9=1,Arkusz1!K46,\"\")","v":""},{"$f":"IF(Arkusz1!L$9=1,Arkusz1!L46+Arkusz1!M46,\"\")","v":""},{"$f":"IF(Arkusz1!L$9=1,Arkusz1!M46,\"\")","v":""},{"$f":"Arkusz1!O46+Arkusz1!P46","v":3.2215364674179732},{"$f":"Arkusz1!P46","v":-11.954120779461096}]
[{"$f":"Arkusz1!A47","v":87},{"$f":"IF(Arkusz1!B$9=1,Arkusz1!B47+Arkusz1!C47,\"\")","v":7.6534734282553449},{"$f":"IF(Arkusz1!B$9=1,Arkusz1!C47,\"\")","v":-3.4126817121553126},{"$f":"IF(Arkusz1!D$9=1,Arkusz1!D47+Arkusz1!E47,\"\")","v":-5.0218499688856788},{"$f":"IF(Arkusz1!D$9=1,Arkusz1!E47,\"\")","v":-9.0414390673057845},{"$f":"IF(Arkusz1!F$9=1,Arkusz1!F47+Arkusz1!G47,\"\")","v":""},{"$f":"IF(Arkusz1!F$9=1,Arkusz1!G47,\"\")","v":""},{"$f":"IF(Arkusz1!H$9=1,Arkusz1!H47+Arkusz1!I47,\"\")","v":""},{"$f":"IF(Arkusz1!H$9=1,Arkusz1!I47,\"\")","v":""},{"$f":"IF(Arkusz1!J$9=1,Arkusz1!J47+Arkusz1!K47,\"\")","v":""},{"$f":"IF(Arkusz1!J$9=1,Arkusz1!K47,\"\")","v":""},{"$f":"IF(Arkusz1!L$9=1,Arkusz1!L47+Arkusz1!M47,\"\")","v":""},{"$f":"IF(Arkusz1!L$9=1,Arkusz1!M47,\"\")","v":""},{"$f":"Arkusz1!O47+Arkusz1!P47","v":2.631623459369667},{"$f":"Arkusz1!P47","v":-12.454120779461096}]
[{"$f":"Arkusz1!A48","v":87.5},{"$f":"IF(Arkusz1!B$9=1,Arkusz1!B48+Arkusz1!C48,\"\")","v":6.9260093972376273},{"$f":"IF(Arkusz1!B$9=1,Arkusz1!C48,\"\")","v":-3.9126817121553126},{"$f":"IF(Arkusz1!D$9=1,Arkusz1!D48+Arkusz1!E48,\"\")","v":-4.8772412155451015},{"$f":"IF(Arkusz1!D$9=1,Arkusz1!E48,\"\")","v":-9.0414390673057845},{"$f":"IF(Arkusz1!F$9=1,Arkusz1!F48+Arkusz1!G48,\"\")","v":""},{"$f":"IF(Arkusz1!F$9=1,Arkusz1!G48,\"\")","v":""},{"$f":"IF(Arkusz1!H$9=1,Arkusz1!H48+Arkusz1!I48,\"\")","v":""},{"$f":"IF(Arkusz1!H$9=1,Arkusz1!I48,\"\")","v":""},{"$f":"IF(Arkusz1!J$9=1,Arkusz1!J48+Arkusz1!K48,\"\")","v":""},{"$f":"IF(Arkusz1!J$9=1,Arkusz1!K48,\"\")","v":""},{"$f":"IF(Arkusz1!L$9=1,Arkusz1!L48+Arkusz1!M48,\"\")","v":""},{"$f":"IF(Arkusz1!L$9=1,Arkusz1!M48,\"\")","v":""},{"$f":"Arkusz1!O48+Arkusz1!P48","v":2.0487681816925267},{"$f":"Arkusz1!P48","v":-12.954120779461096}]
[{"$f":"Arkusz1!A49","v":88},{"$f":"IF(Arkusz1!B$9=1,Arkusz1!B49+Arkusz1!C49,\"\")","v":6.2023162142986683},{"$f":"IF(Arkusz1!B$9=1,Arkusz1!C49,\"\")","v":-4.4126817121553126},{"$f":"IF(Arkusz1!D$9=1,Arkusz1!D49+Arkusz1!E49,\"\")","v":-4.7293595109910314},{"$f":"IF(Arkusz1!D$9=1,Arkusz1!E49,\"\")","v":-9.0414390673057845},{"$f":"IF(Arkusz1!F$9=1,Arkusz1!F49+Arkusz1!G49,\"\")","v":""},{"$f":"IF(Arkusz1!F$9=1,Arkusz1!G49,\"\")","v":""},{"$f":"IF(Arkusz1!H$9=1,Arkusz1!H49+Arkusz1!I49,\"\")","v":""},{"$f":"IF(Arkusz1!H$9=1,Arkusz1!I49,\"\")","v":""},{"$f":"IF(Arkusz1!J$9=1,Arkusz1!J49+Arkusz1!K49,\"\")","v":""},{"$f":"IF(Arkusz1!J$9=1,Arkusz1!K49,\"\")","v":""},{"$f":"IF(Arkusz1!L$9=1,Arkusz1!L49+Arkusz1!M49,\"\")","v":""},{"$f":"IF(Arkusz1!L$9=1,Arkusz1!M49,\"\")","v":""},{"$f":"Arkusz1!O49+Arkusz1!P49","v":1.4729567033076378},{"$f":"Arkusz1!P49","v":-13.454120779461096}]
[{"$f":"Arkusz1!A50","v":88.5},{"$f":"IF(Arkusz1!B$9=1,Arkusz1!B50+Arkusz1!C50,\"\")","v":5.4823630505130287},{"$f":"IF(Arkusz1!B$9=1,Arkusz1!C50,\"\")","v":-4.9126817121553126},{"$f":"IF(Arkusz1!D$9=1,Arkusz1!D50+Arkusz1!E50,\"\")","v":-4.5781901105765925},{"$f":"IF(Arkusz1!D$9=1,Arkusz1!E50,\"\")","v":-9.0414390673057845},{"$f":"IF(Arkusz1!F$9=1,Arkusz1!F50+Arkusz1!G50,\"\")","v":""},{"$f":"IF(Arkusz1!F$9=1,Arkusz1!G50,\"\")","v":""},{"$f":"IF(Arkusz1!H$9=1,Arkusz1!H50+Arkusz1!I50,\"\")","v":""},{"$f":"IF(Arkusz1!H$9=1,Arkusz1!I50,\"\")","v":""},{"$f":"IF(Arkusz1!J$9=1,Arkusz1!J50+Arkusz1!K50,\"\")","v":""},{"$f":"IF(Arkusz1!J$9=1,Arkusz1!K50,\"\")","v":""},{"$f":"IF(Arkusz1!L$9=1,Arkusz1!L50+Arkusz1!M50,\"\")","v":""},{"$f":"IF(Arkusz1!L$9=1,Arkusz1!M50,\"\")","v":""},{"$f":"Arkusz1!O50+Arkusz1!P50","v":0.9041729399364371},{"$f":"Arkusz1!P50","v":-13.954120779461096}]
[{"$f":"Arkusz1!A51","v":89},{"$f":"IF(Arkusz1!B$9=1,Arkusz1!B51+Arkusz1!C51,\"\")","v":4.7661181748961985},{"$f":"IF(Arkusz1!B$9=1,Arkusz1!C51,\"\")","v":-5.4126817121553126},{"$f":"IF(Arkusz1!D$9=1,Arkusz1!D51+Arkusz1!E51,\"\")","v":-4.4237194682997298},{"$f":"IF(Arkusz1!D$9=1,Arkusz1!E51,\"\")","v":-9.0414390673057845},{"$f":"IF(Arkusz1!F$9=1,Arkusz1!F51+Arkusz1!G51,\"\")","v":""},{"$f":"IF(Arkusz1!F$9=1,Arkusz1!G51,\"\")","v":""},{"$f":"IF(Arkusz1!H$9=1,Arkusz1!H51+Arkusz1!I51,\"\")","v":""},{"$f":"IF(Arkusz1!H$9=1,Arkusz1!I51,\"\")","v":""},{"$f":"IF(Arkusz1!J$9=1,Arkusz1!J51+Arkusz1!K51,\"\")","v":""},{"$f":"IF(Arkusz1!J$9=1,Arkusz1!K51,\"\")","v":""},{"$f":"IF(Arkusz1!L$9=1,Arkusz1!L51+Arkusz1!M51,\"\")","v":""},{"$f":"IF(Arkusz1!L$9=1,Arkusz1!M51,\"\")","v":""},{"$f":"Arkusz1!O51+Arkusz1!P51","v":0.34239870659646954},{"$f":"Arkusz1!P51","v":-14.454120779461096}]
[{"$f":"Arkusz1!A52","v":89.5},{"$f":"IF(Arkusz1!B$9=1,Arkusz1!B52+Arkusz1!C52,\"\")","v":4.0535490019910929},{"$f":"IF(Arkusz1!B$9=1,Arkusz1!C52,\"\")","v":-5.9126817121553126},{"$f":"IF(Arkusz1!D$9=1,Arkusz1!D52+Arkusz1!E52,\"\")","v":-4.2659352311802223},{"$f":"IF(Arkusz1!D$9=1,Arkusz1!E52,\"\")","v":-9.0414390673057845},{"$f":"IF(Arkusz1!F$9=1,Arkusz1!F52+Arkusz1!G52,\"\")","v":""},{"$f":"IF(Arkusz1!F$9=1,Arkusz1!G52,\"\")","v":""},{"$f":"IF(Arkusz1!H$9=1,Arkusz1!H52+Arkusz1!I52,\"\")","v":""},{"$f":"IF(Arkusz1!H$9=1,Arkusz1!I52,\"\")","v":""},{"$f":"IF(Arkusz1!J$9=1,Arkusz1!J52+Arkusz1!K52,\"\")","v":""},{"$f":"IF(Arkusz1!J$9=1,Arkusz1!K52,\"\")","v":""},{"$f":"IF(Arkusz1!L$9=1,Arkusz1!L52+Arkusz1!M52,\"\")","v":""},{"$f":"IF(Arkusz1!L$9=1,Arkusz1!M52,\"\")","v":""},{"$f":"Arkusz1!O52+Arkusz1!P52","v":-0.21238622918912853},{"$f":"Arkusz1!P52","v":-14.954120779461096}]
[{"$f":"Arkusz1!A53","v":90},{"$f":"IF(Arkusz1!B$9=1,Arkusz1!B53+Arkusz1!C53,\"\")","v":3.3446221388749313},{"$f":"IF(Arkusz1!B$9=1,Arkusz1!C53,\"\")","v":-6.4126817121553126},{"$f":"IF(Arkusz1!D$9=1,Arkusz1!D53+Arkusz1!E53,\"\")","v":-4.1048262324454647},{"$f":"IF(Arkusz1!D$9=1,Arkusz1!E53,\"\")","v":-9.0414390673057845},{"$f":"IF(Arkusz1!F$9=1,Arkusz1!F53+Arkusz1!G53,\"\")","v":""},{"$f":"IF(Arkusz1!F$9=1,Arkusz1!G53,\"\")","v":""},{"$f":"IF(Arkusz1!H$9=1,Arkusz1!H53+Arkusz1!I53,\"\")","v":""},{"$f":"IF(Arkusz1!H$9=1,Arkusz1!I53,\"\")","v":""},{"$f":"IF(Arkusz1!J$9=1,Arkusz1!J53+Arkusz1!K53,\"\")","v":""},{"$f":"IF(Arkusz1!J$9=1,Arkusz1!K53,\"\")","v":""},{"$f":"IF(Arkusz1!L$9=1,Arkusz1!L53+Arkusz1!M53,\"\")","v":""},{"$f":"IF(Arkusz1!L$9=1,Arkusz1!M53,\"\")","v":""},{"$f":"Arkusz1!O53+Arkusz1!P53","v":-0.76020409357053254},{"$f":"Arkusz1!P53","v":-15.454120779461096}]
[{"$f":"Arkusz1!A54","v":90.5},{"$f":"IF(Arkusz1!B$9=1,Arkusz1!B54+Arkusz1!C54,\"\")","v":3.1393034315335191},{"$f":"IF(Arkusz1!B$9=1,Arkusz1!C54,\"\")","v":-6.4126817121553126},{"$f":"IF(Arkusz1!D$9=1,Arkusz1!D54+Arkusz1!E54,\"\")","v":-3.9403824835707404},{"$f":"IF(Arkusz1!D$9=1,Arkusz1!E54,\"\")","v":-9.0414390673057845},{"$f":"IF(Arkusz1!F$9=1,Arkusz1!F54+Arkusz1!G54,\"\")","v":""},{"$f":"IF(Arkusz1!F$9=1,Arkusz1!G54,\"\")","v":""},{"$f":"IF(Arkusz1!H$9=1,Arkusz1!H54+Arkusz1!I54,\"\")","v":""},{"$f":"IF(Arkusz1!H$9=1,Arkusz1!I54,\"\")","v":""},{"$f":"IF(Arkusz1!J$9=1,Arkusz1!J54+Arkusz1!K54,\"\")","v":""},{"$f":"IF(Arkusz1!J$9=1,Arkusz1!K54,\"\")","v":""},{"$f":"IF(Arkusz1!L$9=1,Arkusz1!L54+Arkusz1!M54,\"\")","v":""},{"$f":"IF(Arkusz1!L$9=1,Arkusz1!M54,\"\")","v":""},{"$f":"Arkusz1!O54+Arkusz1!P54","v":-0.80107905203722041},{"$f":"Arkusz1!P54","v":-15.454120779461096}]
[{"$f":"Arkusz1!A55","v":91},{"$f":"IF(Arkusz1!B$9=1,Arkusz1!B55+Arkusz1!C55,\"\")","v":2.9375580105540484},{"$f":"IF(Arkusz1!B$9=1,Arkusz1!C55,\"\")","v":-6.4126817121553126},{"$f":"IF(Arkusz1!D$9=1,Arkusz1!D55+Arkusz1!E55,\"\")","v":-3.7725951652195739},{"$f":"IF(Arkusz1!D$9=1,Arkusz1!E55,\"\")","v":-9.0414390673057845},{"$f":"IF(Arkusz1!F$9=1,Arkusz1!F55+Arkusz1!G55,\"\")","v":""},{"$f":"IF(Arkusz1!F$9=1,Arkusz1!G55,\"\")","v":""},{"$f":"IF(Arkusz1!H$9=1,Arkusz1!H55+Arkusz1!I55,\"\")","v":""},{"$f":"IF(Arkusz1!H$9=1,Arkusz1!I55,\"\")","v":""},{"$f":"IF(Arkusz1!J$9=1,Arkusz1!J55+Arkusz1!K55,\"\")","v":""},{"$f":"IF(Arkusz1!J$9=1,Arkusz1!K55,\"\")","v":""},{"$f":"IF(Arkusz1!L$9=1,Arkusz1!L55+Arkusz1!M55,\"\")","v":""},{"$f":"IF(Arkusz1!L$9=1,Arkusz1!M55,\"\")","v":""},{"$f":"Arkusz1!O55+Arkusz1!P55","v":-0.83503715466552464},{"$f":"Arkusz1!P55","v":-15.454120779461096}]
[{"$f":"Arkusz1!A56","v":91.5},{"$f":"IF(Arkusz1!B$9=1,Arkusz1!B56+Arkusz1!C56,\"\")","v":2.7393503360914471},{"$f":"IF(Arkusz1!B$9=1,Arkusz1!C56,\"\")","v":-6.4126817121553126},{"$f":"IF(Arkusz1!D$9=1,Arkusz1!D56+Arkusz1!E56,\"\")","v":-3.6014566171311273},{"$f":"IF(Arkusz1!D$9=1,Arkusz1!E56,\"\")","v":-9.0414390673057845},{"$f":"IF(Arkusz1!F$9=1,Arkusz1!F56+Arkusz1!G56,\"\")","v":""},{"$f":"IF(Arkusz1!F$9=1,Arkusz1!G56,\"\")","v":""},{"$f":"IF(Arkusz1!H$9=1,Arkusz1!H56+Arkusz1!I56,\"\")","v":""},{"$f":"IF(Arkusz1!H$9=1,Arkusz1!I56,\"\")","v":""},{"$f":"IF(Arkusz1!J$9=1,Arkusz1!J56+Arkusz1!K56,\"\")","v":""},{"$f":"IF(Arkusz1!J$9=1,Arkusz1!K56,\"\")","v":""},{"$f":"IF(Arkusz1!L$9=1,Arkusz1!L56+Arkusz1!M56,\"\")","v":""},{"$f":"IF(Arkusz1!L$9=1,Arkusz1!M56,\"\")","v":""},{"$f":"Arkusz1!O56+Arkusz1!P56","v":-0.86210628103967935},{"$f":"Arkusz1!P56","v":-15.454120779461096}]
[{"$f":"Arkusz1!A57","v":92},{"$f":"IF(Arkusz1!B$9=1,Arkusz1!B57+Arkusz1!C57,\"\")","v":2.5446442420671636},{"$f":"IF(Arkusz1!B$9=1,Arkusz1!C57,\"\")","v":-6.4126817121553126},{"$f":"IF(Arkusz1!D$9=1,Arkusz1!D57+Arkusz1!E57,\"\")","v":-3.4269603270011189},{"$f":"IF(Arkusz1!D$9=1,Arkusz1!E57,\"\")","v":-9.0414390673057845},{"$f":"IF(Arkusz1!F$9=1,Arkusz1!F57+Arkusz1!G57,\"\")","v":""},{"$f":"IF(Arkusz1!F$9=1,Arkusz1!G57,\"\")","v":""},{"$f":"IF(Arkusz1!H$9=1,Arkusz1!H57+Arkusz1!I57,\"\")","v":""},{"$f":"IF(Arkusz1!H$9=1,Arkusz1!I57,\"\")","v":""},{"$f":"IF(Arkusz1!J$9=1,Arkusz1!J57+Arkusz1!K57,\"\")","v":""},{"$f":"IF(Arkusz1!J$9=1,Arkusz1!K57,\"\")","v":""},{"$f":"IF(Arkusz1!L$9=1,Arkusz1!L57+Arkusz1!M57,\"\")","v":""},{"$f":"IF(Arkusz1!L$9=1,Arkusz1!M57,\"\")","v":""},{"$f":"Arkusz1!O57+Arkusz1!P57","v":-0.88231608493395441},{"$f":"Arkusz1!P57","v":-15.454120779461096}]
[{"$f":"Arkusz1!A58","v":92.5},{"$f":"IF(Arkusz1!B$9=1,Arkusz1!B58+Arkusz1!C58,\"\")","v":2.3534029795625662},{"$f":"IF(Arkusz1!B$9=1,Arkusz1!C58,\"\")","v":-6.4126817121553126},{"$f":"IF(Arkusz1!D$9=1,Arkusz1!D58+Arkusz1!E58,\"\")","v":-3.2491009184027746},{"$f":"IF(Arkusz1!D$9=1,Arkusz1!E58,\"\")","v":-9.0414390673057845},{"$f":"IF(Arkusz1!F$9=1,Arkusz1!F58+Arkusz1!G58,\"\")","v":""},{"$f":"IF(Arkusz1!F$9=1,Arkusz1!G58,\"\")","v":""},{"$f":"IF(Arkusz1!H$9=1,Arkusz1!H58+Arkusz1!I58,\"\")","v":""},{"$f":"IF(Arkusz1!H$9=1,Arkusz1!I58,\"\")","v":""},{"$f":"IF(Arkusz1!J$9=1,Arkusz1!J58+Arkusz1!K58,\"\")","v":""},{"$f":"IF(Arkusz1!J$9=1,Arkusz1!K58,\"\")","v":""},{"$f":"IF(Arkusz1!L$9=1,Arkusz1!L58+Arkusz1!M58,\"\")","v":""},{"$f":"IF(Arkusz1!L$9=1,Arkusz1!M58,\"\")","v":""},{"$f":"Arkusz1!O58+Arkusz1!P58","v":-0.89569793884020754},{"$f":"Arkusz1!P58","v":-15.454120779461096}]
[{"$f":"Arkusz1!A59","v":93},{"$f":"IF(Arkusz1!B$9=1,Arkusz1!B59+Arkusz1!C59,\"\")","v":2.1655892593732267},{"$f":"IF(Arkusz1!B$9=1,Arkusz1!C59,\"\")","v":-6.4126817121553126},{"$f":"IF(Arkusz1!D$9=1,Arkusz1!D59+Arkusz1!E59,\"\")","v":-3.0678741377949414},{"$f":"IF(Arkusz1!D$9=1,Arkusz1!E59,\"\")","v":-9.0414390673057845},{"$f":"IF(Arkusz1!F$9=1,Arkusz1!F59+Arkusz1!G59,\"\")","v":""},{"$f":"IF(Arkusz1!F$9=1,Arkusz1!G59,\"\")","v":""},{"$f":"IF(Arkusz1!H$9=1,Arkusz1!H59+Arkusz1!I59,\"\")","v":""},{"$f":"IF(Arkusz1!H$9=1,Arkusz1!I59,\"\")","v":""},{"$f":"IF(Arkusz1!J$9=1,Arkusz1!J59+Arkusz1!K59,\"\")","v":""},{"$f":"IF(Arkusz1!J$9=1,Arkusz1!K59,\"\")","v":""},{"$f":"IF(Arkusz1!L$9=1,Arkusz1!L59+Arkusz1!M59,\"\")","v":""},{"$f":"IF(Arkusz1!L$9=1,Arkusz1!M59,\"\")","v":""},{"$f":"Arkusz1!O59+Arkusz1!P59","v":-0.9022848784217139},{"$f":"Arkusz1!P59","v":-15.454120779461096}]
[{"$f":"Arkusz1!A60","v":93.5},{"$f":"IF(Arkusz1!B$9=1,Arkusz1!B60+Arkusz1!C60,\"\")","v":1.9811652936933788},{"$f":"IF(Arkusz1!B$9=1,Arkusz1!C60,\"\")","v":-6.4126817121553126},{"$f":"IF(Arkusz1!D$9=1,Arkusz1!D60+Arkusz1!E60,\"\")","v":-2.8832768406637008},{"$f":"IF(Arkusz1!D$9=1,Arkusz1!E60,\"\")","v":-9.0414390673057845},{"$f":"IF(Arkusz1!F$9=1,Arkusz1!F60+Arkusz1!G60,\"\")","v":""},{"$f":"IF(Arkusz1!F$9=1,Arkusz1!G60,\"\")","v":""},{"$f":"IF(Arkusz1!H$9=1,Arkusz1!H60+Arkusz1!I60,\"\")","v":""},{"$f":"IF(Arkusz1!H$9=1,Arkusz1!I60,\"\")","v":""},{"$f":"IF(Arkusz1!J$9=1,Arkusz1!J60+Arkusz1!K60,\"\")","v":""},{"$f":"IF(Arkusz1!J$9=1,Arkusz1!K60,\"\")","v":""},{"$f":"IF(Arkusz1!L$9=1,Arkusz1!L60+Arkusz1!M60,\"\")","v":""},{"$f":"IF(Arkusz1!L$9=1,Arkusz1!M60,\"\")","v":""},{"$f":"Arkusz1!O60+Arkusz1!P60","v":-0.90211154697032114},{"$f":"Arkusz1!P60","v":-15.454120779461096}]
[{"$f":"Arkusz1!A61","v":94},{"$f":"IF(Arkusz1!B$9=1,Arkusz1!B61+Arkusz1!C61,\"\")","v":1.8000928369032527},{"$f":"IF(Arkusz1!B$9=1,Arkusz1!C61,\"\")","v":-6.4126817121553126},{"$f":"IF(Arkusz1!D$9=1,Arkusz1!D61+Arkusz1!E61,\"\")","v":-2.695306976844158},{"$f":"IF(Arkusz1!D$9=1,Arkusz1!E61,\"\")","v":-9.0414390673057845},{"$f":"IF(Arkusz1!F$9=1,Arkusz1!F61+Arkusz1!G61,\"\")","v":""},{"$f":"IF(Arkusz1!F$9=1,Arkusz1!G61,\"\")","v":""},{"$f":"IF(Arkusz1!H$9=1,Arkusz1!H61+Arkusz1!I61,\"\")","v":""},{"$f":"IF(Arkusz1!H$9=1,Arkusz1!I61,\"\")","v":""},{"$f":"IF(Arkusz1!J$9=1,Arkusz1!J61+Arkusz1!K61,\"\")","v":""},{"$f":"IF(Arkusz1!J$9=1,Arkusz1!K61,\"\")","v":""},{"$f":"IF(Arkusz1!L$9=1,Arkusz1!L61+Arkusz1!M61,\"\")","v":""},{"$f":"IF(Arkusz1!L$9=1,Arkusz1!M61,\"\")","v":""},{"$f":"Arkusz1!O61+Arkusz1!P61","v":-0.89521413994090437},{"$f":"Arkusz1!P61","v":-15.454120779461096}]
[{"$f":"Arkusz1!A62","v":94.5},{"$f":"IF(Arkusz1!B$9=1,Arkusz1!B62+Arkusz1!C62,\"\")","v":1.6223332254351837},{"$f":"IF(Arkusz1!B$9=1,Arkusz1!C62,\"\")","v":-6.4126817121553126},{"$f":"IF(Arkusz1!D$9=1,Arkusz1!D62+Arkusz1!E62,\"\")","v":-2.5039635750682336},{"$f":"IF(Arkusz1!D$9=1,Arkusz1!E62,\"\")","v":-9.0414390673057845},{"$f":"IF(Arkusz1!F$9=1,Arkusz1!F62+Arkusz1!G62,\"\")","v":""},{"$f":"IF(Arkusz1!F$9=1,Arkusz1!G62,\"\")","v":""},{"$f":"IF(Arkusz1!H$9=1,Arkusz1!H62+Arkusz1!I62,\"\")","v":""},{"$f":"IF(Arkusz1!H$9=1,Arkusz1!I62,\"\")","v":""},{"$f":"IF(Arkusz1!J$9=1,Arkusz1!J62+Arkusz1!K62,\"\")","v":""},{"$f":"IF(Arkusz1!J$9=1,Arkusz1!K62,\"\")","v":""},{"$f":"IF(Arkusz1!L$9=1,Arkusz1!L62+Arkusz1!M62,\"\")","v":""},{"$f":"IF(Arkusz1!L$9=1,Arkusz1!M62,\"\")","v":""},{"$f":"Arkusz1!O62+Arkusz1!P62","v":-0.88163034963304909},{"$f":"Arkusz1!P62","v":-15.454120779461096}]
[{"$f":"Arkusz1!A63","v":95},{"$f":"IF(Arkusz1!B$9=1,Arkusz1!B63+Arkusz1!C63,\"\")","v":1.4478474166973703},{"$f":"IF(Arkusz1!B$9=1,Arkusz1!C63,\"\")","v":-6.4126817121553126},{"$f":"IF(Arkusz1!D$9=1,Arkusz1!D63+Arkusz1!E63,\"\")","v":-2.3092467267843908},{"$f":"IF(Arkusz1!D$9=1,Arkusz1!E63,\"\")","v":-9.0414390673057845},{"$f":"IF(Arkusz1!F$9=1,Arkusz1!F63+Arkusz1!G63,\"\")","v":""},{"$f":"IF(Arkusz1!F$9=1,Arkusz1!G63,\"\")","v":""},{"$f":"IF(Arkusz1!H$9=1,Arkusz1!H63+Arkusz1!I63,\"\")","v":""},{"$f":"IF(Arkusz1!H$9=1,Arkusz1!I63,\"\")","v":""},{"$f":"IF(Arkusz1!J$9=1,Arkusz1!J63+Arkusz1!K63,\"\")","v":""},{"$f":"IF(Arkusz1!J$9=1,Arkusz1!K63,\"\")","v":""},{"$f":"IF(Arkusz1!L$9=1,Arkusz1!L63+Arkusz1!M63,\"\")","v":""},{"$f":"IF(Arkusz1!L$9=1,Arkusz1!M63,\"\")","v":""},{"$f":"Arkusz1!O63+Arkusz1!P63","v":-0.86139931008701964},{"$f":"Arkusz1!P63","v":-15.454120779461096}]
[{"$f":"Arkusz1!A64","v":95.5},{"$f":"IF(Arkusz1!B$9=1,Arkusz1!B64+Arkusz1!C64,\"\")","v":1.2765960270373133},{"$f":"IF(Arkusz1!B$9=1,Arkusz1!C64,\"\")","v":-6.4126817121553126},{"$f":"IF(Arkusz1!D$9=1,Arkusz1!D64+Arkusz1!E64,\"\")","v":-2.1111575692943774},{"$f":"IF(Arkusz1!D$9=1,Arkusz1!E64,\"\")","v":-9.0414390673057845},{"$f":"IF(Arkusz1!F$9=1,Arkusz1!F64+Arkusz1!G64,\"\")","v":""},{"$f":"IF(Arkusz1!F$9=1,Arkusz1!G64,\"\")","v":""},{"$f":"IF(Arkusz1!H$9=1,Arkusz1!H64+Arkusz1!I64,\"\")","v":""},{"$f":"IF(Arkusz1!H$9=1,Arkusz1!I64,\"\")","v":""},{"$f":"IF(Arkusz1!J$9=1,Arkusz1!J64+Arkusz1!K64,\"\")","v":""},{"$f":"IF(Arkusz1!J$9=1,Arkusz1!K64,\"\")","v":""},{"$f":"IF(Arkusz1!L$9=1,Arkusz1!L64+Arkusz1!M64,\"\")","v":""},{"$f":"IF(Arkusz1!L$9=1,Arkusz1!M64,\"\")","v":""},{"$f":"Arkusz1!O64+Arkusz1!P64","v":-0.83456154225706314},{"$f":"Arkusz1!P64","v":-15.454120779461096}]
[{"$f":"Arkusz1!A65","v":96},{"$f":"IF(Arkusz1!B$9=1,Arkusz1!B65+Arkusz1!C65,\"\")","v":1.1085393687292315},{"$f":"IF(Arkusz1!B$9=1,Arkusz1!C65,\"\")","v":-6.4126817121553126},{"$f":"IF(Arkusz1!D$9=1,Arkusz1!D65+Arkusz1!E65,\"\")","v":-1.9096982682517663},{"$f":"IF(Arkusz1!D$9=1,Arkusz1!E65,\"\")","v":-9.0414390673057845},{"$f":"IF(Arkusz1!F$9=1,Arkusz1!F65+Arkusz1!G65,\"\")","v":""},{"$f":"IF(Arkusz1!F$9=1,Arkusz1!G65,\"\")","v":""},{"$f":"IF(Arkusz1!H$9=1,Arkusz1!H65+Arkusz1!I65,\"\")","v":""},{"$f":"IF(Arkusz1!H$9=1,Arkusz1!I65,\"\")","v":""},{"$f":"IF(Arkusz1!J$9=1,Arkusz1!J65+Arkusz1!K65,\"\")","v":""},{"$f":"IF(Arkusz1!J$9=1,Arkusz1!K65,\"\")","v":""},{"$f":"IF(Arkusz1!L$9=1,Arkusz1!L65+Arkusz1!M65,\"\")","v":""},{"$f":"IF(Arkusz1!L$9=1,Arkusz1!M65,\"\")","v":""},{"$f":"Arkusz1!O65+Arkusz1!P65","v":-0.80115889952253383},{"$f":"Arkusz1!P65","v":-15.454120779461096}]
[{"$f":"Arkusz1!A66","v":96.5},{"$f":"IF(Arkusz1!B$9=1,Arkusz1!B66+Arkusz1!C66,\"\")","v":0.94363748597295949},{"$f":"IF(Arkusz1!B$9=1,Arkusz1!C66,\"\")","v":-6.4126817121553126},{"$f":"IF(Arkusz1!D$9=1,Arkusz1!D66+Arkusz1!E66,\"\")","v":-1.7048719995662402},{"$f":"IF(Arkusz1!D$9=1,Arkusz1!E66,\"\")","v":-9.0414390673057845},{"$f":"IF(Arkusz1!F$9=1,Arkusz1!F66+Arkusz1!G66,\"\")","v":""},{"$f":"IF(Arkusz1!F$9=1,Arkusz1!G66,\"\")","v":""},{"$f":"IF(Arkusz1!H$9=1,Arkusz1!H66+Arkusz1!I66,\"\")","v":""},{"$f":"IF(Arkusz1!H$9=1,Arkusz1!I66,\"\")","v":""},{"$f":"IF(Arkusz1!J$9=1,Arkusz1!J66+Arkusz1!K66,\"\")","v":""},{"$f":"IF(Arkusz1!J$9=1,Arkusz1!K66,\"\")","v":""},{"$f":"IF(Arkusz1!L$9=1,Arkusz1!L66+Arkusz1!M66,\"\")","v":""},{"$f":"IF(Arkusz1!L$9=1,Arkusz1!M66,\"\")","v":""},{"$f":"Arkusz1!O66+Arkusz1!P66","v":-0.76123451359327987},{"$f":"Arkusz1!P66","v":-15.454120779461096}]
[{"$f":"Arkusz1!A67","v":97},{"$f":"IF(Arkusz1!B$9=1,Arkusz1!B67+Arkusz1!C67,\"\")","v":0.7818501898941923},{"$f":"IF(Arkusz1!B$9=1,Arkusz1!C67,\"\")","v":-6.4126817121553126},{"$f":"IF(Arkusz1!D$9=1,Arkusz1!D67+Arkusz1!E67,\"\")","v":-1.4966829307567586},{"$f":"IF(Arkusz1!D$9=1,Arkusz1!E67,\"\")","v":-9.0414390673057845},{"$f":"IF(Arkusz1!F$9=1,Arkusz1!F67+Arkusz1!G67,\"\")","v":""},{"$f":"IF(Arkusz1!F$9=1,Arkusz1!G67,\"\")","v":""},{"$f":"IF(Arkusz1!H$9=1,Arkusz1!H67+Arkusz1!I67,\"\")","v":""},{"$f":"IF(Arkusz1!H$9=1,Arkusz1!I67,\"\")","v":""},{"$f":"IF(Arkusz1!J$9=1,Arkusz1!J67+Arkusz1!K67,\"\")","v":""},{"$f":"IF(Arkusz1!J$9=1,Arkusz1!K67,\"\")","v":""},{"$f":"IF(Arkusz1!L$9=1,Arkusz1!L67+Arkusz1!M67,\"\")","v":""},{"$f":"IF(Arkusz1!L$9=1,Arkusz1!M67,\"\")","v":""},{"$f":"Arkusz1!O67+Arkusz1!P67","v":-0.71483274086256543},{"$f":"Arkusz1!P67","v":-15.454120779461096}]
[{"$f":"Arkusz1!A68","v":97.5},{"$f":"IF(Arkusz1!B$9=1,Arkusz1!B68+Arkusz1!C68,\"\")","v":0.62313709253799399},{"$f":"IF(Arkusz1!B$9=1,Arkusz1!C68,\"\")","v":-6.4126817121553126},{"$f":"IF(Arkusz1!D$9=1,Arkusz1!D68+Arkusz1!E68,\"\")","v":-1.2851362017967922},{"$f":"IF(Arkusz1!D$9=1,Arkusz1!E68,\"\")","v":-9.0414390673057845},{"$f":"IF(Arkusz1!F$9=1,Arkusz1!F68+Arkusz1!G68,\"\")","v":""},{"$f":"IF(Arkusz1!F$9=1,Arkusz1!G68,\"\")","v":""},{"$f":"IF(Arkusz1!H$9=1,Arkusz1!H68+Arkusz1!I68,\"\")","v":""},{"$f":"IF(Arkusz1!H$9=1,Arkusz1!I68,\"\")","v":""},{"$f":"IF(Arkusz1!J$9=1,Arkusz1!J68+Arkusz1!K68,\"\")","v":""},{"$f":"IF(Arkusz1!J$9=1,Arkusz1!K68,\"\")","v":""},{"$f":"IF(Arkusz1!L$9=1,Arkusz1!L68+Arkusz1!M68,\"\")","v":""},{"$f":"IF(Arkusz1!L$9=1,Arkusz1!M68,\"\")","v":""},{"$f":"Arkusz1!O68+Arkusz1!P68","v":-0.66199910925879735},{"$f":"Arkusz1!P68","v":-15.454120779461096}]
[{"$f":"Arkusz1!A69","v":98},{"$f":"IF(Arkusz1!B$9=1,Arkusz1!B69+Arkusz1!C69,\"\")","v":0.46745763985051791},{"$f":"IF(Arkusz1!B$9=1,Arkusz1!C69,\"\")","v":-6.4126817121553126},{"$f":"IF(Arkusz1!D$9=1,Arkusz1!D69+Arkusz1!E69,\"\")","v":-1.0702379054925011},{"$f":"IF(Arkusz1!D$9=1,Arkusz1!E69,\"\")","v":-9.0414390673057845},{"$f":"IF(Arkusz1!F$9=1,Arkusz1!F69+Arkusz1!G69,\"\")","v":""},{"$f":"IF(Arkusz1!F$9=1,Arkusz1!G69,\"\")","v":""},{"$f":"IF(Arkusz1!H$9=1,Arkusz1!H69+Arkusz1!I69,\"\")","v":""},{"$f":"IF(Arkusz1!H$9=1,Arkusz1!I69,\"\")","v":""},{"$f":"IF(Arkusz1!J$9=1,Arkusz1!J69+Arkusz1!K69,\"\")","v":""},{"$f":"IF(Arkusz1!J$9=1,Arkusz1!K69,\"\")","v":""},{"$f":"IF(Arkusz1!L$9=1,Arkusz1!L69+Arkusz1!M69,\"\")","v":""},{"$f":"IF(Arkusz1!L$9=1,Arkusz1!M69,\"\")","v":""},{"$f":"Arkusz1!O69+Arkusz1!P69","v":-0.60278026564198228},{"$f":"Arkusz1!P69","v":-15.454120779461096}]
[{"$f":"Arkusz1!A70","v":98.5},{"$f":"IF(Arkusz1!B$9=1,Arkusz1!B70+Arkusz1!C70,\"\")","v":0.31477114364521963},{"$f":"IF(Arkusz1!B$9=1,Arkusz1!C70,\"\")","v":-6.4126817121553126},{"$f":"IF(Arkusz1!D$9=1,Arkusz1!D70+Arkusz1!E70,\"\")","v":-0.85199506743561315},{"$f":"IF(Arkusz1!D$9=1,Arkusz1!E70,\"\")","v":-9.0414390673057845},{"$f":"IF(Arkusz1!F$9=1,Arkusz1!F70+Arkusz1!G70,\"\")","v":""},{"$f":"IF(Arkusz1!F$9=1,Arkusz1!G70,\"\")","v":""},{"$f":"IF(Arkusz1!H$9=1,Arkusz1!H70+Arkusz1!I70,\"\")","v":""},{"$f":"IF(Arkusz1!H$9=1,Arkusz1!I70,\"\")","v":""},{"$f":"IF(Arkusz1!J$9=1,Arkusz1!J70+Arkusz1!K70,\"\")","v":""},{"$f":"IF(Arkusz1!J$9=1,Arkusz1!K70,\"\")","v":""},{"$f":"IF(Arkusz1!L$9=1,Arkusz1!L70+Arkusz1!M70,\"\")","v":""},{"$f":"IF(Arkusz1!L$9=1,Arkusz1!M70,\"\")","v":""},{"$f":"Arkusz1!O70+Arkusz1!P70","v":-0.53722392379039263},{"$f":"Arkusz1!P70","v":-15.454120779461096}]
[{"$f":"Arkusz1!A71","v":99},{"$f":"IF(Arkusz1!B$9=1,Arkusz1!B71+Arkusz1!C71,\"\")","v":0.16503681255246061},{"$f":"IF(Arkusz1!B$9=1,Arkusz1!C71,\"\")","v":-6.4126817121553126},{"$f":"IF(Arkusz1!D$9=1,Arkusz1!D71+Arkusz1!E71,\"\")","v":-0.63041562557030417},{"$f":"IF(Arkusz1!D$9=1,Arkusz1!E71,\"\")","v":-9.0414390673057845},{"$f":"IF(Arkusz1!F$9=1,Arkusz1!F71+Arkusz1!G71,\"\")","v":""},{"$f":"IF(Arkusz1!F$9=1,Arkusz1!G71,\"\")","v":""},{"$f":"IF(Arkusz1!H$9=1,Arkusz1!H71+Arkusz1!I71,\"\")","v":""},{"$f":"IF(Arkusz1!H$9=1,Arkusz1!I71,\"\")","v":""},{"$f":"IF(Arkusz1!J$9=1,Arkusz1!J71+Arkusz1!K71,\"\")","v":""},{"$f":"IF(Arkusz1!J$9=1,Arkusz1!K71,\"\")","v":""},{"$f":"IF(Arkusz1!L$9=1,Arkusz1!L71+Arkusz1!M71,\"\")","v":""},{"$f":"IF(Arkusz1!L$9=1,Arkusz1!M71,\"\")","v":""},{"$f":"Arkusz1!O71+Arkusz1!P71","v":-0.46537881301784267},{"$f":"Arkusz1!P71","v":-15.454120779461096}]
[{"$f":"Arkusz1!A72","v":99.5},{"$f":"IF(Arkusz1!B$9=1,Arkusz1!B72+Arkusz1!C72,\"\")","v":1.8213781953167363E-2},{"$f":"IF(Arkusz1!B$9=1,Arkusz1!C72,\"\")","v":-6.4126817121553126},{"$f":"IF(Arkusz1!D$9=1,Arkusz1!D72+Arkusz1!E72,\"\")","v":-0.40550840941351751},{"$f":"IF(Arkusz1!D$9=1,Arkusz1!E72,\"\")","v":-9.0414390673057845},{"$f":"IF(Arkusz1!F$9=1,Arkusz1!F72+Arkusz1!G72,\"\")","v":""},{"$f":"IF(Arkusz1!F$9=1,Arkusz1!G72,\"\")","v":""},{"$f":"IF(Arkusz1!H$9=1,Arkusz1!H72+Arkusz1!I72,\"\")","v":""},{"$f":"IF(Arkusz1!H$9=1,Arkusz1!I72,\"\")","v":""},{"$f":"IF(Arkusz1!J$9=1,Arkusz1!J72+Arkusz1!K72,\"\")","v":""},{"$f":"IF(Arkusz1!J$9=1,Arkusz1!K72,\"\")","v":""},{"$f":"IF(Arkusz1!L$9=1,Arkusz1!L72+Arkusz1!M72,\"\")","v":""},{"$f":"IF(Arkusz1!L$9=1,Arkusz1!M72,\"\")","v":""},{"$f":"Arkusz1!O72+Arkusz1!P72","v":-0.38729462746034926},{"$f":"Arkusz1!P72","v":-15.454120779461096}]
[{"$f":"Arkusz1!A73","v":100},{"$f":"IF(Arkusz1!B$9=1,Arkusz1!B73+Arkusz1!C73,\"\")","v":-0.12573885710108446},{"$f":"IF(Arkusz1!B$9=1,Arkusz1!C73,\"\")","v":-6.4126817121553126},{"$f":"IF(Arkusz1!D$9=1,Arkusz1!D73+Arkusz1!E73,\"\")","v":-0.17728311896678051},{"$f":"IF(Arkusz1!D$9=1,Arkusz1!E73,\"\")","v":-9.0414390673057845},{"$f":"IF(Arkusz1!F$9=1,Arkusz1!F73+Arkusz1!G73,\"\")","v":""},{"$f":"IF(Arkusz1!F$9=1,Arkusz1!G73,\"\")","v":""},{"$f":"IF(Arkusz1!H$9=1,Arkusz1!H73+Arkusz1!I73,\"\")","v":""},{"$f":"IF(Arkusz1!H$9=1,Arkusz1!I73,\"\")","v":""},{"$f":"IF(Arkusz1!J$9=1,Arkusz1!J73+Arkusz1!K73,\"\")","v":""},{"$f":"IF(Arkusz1!J$9=1,Arkusz1!K73,\"\")","v":""},{"$f":"IF(Arkusz1!L$9=1,Arkusz1!L73+Arkusz1!M73,\"\")","v":""},{"$f":"IF(Arkusz1!L$9=1,Arkusz1!M73,\"\")","v":""},{"$f":"Arkusz1!O73+Arkusz1!P73","v":-0.30302197606786407},{"$f":"Arkusz1!P73","v":-15.454120779461096}]
[{"$f":"Arkusz1!A74","v":100.5},{"$f":"IF(Arkusz1!B$9=1,Arkusz1!B74+Arkusz1!C74,\"\")","v":-0.26686202997736164},{"$f":"IF(Arkusz1!B$9=1,Arkusz1!C74,\"\")","v":-6.4126817121553126},{"$f":"IF(Arkusz1!D$9=1,Arkusz1!D74+Arkusz1!E74,\"\")","v":5.4249696643847045E-2},{"$f":"IF(Arkusz1!D$9=1,Arkusz1!E74,\"\")","v":-9.0414390673057845},{"$f":"IF(Arkusz1!F$9=1,Arkusz1!F74+Arkusz1!G74,\"\")","v":""},{"$f":"IF(Arkusz1!F$9=1,Arkusz1!G74,\"\")","v":""},{"$f":"IF(Arkusz1!H$9=1,Arkusz1!H74+Arkusz1!I74,\"\")","v":""},{"$f":"IF(Arkusz1!H$9=1,Arkusz1!I74,\"\")","v":""},{"$f":"IF(Arkusz1!J$9=1,Arkusz1!J74+Arkusz1!K74,\"\")","v":""},{"$f":"IF(Arkusz1!J$9=1,Arkusz1!K74,\"\")","v":""},{"$f":"IF(Arkusz1!L$9=1,Arkusz1!L74+Arkusz1!M74,\"\")","v":""},{"$f":"IF(Arkusz1!L$9=1,Arkusz1!M74,\"\")","v":""},{"$f":"Arkusz1!O74+Arkusz1!P74","v":-0.2126123333335137},{"$f":"Arkusz1!P74","v":-15.454120779461096}]
[{"$f":"Arkusz1!A75","v":101},{"$f":"IF(Arkusz1!B$9=1,Arkusz1!B75+Arkusz1!C75,\"\")","v":-0.40519665155425688},{"$f":"IF(Arkusz1!B$9=1,Arkusz1!C75,\"\")","v":-6.4126817121553126},{"$f":"IF(Arkusz1!D$9=1,Arkusz1!D75+Arkusz1!E75,\"\")","v":0.28907866076318456},{"$f":"IF(Arkusz1!D$9=1,Arkusz1!E75,\"\")","v":-9.0414390673057845},{"$f":"IF(Arkusz1!F$9=1,Arkusz1!F75+Arkusz1!G75,\"\")","v":""},{"$f":"IF(Arkusz1!F$9=1,Arkusz1!G75,\"\")","v":""},{"$f":"IF(Arkusz1!H$9=1,Arkusz1!H75+Arkusz1!I75,\"\")","v":""},{"$f":"IF(Arkusz1!H$9=1,Arkusz1!I75,\"\")","v":""},{"$f":"IF(Arkusz1!J$9=1,Arkusz1!J75+Arkusz1!K75,\"\")","v":""},{"$f":"IF(Arkusz1!J$9=1,Arkusz1!K75,\"\")","v":""},{"$f":"IF(Arkusz1!L$9=1,Arkusz1!L75+Arkusz1!M75,\"\")","v":""},{"$f":"IF(Arkusz1!L$9=1,Arkusz1!M75,\"\")","v":""},{"$f":"Arkusz1!O75+Arkusz1!P75","v":-0.11611799079107143},{"$f":"Arkusz1!P75","v":-15.454120779461096}]
[{"$f":"Arkusz1!A76","v":101.5},{"$f":"IF(Arkusz1!B$9=1,Arkusz1!B76+Arkusz1!C76,\"\")","v":-0.54078360031131201},{"$f":"IF(Arkusz1!B$9=1,Arkusz1!C76,\"\")","v":-6.4126817121553126},{"$f":"IF(Arkusz1!D$9=1,Arkusz1!D76+Arkusz1!E76,\"\")","v":0.52719159100312041},{"$f":"IF(Arkusz1!D$9=1,Arkusz1!E76,\"\")","v":-9.0414390673057845},{"$f":"IF(Arkusz1!F$9=1,Arkusz1!F76+Arkusz1!G76,\"\")","v":""},{"$f":"IF(Arkusz1!F$9=1,Arkusz1!G76,\"\")","v":""},{"$f":"IF(Arkusz1!H$9=1,Arkusz1!H76+Arkusz1!I76,\"\")","v":""},{"$f":"IF(Arkusz1!H$9=1,Arkusz1!I76,\"\")","v":""},{"$f":"IF(Arkusz1!J$9=1,Arkusz1!J76+Arkusz1!K76,\"\")","v":""},{"$f":"IF(Arkusz1!J$9=1,Arkusz1!K76,\"\")","v":""},{"$f":"IF(Arkusz1!L$9=1,Arkusz1!L76+Arkusz1!M76,\"\")","v":""},{"$f":"IF(Arkusz1!L$9=1,Arkusz1!M76,\"\")","v":""},{"$f":"Arkusz1!O76+Arkusz1!P76","v":-1.3592009308190711E-2},{"$f":"Arkusz1!P76","v":-15.454120779461096}]
[{"$f":"Arkusz1!A77","v":102},{"$f":"IF(Arkusz1!B$9=1,Arkusz1!B77+Arkusz1!C77,\"\")","v":-0.67366369340601029},{"$f":"IF(Arkusz1!B$9=1,Arkusz1!C77,\"\")","v":-6.4126817121553126},{"$f":"IF(Arkusz1!D$9=1,Arkusz1!D77+Arkusz1!E77,\"\")","v":0.76857552120560868},{"$f":"IF(Arkusz1!D$9=1,Arkusz1!E77,\"\")","v":-9.0414390673057845},{"$f":"IF(Arkusz1!F$9=1,Arkusz1!F77+Arkusz1!G77,\"\")","v":""},{"$f":"IF(Arkusz1!F$9=1,Arkusz1!G77,\"\")","v":""},{"$f":"IF(Arkusz1!H$9=1,Arkusz1!H77+Arkusz1!I77,\"\")","v":""},{"$f":"IF(Arkusz1!H$9=1,Arkusz1!I77,\"\")","v":""},{"$f":"IF(Arkusz1!J$9=1,Arkusz1!J77+Arkusz1!K77,\"\")","v":""},{"$f":"IF(Arkusz1!J$9=1,Arkusz1!K77,\"\")","v":""},{"$f":"IF(Arkusz1!L$9=1,Arkusz1!L77+Arkusz1!M77,\"\")","v":""},{"$f":"IF(Arkusz1!L$9=1,Arkusz1!M77,\"\")","v":""},{"$f":"Arkusz1!O77+Arkusz1!P77","v":9.491182779959928E-2},{"$f":"Arkusz1!P77","v":-15.454120779461096}]
[{"$f":"Arkusz1!A78","v":102.5},{"$f":"IF(Arkusz1!B$9=1,Arkusz1!B78+Arkusz1!C78,\"\")","v":-0.8038776627289197},{"$f":"IF(Arkusz1!B$9=1,Arkusz1!C78,\"\")","v":-6.4126817121553126},{"$f":"IF(Arkusz1!D$9=1,Arkusz1!D78+Arkusz1!E78,\"\")","v":1.0132167235397738},{"$f":"IF(Arkusz1!D$9=1,Arkusz1!E78,\"\")","v":-9.0414390673057845},{"$f":"IF(Arkusz1!F$9=1,Arkusz1!F78+Arkusz1!G78,\"\")","v":""},{"$f":"IF(Arkusz1!F$9=1,Arkusz1!G78,\"\")","v":""},{"$f":"IF(Arkusz1!H$9=1,Arkusz1!H78+Arkusz1!I78,\"\")","v":""},{"$f":"IF(Arkusz1!H$9=1,Arkusz1!I78,\"\")","v":""},{"$f":"IF(Arkusz1!J$9=1,Arkusz1!J78+Arkusz1!K78,\"\")","v":""},{"$f":"IF(Arkusz1!J$9=1,Arkusz1!K78,\"\")","v":""},{"$f":"IF(Arkusz1!L$9=1,Arkusz1!L78+Arkusz1!M78,\"\")","v":""},{"$f":"IF(Arkusz1!L$9=1,Arkusz1!M78,\"\")","v":""},{"$f":"Arkusz1!O78+Arkusz1!P78","v":0.20933906081085496},{"$f":"Arkusz1!P78","v":-15.454120779461096}]
[{"$f":"Arkusz1!A79","v":103},{"$f":"IF(Arkusz1!B$9=1,Arkusz1!B79+Arkusz1!C79,\"\")","v":-0.93146613192542294},{"$f":"IF(Arkusz1!B$9=1,Arkusz1!C79,\"\")","v":-6.4126817121553126},{"$f":"IF(Arkusz1!D$9=1,Arkusz1!D79+Arkusz1!E79,\"\")","v":1.2611007307014965},{"$f":"IF(Arkusz1!D$9=1,Arkusz1!E79,\"\")","v":-9.0414390673057845},{"$f":"IF(Arkusz1!F$9=1,Arkusz1!F79+Arkusz1!G79,\"\")","v":""},{"$f":"IF(Arkusz1!F$9=1,Arkusz1!G79,\"\")","v":""},{"$f":"IF(Arkusz1!H$9=1,Arkusz1!H79+Arkusz1!I79,\"\")","v":""},{"$f":"IF(Arkusz1!H$9=1,Arkusz1!I79,\"\")","v":""},{"$f":"IF(Arkusz1!J$9=1,Arkusz1!J79+Arkusz1!K79,\"\")","v":""},{"$f":"IF(Arkusz1!J$9=1,Arkusz1!K79,\"\")","v":""},{"$f":"IF(Arkusz1!L$9=1,Arkusz1!L79+Arkusz1!M79,\"\")","v":""},{"$f":"IF(Arkusz1!L$9=1,Arkusz1!M79,\"\")","v":""},{"$f":"Arkusz1!O79+Arkusz1!P79","v":0.32963459877607448},{"$f":"Arkusz1!P79","v":-15.454120779461096}]
[{"$f":"Arkusz1!A80","v":103.5},{"$f":"IF(Arkusz1!B$9=1,Arkusz1!B80+Arkusz1!C80,\"\")","v":-1.0564695943722748},{"$f":"IF(Arkusz1!B$9=1,Arkusz1!C80,\"\")","v":-6.4126817121553126},{"$f":"IF(Arkusz1!D$9=1,Arkusz1!D80+Arkusz1!E80,\"\")","v":1.5122123581849358},{"$f":"IF(Arkusz1!D$9=1,Arkusz1!E80,\"\")","v":-9.0414390673057845},{"$f":"IF(Arkusz1!F$9=1,Arkusz1!F80+Arkusz1!G80,\"\")","v":""},{"$f":"IF(Arkusz1!F$9=1,Arkusz1!G80,\"\")","v":""},{"$f":"IF(Arkusz1!H$9=1,Arkusz1!H80+Arkusz1!I80,\"\")","v":""},{"$f":"IF(Arkusz1!H$9=1,Arkusz1!I80,\"\")","v":""},{"$f":"IF(Arkusz1!J$9=1,Arkusz1!J80+Arkusz1!K80,\"\")","v":""},{"$f":"IF(Arkusz1!J$9=1,Arkusz1!K80,\"\")","v":""},{"$f":"IF(Arkusz1!L$9=1,Arkusz1!L80+Arkusz1!M80,\"\")","v":""},{"$f":"IF(Arkusz1!L$9=1,Arkusz1!M80,\"\")","v":""},{"$f":"Arkusz1!O80+Arkusz1!P80","v":0.45574276381266188},{"$f":"Arkusz1!P80","v":-15.454120779461096}]
[{"$f":"Arkusz1!A81","v":104},{"$f":"IF(Arkusz1!B$9=1,Arkusz1!B81+Arkusz1!C81,\"\")","v":-1.1789283920954938},{"$f":"IF(Arkusz1!B$9=1,Arkusz1!C81,\"\")","v":-6.4126817121553126},{"$f":"IF(Arkusz1!D$9=1,Arkusz1!D81+Arkusz1!E81,\"\")","v":1.7665357265966186},{"$f":"IF(Arkusz1!D$9=1,Arkusz1!E81,\"\")","v":-9.0414390673057845},{"$f":"IF(Arkusz1!F$9=1,Arkusz1!F81+Arkusz1!G81,\"\")","v":""},{"$f":"IF(Arkusz1!F$9=1,Arkusz1!G81,\"\")","v":""},{"$f":"IF(Arkusz1!H$9=1,Arkusz1!H81+Arkusz1!I81,\"\")","v":""},{"$f":"IF(Arkusz1!H$9=1,Arkusz1!I81,\"\")","v":""},{"$f":"IF(Arkusz1!J$9=1,Arkusz1!J81+Arkusz1!K81,\"\")","v":""},{"$f":"IF(Arkusz1!J$9=1,Arkusz1!K81,\"\")","v":""},{"$f":"IF(Arkusz1!L$9=1,Arkusz1!L81+Arkusz1!M81,\"\")","v":""},{"$f":"IF(Arkusz1!L$9=1,Arkusz1!M81,\"\")","v":""},{"$f":"Arkusz1!O81+Arkusz1!P81","v":0.58760733450112568},{"$f":"Arkusz1!P81","v":-15.454120779461096}]
[{"$f":"Arkusz1!A82","v":104.5},{"$f":"IF(Arkusz1!B$9=1,Arkusz1!B82+Arkusz1!C82,\"\")","v":-1.2988826956156929},{"$f":"IF(Arkusz1!B$9=1,Arkusz1!C82,\"\")","v":-6.4126817121553126},{"$f":"IF(Arkusz1!D$9=1,Arkusz1!D82+Arkusz1!E82,\"\")","v":2.0240542839839897},{"$f":"IF(Arkusz1!D$9=1,Arkusz1!E82,\"\")","v":-9.0414390673057845},{"$f":"IF(Arkusz1!F$9=1,Arkusz1!F82+Arkusz1!G82,\"\")","v":""},{"$f":"IF(Arkusz1!F$9=1,Arkusz1!G82,\"\")","v":""},{"$f":"IF(Arkusz1!H$9=1,Arkusz1!H82+Arkusz1!I82,\"\")","v":""},{"$f":"IF(Arkusz1!H$9=1,Arkusz1!I82,\"\")","v":""},{"$f":"IF(Arkusz1!J$9=1,Arkusz1!J82+Arkusz1!K82,\"\")","v":""},{"$f":"IF(Arkusz1!J$9=1,Arkusz1!K82,\"\")","v":""},{"$f":"IF(Arkusz1!L$9=1,Arkusz1!L82+Arkusz1!M82,\"\")","v":""},{"$f":"IF(Arkusz1!L$9=1,Arkusz1!M82,\"\")","v":""},{"$f":"Arkusz1!O82+Arkusz1!P82","v":0.72517158836829765},{"$f":"Arkusz1!P82","v":-15.454120779461096}]
[{"$f":"Arkusz1!A83","v":105},{"$f":"IF(Arkusz1!B$9=1,Arkusz1!B83+Arkusz1!C83,\"\")","v":-1.4163724847058612},{"$f":"IF(Arkusz1!B$9=1,Arkusz1!C83,\"\")","v":-6.4126817121553126},{"$f":"IF(Arkusz1!D$9=1,Arkusz1!D83+Arkusz1!E83,\"\")","v":2.2847508281510294},{"$f":"IF(Arkusz1!D$9=1,Arkusz1!E83,\"\")","v":-9.0414390673057845},{"$f":"IF(Arkusz1!F$9=1,Arkusz1!F83+Arkusz1!G83,\"\")","v":""},{"$f":"IF(Arkusz1!F$9=1,Arkusz1!G83,\"\")","v":""},{"$f":"IF(Arkusz1!H$9=1,Arkusz1!H83+Arkusz1!I83,\"\")","v":""},{"$f":"IF(Arkusz1!H$9=1,Arkusz1!I83,\"\")","v":""},{"$f":"IF(Arkusz1!J$9=1,Arkusz1!J83+Arkusz1!K83,\"\")","v":""},{"$f":"IF(Arkusz1!J$9=1,Arkusz1!K83,\"\")","v":""},{"$f":"IF(Arkusz1!L$9=1,Arkusz1!L83+Arkusz1!M83,\"\")","v":""},{"$f":"IF(Arkusz1!L$9=1,Arkusz1!M83,\"\")","v":""},{"$f":"Arkusz1!O83+Arkusz1!P83","v":0.86837834344516907},{"$f":"Arkusz1!P83","v":-15.454120779461096}]
[{"$f":"Arkusz1!A84","v":105.5},{"$f":"IF(Arkusz1!B$9=1,Arkusz1!B84+Arkusz1!C84,\"\")","v":-1.5314375300458929},{"$f":"IF(Arkusz1!B$9=1,Arkusz1!C84,\"\")","v":-6.4126817121553126},{"$f":"IF(Arkusz1!D$9=1,Arkusz1!D84+Arkusz1!E84,\"\")","v":2.5486075289352108},{"$f":"IF(Arkusz1!D$9=1,Arkusz1!E84,\"\")","v":-9.0414390673057845},{"$f":"IF(Arkusz1!F$9=1,Arkusz1!F84+Arkusz1!G84,\"\")","v":""},{"$f":"IF(Arkusz1!F$9=1,Arkusz1!G84,\"\")","v":""},{"$f":"IF(Arkusz1!H$9=1,Arkusz1!H84+Arkusz1!I84,\"\")","v":""},{"$f":"IF(Arkusz1!H$9=1,Arkusz1!I84,\"\")","v":""},{"$f":"IF(Arkusz1!J$9=1,Arkusz1!J84+Arkusz1!K84,\"\")","v":""},{"$f":"IF(Arkusz1!J$9=1,Arkusz1!K84,\"\")","v":""},{"$f":"IF(Arkusz1!L$9=1,Arkusz1!L84+Arkusz1!M84,\"\")","v":""},{"$f":"IF(Arkusz1!L$9=1,Arkusz1!M84,\"\")","v":""},{"$f":"Arkusz1!O84+Arkusz1!P84","v":1.0171699988893188},{"$f":"Arkusz1!P84","v":-15.454120779461096}]
[{"$f":"Arkusz1!A85","v":106},{"$f":"IF(Arkusz1!B$9=1,Arkusz1!B85+Arkusz1!C85,\"\")","v":-1.64411737575755},{"$f":"IF(Arkusz1!B$9=1,Arkusz1!C85,\"\")","v":-6.4126817121553126},{"$f":"IF(Arkusz1!D$9=1,Arkusz1!D85+Arkusz1!E85,\"\")","v":2.8156059504208493},{"$f":"IF(Arkusz1!D$9=1,Arkusz1!E85,\"\")","v":-9.0414390673057845},{"$f":"IF(Arkusz1!F$9=1,Arkusz1!F85+Arkusz1!G85,\"\")","v":""},{"$f":"IF(Arkusz1!F$9=1,Arkusz1!G85,\"\")","v":""},{"$f":"IF(Arkusz1!H$9=1,Arkusz1!H85+Arkusz1!I85,\"\")","v":""},{"$f":"IF(Arkusz1!H$9=1,Arkusz1!I85,\"\")","v":""},{"$f":"IF(Arkusz1!J$9=1,Arkusz1!J85+Arkusz1!K85,\"\")","v":""},{"$f":"IF(Arkusz1!J$9=1,Arkusz1!K85,\"\")","v":""},{"$f":"IF(Arkusz1!L$9=1,Arkusz1!L85+Arkusz1!M85,\"\")","v":""},{"$f":"IF(Arkusz1!L$9=1,Arkusz1!M85,\"\")","v":""},{"$f":"Arkusz1!O85+Arkusz1!P85","v":1.1714885746633001},{"$f":"Arkusz1!P85","v":-15.454120779461096}]
[{"$f":"Arkusz1!A86","v":106.5},{"$f":"IF(Arkusz1!B$9=1,Arkusz1!B86+Arkusz1!C86,\"\")","v":-1.7544513228028835},{"$f":"IF(Arkusz1!B$9=1,Arkusz1!C86,\"\")","v":-6.4126817121553126},{"$f":"IF(Arkusz1!D$9=1,Arkusz1!D86+Arkusz1!E86,\"\")","v":3.0857270730649127},{"$f":"IF(Arkusz1!D$9=1,Arkusz1!E86,\"\")","v":-9.0414390673057845},{"$f":"IF(Arkusz1!F$9=1,Arkusz1!F86+Arkusz1!G86,\"\")","v":""},{"$f":"IF(Arkusz1!F$9=1,Arkusz1!G86,\"\")","v":""},{"$f":"IF(Arkusz1!H$9=1,Arkusz1!H86+Arkusz1!I86,\"\")","v":""},{"$f":"IF(Arkusz1!H$9=1,Arkusz1!I86,\"\")","v":""},{"$f":"IF(Arkusz1!J$9=1,Arkusz1!J86+Arkusz1!K86,\"\")","v":""},{"$f":"IF(Arkusz1!J$9=1,Arkusz1!K86,\"\")","v":""},{"$f":"IF(Arkusz1!L$9=1,Arkusz1!L86+Arkusz1!M86,\"\")","v":""},{"$f":"IF(Arkusz1!L$9=1,Arkusz1!M86,\"\")","v":""},{"$f":"Arkusz1!O86+Arkusz1!P86","v":1.33127575026203},{"$f":"Arkusz1!P86","v":-15.454120779461096}]
[{"$f":"Arkusz1!A87","v":107},{"$f":"IF(Arkusz1!B$9=1,Arkusz1!B87+Arkusz1!C87,\"\")","v":-1.8624784132285628},{"$f":"IF(Arkusz1!B$9=1,Arkusz1!C87,\"\")","v":-6.4126817121553126},{"$f":"IF(Arkusz1!D$9=1,Arkusz1!D87+Arkusz1!E87,\"\")","v":3.3589513157130817},{"$f":"IF(Arkusz1!D$9=1,Arkusz1!E87,\"\")","v":-9.0414390673057845},{"$f":"IF(Arkusz1!F$9=1,Arkusz1!F87+Arkusz1!G87,\"\")","v":""},{"$f":"IF(Arkusz1!F$9=1,Arkusz1!G87,\"\")","v":""},{"$f":"IF(Arkusz1!H$9=1,Arkusz1!H87+Arkusz1!I87,\"\")","v":""},{"$f":"IF(Arkusz1!H$9=1,Arkusz1!I87,\"\")","v":""},{"$f":"IF(Arkusz1!J$9=1,Arkusz1!J87+Arkusz1!K87,\"\")","v":""},{"$f":"IF(Arkusz1!J$9=1,Arkusz1!K87,\"\")","v":""},{"$f":"IF(Arkusz1!L$9=1,Arkusz1!L87+Arkusz1!M87,\"\")","v":""},{"$f":"IF(Arkusz1!L$9=1,Arkusz1!M87,\"\")","v":""},{"$f":"Arkusz1!O87+Arkusz1!P87","v":1.4964729024845198},{"$f":"Arkusz1!P87","v":-15.454120779461096}]
[{"$f":"Arkusz1!A88","v":107.5},{"$f":"IF(Arkusz1!B$9=1,Arkusz1!B88+Arkusz1!C88,\"\")","v":-1.9682374152382964},{"$f":"IF(Arkusz1!B$9=1,Arkusz1!C88,\"\")","v":-6.4126817121553126},{"$f":"IF(Arkusz1!D$9=1,Arkusz1!D88+Arkusz1!E88,\"\")","v":3.6352585574839757},{"$f":"IF(Arkusz1!D$9=1,Arkusz1!E88,\"\")","v":-9.0414390673057845},{"$f":"IF(Arkusz1!F$9=1,Arkusz1!F88+Arkusz1!G88,\"\")","v":""},{"$f":"IF(Arkusz1!F$9=1,Arkusz1!G88,\"\")","v":""},{"$f":"IF(Arkusz1!H$9=1,Arkusz1!H88+Arkusz1!I88,\"\")","v":""},{"$f":"IF(Arkusz1!H$9=1,Arkusz1!I88,\"\")","v":""},{"$f":"IF(Arkusz1!J$9=1,Arkusz1!J88+Arkusz1!K88,\"\")","v":""},{"$f":"IF(Arkusz1!J$9=1,Arkusz1!K88,\"\")","v":""},{"$f":"IF(Arkusz1!L$9=1,Arkusz1!L88+Arkusz1!M88,\"\")","v":""},{"$f":"IF(Arkusz1!L$9=1,Arkusz1!M88,\"\")","v":""},{"$f":"Arkusz1!O88+Arkusz1!P88","v":1.6670211422456802},{"$f":"Arkusz1!P88","v":-15.454120779461096}]
[{"$f":"Arkusz1!A89","v":108},{"$f":"IF(Arkusz1!B$9=1,Arkusz1!B89+Arkusz1!C89,\"\")","v":-2.071766809074842},{"$f":"IF(Arkusz1!B$9=1,Arkusz1!C89,\"\")","v":-6.4126817121553126},{"$f":"IF(Arkusz1!D$9=1,Arkusz1!D89+Arkusz1!E89,\"\")","v":3.9146281595014862},{"$f":"IF(Arkusz1!D$9=1,Arkusz1!E89,\"\")","v":-9.0414390673057845},{"$f":"IF(Arkusz1!F$9=1,Arkusz1!F89+Arkusz1!G89,\"\")","v":""},{"$f":"IF(Arkusz1!F$9=1,Arkusz1!G89,\"\")","v":""},{"$f":"IF(Arkusz1!H$9=1,Arkusz1!H89+Arkusz1!I89,\"\")","v":""},{"$f":"IF(Arkusz1!H$9=1,Arkusz1!I89,\"\")","v":""},{"$f":"IF(Arkusz1!J$9=1,Arkusz1!J89+Arkusz1!K89,\"\")","v":""},{"$f":"IF(Arkusz1!J$9=1,Arkusz1!K89,\"\")","v":""},{"$f":"IF(Arkusz1!L$9=1,Arkusz1!L89+Arkusz1!M89,\"\")","v":""},{"$f":"IF(Arkusz1!L$9=1,Arkusz1!M89,\"\")","v":""},{"$f":"Arkusz1!O89+Arkusz1!P89","v":1.8428613504266451},{"$f":"Arkusz1!P89","v":-15.454120779461096}]
[{"$f":"Arkusz1!A90","v":108.5},{"$f":"IF(Arkusz1!B$9=1,Arkusz1!B90+Arkusz1!C90,\"\")","v":-2.1731047736928746},{"$f":"IF(Arkusz1!B$9=1,Arkusz1!C90,\"\")","v":-6.4126817121553126},{"$f":"IF(Arkusz1!D$9=1,Arkusz1!D90+Arkusz1!E90,\"\")","v":4.1970389864555848},{"$f":"IF(Arkusz1!D$9=1,Arkusz1!E90,\"\")","v":-9.0414390673057845},{"$f":"IF(Arkusz1!F$9=1,Arkusz1!F90+Arkusz1!G90,\"\")","v":""},{"$f":"IF(Arkusz1!F$9=1,Arkusz1!G90,\"\")","v":""},{"$f":"IF(Arkusz1!H$9=1,Arkusz1!H90+Arkusz1!I90,\"\")","v":""},{"$f":"IF(Arkusz1!H$9=1,Arkusz1!I90,\"\")","v":""},{"$f":"IF(Arkusz1!J$9=1,Arkusz1!J90+Arkusz1!K90,\"\")","v":""},{"$f":"IF(Arkusz1!J$9=1,Arkusz1!K90,\"\")","v":""},{"$f":"IF(Arkusz1!L$9=1,Arkusz1!L90+Arkusz1!M90,\"\")","v":""},{"$f":"IF(Arkusz1!L$9=1,Arkusz1!M90,\"\")","v":""},{"$f":"Arkusz1!O90+Arkusz1!P90","v":2.0239342127627111},{"$f":"Arkusz1!P90","v":-15.454120779461096}]
[{"$f":"Arkusz1!A91","v":109},{"$f":"IF(Arkusz1!B$9=1,Arkusz1!B91+Arkusz1!C91,\"\")","v":-2.272289174203924},{"$f":"IF(Arkusz1!B$9=1,Arkusz1!C91,\"\")","v":-6.4126817121553126},{"$f":"IF(Arkusz1!D$9=1,Arkusz1!D91+Arkusz1!E91,\"\")","v":4.482469427973431},{"$f":"IF(Arkusz1!D$9=1,Arkusz1!E91,\"\")","v":-9.0414390673057845},{"$f":"IF(Arkusz1!F$9=1,Arkusz1!F91+Arkusz1!G91,\"\")","v":""},{"$f":"IF(Arkusz1!F$9=1,Arkusz1!G91,\"\")","v":""},{"$f":"IF(Arkusz1!H$9=1,Arkusz1!H91+Arkusz1!I91,\"\")","v":""},{"$f":"IF(Arkusz1!H$9=1,Arkusz1!I91,\"\")","v":""},{"$f":"IF(Arkusz1!J$9=1,Arkusz1!J91+Arkusz1!K91,\"\")","v":""},{"$f":"IF(Arkusz1!J$9=1,Arkusz1!K91,\"\")","v":""},{"$f":"IF(Arkusz1!L$9=1,Arkusz1!L91+Arkusz1!M91,\"\")","v":""},{"$f":"IF(Arkusz1!L$9=1,Arkusz1!M91,\"\")","v":""},{"$f":"Arkusz1!O91+Arkusz1!P91","v":2.2101802537695079},{"$f":"Arkusz1!P91","v":-15.454120779461096}]
[{"$f":"Arkusz1!A92","v":109.5},{"$f":"IF(Arkusz1!B$9=1,Arkusz1!B92+Arkusz1!C92,\"\")","v":-2.3693575500738264},{"$f":"IF(Arkusz1!B$9=1,Arkusz1!C92,\"\")","v":-6.4126817121553126},{"$f":"IF(Arkusz1!D$9=1,Arkusz1!D92+Arkusz1!E92,\"\")","v":4.7708974197832283},{"$f":"IF(Arkusz1!D$9=1,Arkusz1!E92,\"\")","v":-9.0414390673057845},{"$f":"IF(Arkusz1!F$9=1,Arkusz1!F92+Arkusz1!G92,\"\")","v":""},{"$f":"IF(Arkusz1!F$9=1,Arkusz1!G92,\"\")","v":""},{"$f":"IF(Arkusz1!H$9=1,Arkusz1!H92+Arkusz1!I92,\"\")","v":""},{"$f":"IF(Arkusz1!H$9=1,Arkusz1!I92,\"\")","v":""},{"$f":"IF(Arkusz1!J$9=1,Arkusz1!J92+Arkusz1!K92,\"\")","v":""},{"$f":"IF(Arkusz1!J$9=1,Arkusz1!K92,\"\")","v":""},{"$f":"IF(Arkusz1!L$9=1,Arkusz1!L92+Arkusz1!M92,\"\")","v":""},{"$f":"IF(Arkusz1!L$9=1,Arkusz1!M92,\"\")","v":""},{"$f":"Arkusz1!O92+Arkusz1!P92","v":2.4015398697094028},{"$f":"Arkusz1!P92","v":-15.454120779461096}]
[{"$f":"Arkusz1!A93","v":110},{"$f":"IF(Arkusz1!B$9=1,Arkusz1!B93+Arkusz1!C93,\"\")","v":-2.4643471040536129},{"$f":"IF(Arkusz1!B$9=1,Arkusz1!C93,\"\")","v":-6.4126817121553126},{"$f":"IF(Arkusz1!D$9=1,Arkusz1!D93+Arkusz1!E93,\"\")","v":5.062300464654772},{"$f":"IF(Arkusz1!D$9=1,Arkusz1!E93,\"\")","v":-9.0414390673057845},{"$f":"IF(Arkusz1!F$9=1,Arkusz1!F93+Arkusz1!G93,\"\")","v":""},{"$f":"IF(Arkusz1!F$9=1,Arkusz1!G93,\"\")","v":""},{"$f":"IF(Arkusz1!H$9=1,Arkusz1!H93+Arkusz1!I93,\"\")","v":""},{"$f":"IF(Arkusz1!H$9=1,Arkusz1!I93,\"\")","v":""},{"$f":"IF(Arkusz1!J$9=1,Arkusz1!J93+Arkusz1!K93,\"\")","v":""},{"$f":"IF(Arkusz1!J$9=1,Arkusz1!K93,\"\")","v":""},{"$f":"IF(Arkusz1!L$9=1,Arkusz1!L93+Arkusz1!M93,\"\")","v":""},{"$f":"IF(Arkusz1!L$9=1,Arkusz1!M93,\"\")","v":""},{"$f":"Arkusz1!O93+Arkusz1!P93","v":2.59795336060116},{"$f":"Arkusz1!P93","v":-15.454120779461096}]
[{"$f":"Arkusz1!A94","v":110.5},{"$f":"IF(Arkusz1!B$9=1,Arkusz1!B94+Arkusz1!C94,\"\")","v":-2.5572946918239632},{"$f":"IF(Arkusz1!B$9=1,Arkusz1!C94,\"\")","v":-6.4126817121553126},{"$f":"IF(Arkusz1!D$9=1,Arkusz1!D94+Arkusz1!E94,\"\")","v":5.856655653101253},{"$f":"IF(Arkusz1!D$9=1,Arkusz1!E94,\"\")","v":-8.5414390673057845},{"$f":"IF(Arkusz1!F$9=1,Arkusz1!F94+Arkusz1!G94,\"\")","v":""},{"$f":"IF(Arkusz1!F$9=1,Arkusz1!G94,\"\")","v":""},{"$f":"IF(Arkusz1!H$9=1,Arkusz1!H94+Arkusz1!I94,\"\")","v":""},{"$f":"IF(Arkusz1!H$9=1,Arkusz1!I94,\"\")","v":""},{"$f":"IF(Arkusz1!J$9=1,Arkusz1!J94+Arkusz1!K94,\"\")","v":""},{"$f":"IF(Arkusz1!J$9=1,Arkusz1!K94,\"\")","v":""},{"$f":"IF(Arkusz1!L$9=1,Arkusz1!L94+Arkusz1!M94,\"\")","v":""},{"$f":"IF(Arkusz1!L$9=1,Arkusz1!M94,\"\")","v":""},{"$f":"Arkusz1!O94+Arkusz1!P94","v":3.2993609612772907},{"$f":"Arkusz1!P94","v":-14.954120779461096}]
[{"$f":"Arkusz1!A95","v":111},{"$f":"IF(Arkusz1!B$9=1,Arkusz1!B95+Arkusz1!C95,\"\")","v":-2.6482368123338711},{"$f":"IF(Arkusz1!B$9=1,Arkusz1!C95,\"\")","v":-6.4126817121553126},{"$f":"IF(Arkusz1!D$9=1,Arkusz1!D95+Arkusz1!E95,\"\")","v":6.6539396838278897},{"$f":"IF(Arkusz1!D$9=1,Arkusz1!E95,\"\")","v":-8.0414390673057845},{"$f":"IF(Arkusz1!F$9=1,Arkusz1!F95+Arkusz1!G95,\"\")","v":""},{"$f":"IF(Arkusz1!F$9=1,Arkusz1!G95,\"\")","v":""},{"$f":"IF(Arkusz1!H$9=1,Arkusz1!H95+Arkusz1!I95,\"\")","v":""},{"$f":"IF(Arkusz1!H$9=1,Arkusz1!I95,\"\")","v":""},{"$f":"IF(Arkusz1!J$9=1,Arkusz1!J95+Arkusz1!K95,\"\")","v":""},{"$f":"IF(Arkusz1!J$9=1,Arkusz1!K95,\"\")","v":""},{"$f":"IF(Arkusz1!L$9=1,Arkusz1!L95+Arkusz1!M95,\"\")","v":""},{"$f":"IF(Arkusz1!L$9=1,Arkusz1!M95,\"\")","v":""},{"$f":"Arkusz1!O95+Arkusz1!P95","v":4.0057028714940195},{"$f":"Arkusz1!P95","v":-14.454120779461096}]
[{"$f":"Arkusz1!A96","v":111.5},{"$f":"IF(Arkusz1!B$9=1,Arkusz1!B96+Arkusz1!C96,\"\")","v":-2.7372095988136111},{"$f":"IF(Arkusz1!B$9=1,Arkusz1!C96,\"\")","v":-6.4126817121553126},{"$f":"IF(Arkusz1!D$9=1,Arkusz1!D96+Arkusz1!E96,\"\")","v":7.4541288839141338},{"$f":"IF(Arkusz1!D$9=1,Arkusz1!E96,\"\")","v":-7.5414390673057845},{"$f":"IF(Arkusz1!F$9=1,Arkusz1!F96+Arkusz1!G96,\"\")","v":""},{"$f":"IF(Arkusz1!F$9=1,Arkusz1!G96,\"\")","v":""},{"$f":"IF(Arkusz1!H$9=1,Arkusz1!H96+Arkusz1!I96,\"\")","v":""},{"$f":"IF(Arkusz1!H$9=1,Arkusz1!I96,\"\")","v":""},{"$f":"IF(Arkusz1!J$9=1,Arkusz1!J96+Arkusz1!K96,\"\")","v":""},{"$f":"IF(Arkusz1!J$9=1,Arkusz1!K96,\"\")","v":""},{"$f":"IF(Arkusz1!L$9=1,Arkusz1!L96+Arkusz1!M96,\"\")","v":""},{"$f":"IF(Arkusz1!L$9=1,Arkusz1!M96,\"\")","v":""},{"$f":"Arkusz1!O96+Arkusz1!P96","v":4.7169192851005235},{"$f":"Arkusz1!P96","v":-13.954120779461096}]
[{"$f":"Arkusz1!A97","v":112},{"$f":"IF(Arkusz1!B$9=1,Arkusz1!B97+Arkusz1!C97,\"\")","v":-2.8242488104424206},{"$f":"IF(Arkusz1!B$9=1,Arkusz1!C97,\"\")","v":-6.4126817121553126},{"$f":"IF(Arkusz1!D$9=1,Arkusz1!D97+Arkusz1!E97,\"\")","v":8.2571992287170595},{"$f":"IF(Arkusz1!D$9=1,Arkusz1!E97,\"\")","v":-7.0414390673057845},{"$f":"IF(Arkusz1!F$9=1,Arkusz1!F97+Arkusz1!G97,\"\")","v":""},{"$f":"IF(Arkusz1!F$9=1,Arkusz1!G97,\"\")","v":""},{"$f":"IF(Arkusz1!H$9=1,Arkusz1!H97+Arkusz1!I97,\"\")","v":""},{"$f":"IF(Arkusz1!H$9=1,Arkusz1!I97,\"\")","v":""},{"$f":"IF(Arkusz1!J$9=1,Arkusz1!J97+Arkusz1!K97,\"\")","v":""},{"$f":"IF(Arkusz1!J$9=1,Arkusz1!K97,\"\")","v":""},{"$f":"IF(Arkusz1!L$9=1,Arkusz1!L97+Arkusz1!M97,\"\")","v":""},{"$f":"IF(Arkusz1!L$9=1,Arkusz1!M97,\"\")","v":""},{"$f":"Arkusz1!O97+Arkusz1!P97","v":5.4329504182746398},{"$f":"Arkusz1!P97","v":-13.454120779461096}]
[{"$f":"Arkusz1!A98","v":112.5},{"$f":"IF(Arkusz1!B$9=1,Arkusz1!B98+Arkusz1!C98,\"\")","v":-2.9093898246511296},{"$f":"IF(Arkusz1!B$9=1,Arkusz1!C98,\"\")","v":-6.4126817121553126},{"$f":"IF(Arkusz1!D$9=1,Arkusz1!D98+Arkusz1!E98,\"\")","v":9.0631263614840911},{"$f":"IF(Arkusz1!D$9=1,Arkusz1!E98,\"\")","v":-6.5414390673057845},{"$f":"IF(Arkusz1!F$9=1,Arkusz1!F98+Arkusz1!G98,\"\")","v":""},{"$f":"IF(Arkusz1!F$9=1,Arkusz1!G98,\"\")","v":""},{"$f":"IF(Arkusz1!H$9=1,Arkusz1!H98+Arkusz1!I98,\"\")","v":""},{"$f":"IF(Arkusz1!H$9=1,Arkusz1!I98,\"\")","v":""},{"$f":"IF(Arkusz1!J$9=1,Arkusz1!J98+Arkusz1!K98,\"\")","v":""},{"$f":"IF(Arkusz1!J$9=1,Arkusz1!K98,\"\")","v":""},{"$f":"IF(Arkusz1!L$9=1,Arkusz1!L98+Arkusz1!M98,\"\")","v":""},{"$f":"IF(Arkusz1!L$9=1,Arkusz1!M98,\"\")","v":""},{"$f":"Arkusz1!O98+Arkusz1!P98","v":6.1537365368329624},{"$f":"Arkusz1!P98","v":-12.954120779461096}]
[{"$f":"Arkusz1!A99","v":113},{"$f":"IF(Arkusz1!B$9=1,Arkusz1!B99+Arkusz1!C99,\"\")","v":-2.9926676300404802},{"$f":"IF(Arkusz1!B$9=1,Arkusz1!C99,\"\")","v":-6.4126817121553126},{"$f":"IF(Arkusz1!D$9=1,Arkusz1!D99+Arkusz1!E99,\"\")","v":9.8718856126647019},{"$f":"IF(Arkusz1!D$9=1,Arkusz1!E99,\"\")","v":-6.0414390673057845},{"$f":"IF(Arkusz1!F$9=1,Arkusz1!F99+Arkusz1!G99,\"\")","v":""},{"$f":"IF(Arkusz1!F$9=1,Arkusz1!G99,\"\")","v":""},{"$f":"IF(Arkusz1!H$9=1,Arkusz1!H99+Arkusz1!I99,\"\")","v":""},{"$f":"IF(Arkusz1!H$9=1,Arkusz1!I99,\"\")","v":""},{"$f":"IF(Arkusz1!J$9=1,Arkusz1!J99+Arkusz1!K99,\"\")","v":""},{"$f":"IF(Arkusz1!J$9=1,Arkusz1!K99,\"\")","v":""},{"$f":"IF(Arkusz1!L$9=1,Arkusz1!L99+Arkusz1!M99,\"\")","v":""},{"$f":"IF(Arkusz1!L$9=1,Arkusz1!M99,\"\")","v":""},{"$f":"Arkusz1!O99+Arkusz1!P99","v":6.8792179826242226},{"$f":"Arkusz1!P99","v":-12.454120779461096}]
[{"$f":"Arkusz1!A100","v":113.5},{"$f":"IF(Arkusz1!B$9=1,Arkusz1!B100+Arkusz1!C100,\"\")","v":-3.074116819894873},{"$f":"IF(Arkusz1!B$9=1,Arkusz1!C100,\"\")","v":-6.4126817121553126},{"$f":"IF(Arkusz1!D$9=1,Arkusz1!D100+Arkusz1!E100,\"\")","v":10.683452018911009},{"$f":"IF(Arkusz1!D$9=1,Arkusz1!E100,\"\")","v":-5.5414390673057845},{"$f":"IF(Arkusz1!F$9=1,Arkusz1!F100+Arkusz1!G100,\"\")","v":""},{"$f":"IF(Arkusz1!F$9=1,Arkusz1!G100,\"\")","v":""},{"$f":"IF(Arkusz1!H$9=1,Arkusz1!H100+Arkusz1!I100,\"\")","v":""},{"$f":"IF(Arkusz1!H$9=1,Arkusz1!I100,\"\")","v":""},{"$f":"IF(Arkusz1!J$9=1,Arkusz1!J100+Arkusz1!K100,\"\")","v":""},{"$f":"IF(Arkusz1!J$9=1,Arkusz1!K100,\"\")","v":""},{"$f":"IF(Arkusz1!L$9=1,Arkusz1!L100+Arkusz1!M100,\"\")","v":""},{"$f":"IF(Arkusz1!L$9=1,Arkusz1!M100,\"\")","v":""},{"$f":"Arkusz1!O100+Arkusz1!P100","v":7.6093351990161366},{"$f":"Arkusz1!P100","v":-11.954120779461096}]
[{"$f":"Arkusz1!A101","v":114},{"$f":"IF(Arkusz1!B$9=1,Arkusz1!B101+Arkusz1!C101,\"\")","v":-3.1537715862732201},{"$f":"IF(Arkusz1!B$9=1,Arkusz1!C101,\"\")","v":-6.4126817121553126},{"$f":"IF(Arkusz1!D$9=1,Arkusz1!D101+Arkusz1!E101,\"\")","v":11.497800341758516},{"$f":"IF(Arkusz1!D$9=1,Arkusz1!E101,\"\")","v":-5.0414390673057845},{"$f":"IF(Arkusz1!F$9=1,Arkusz1!F101+Arkusz1!G101,\"\")","v":""},{"$f":"IF(Arkusz1!F$9=1,Arkusz1!G101,\"\")","v":""},{"$f":"IF(Arkusz1!H$9=1,Arkusz1!H101+Arkusz1!I101,\"\")","v":""},{"$f":"IF(Arkusz1!H$9=1,Arkusz1!I101,\"\")","v":""},{"$f":"IF(Arkusz1!J$9=1,Arkusz1!J101+Arkusz1!K101,\"\")","v":""},{"$f":"IF(Arkusz1!J$9=1,Arkusz1!K101,\"\")","v":""},{"$f":"IF(Arkusz1!L$9=1,Arkusz1!L101+Arkusz1!M101,\"\")","v":""},{"$f":"IF(Arkusz1!L$9=1,Arkusz1!M101,\"\")","v":""},{"$f":"Arkusz1!O101+Arkusz1!P101","v":8.3440287554852972},{"$f":"Arkusz1!P101","v":-11.454120779461096}]
[{"$f":"Arkusz1!A102","v":114.5},{"$f":"IF(Arkusz1!B$9=1,Arkusz1!B102+Arkusz1!C102,\"\")","v":-3.2316657146565548},{"$f":"IF(Arkusz1!B$9=1,Arkusz1!C102,\"\")","v":-6.4126817121553126},{"$f":"IF(Arkusz1!D$9=1,Arkusz1!D102+Arkusz1!E102,\"\")","v":12.314905085978683},{"$f":"IF(Arkusz1!D$9=1,Arkusz1!E102,\"\")","v":-4.5414390673057845},{"$f":"IF(Arkusz1!F$9=1,Arkusz1!F102+Arkusz1!G102,\"\")","v":""},{"$f":"IF(Arkusz1!F$9=1,Arkusz1!G102,\"\")","v":""},{"$f":"IF(Arkusz1!H$9=1,Arkusz1!H102+Arkusz1!I102,\"\")","v":""},{"$f":"IF(Arkusz1!H$9=1,Arkusz1!I102,\"\")","v":""},{"$f":"IF(Arkusz1!J$9=1,Arkusz1!J102+Arkusz1!K102,\"\")","v":""},{"$f":"IF(Arkusz1!J$9=1,Arkusz1!K102,\"\")","v":""},{"$f":"IF(Arkusz1!L$9=1,Arkusz1!L102+Arkusz1!M102,\"\")","v":""},{"$f":"IF(Arkusz1!L$9=1,Arkusz1!M102,\"\")","v":""},{"$f":"Arkusz1!O102+Arkusz1!P102","v":9.0832393713221293},{"$f":"Arkusz1!P102","v":-10.954120779461096}]
[{"$f":"Arkusz1!A103","v":115},{"$f":"IF(Arkusz1!B$9=1,Arkusz1!B103+Arkusz1!C103,\"\")","v":-3.3078325791342573},{"$f":"IF(Arkusz1!B$9=1,Arkusz1!C103,\"\")","v":-6.4126817121553126},{"$f":"IF(Arkusz1!D$9=1,Arkusz1!D103+Arkusz1!E103,\"\")","v":13.134740517595777},{"$f":"IF(Arkusz1!D$9=1,Arkusz1!E103,\"\")","v":-4.0414390673057845},{"$f":"IF(Arkusz1!F$9=1,Arkusz1!F103+Arkusz1!G103,\"\")","v":""},{"$f":"IF(Arkusz1!F$9=1,Arkusz1!G103,\"\")","v":""},{"$f":"IF(Arkusz1!H$9=1,Arkusz1!H103+Arkusz1!I103,\"\")","v":""},{"$f":"IF(Arkusz1!H$9=1,Arkusz1!I103,\"\")","v":""},{"$f":"IF(Arkusz1!J$9=1,Arkusz1!J103+Arkusz1!K103,\"\")","v":""},{"$f":"IF(Arkusz1!J$9=1,Arkusz1!K103,\"\")","v":""},{"$f":"IF(Arkusz1!L$9=1,Arkusz1!L103+Arkusz1!M103,\"\")","v":""},{"$f":"IF(Arkusz1!L$9=1,Arkusz1!M103,\"\")","v":""},{"$f":"Arkusz1!O103+Arkusz1!P103","v":9.8269079384615203},{"$f":"Arkusz1!P103","v":-10.454120779461096}]
[{"$f":"Arkusz1!A104","v":115.5},{"$f":"IF(Arkusz1!B$9=1,Arkusz1!B104+Arkusz1!C104,\"\")","v":-3.3823051381095945},{"$f":"IF(Arkusz1!B$9=1,Arkusz1!C104,\"\")","v":-6.4126817121553126},{"$f":"IF(Arkusz1!D$9=1,Arkusz1!D104+Arkusz1!E104,\"\")","v":13.957280681561752},{"$f":"IF(Arkusz1!D$9=1,Arkusz1!E104,\"\")","v":-3.5414390673057845},{"$f":"IF(Arkusz1!F$9=1,Arkusz1!F104+Arkusz1!G104,\"\")","v":""},{"$f":"IF(Arkusz1!F$9=1,Arkusz1!G104,\"\")","v":""},{"$f":"IF(Arkusz1!H$9=1,Arkusz1!H104+Arkusz1!I104,\"\")","v":""},{"$f":"IF(Arkusz1!H$9=1,Arkusz1!I104,\"\")","v":""},{"$f":"IF(Arkusz1!J$9=1,Arkusz1!J104+Arkusz1!K104,\"\")","v":""},{"$f":"IF(Arkusz1!J$9=1,Arkusz1!K104,\"\")","v":""},{"$f":"IF(Arkusz1!L$9=1,Arkusz1!L104+Arkusz1!M104,\"\")","v":""},{"$f":"IF(Arkusz1!L$9=1,Arkusz1!M104,\"\")","v":""},{"$f":"Arkusz1!O104+Arkusz1!P104","v":10.574975543452158},{"$f":"Arkusz1!P104","v":-9.9541207794610962}]
[{"$f":"Arkusz1!A105","v":116},{"$f":"IF(Arkusz1!B$9=1,Arkusz1!B105+Arkusz1!C105,\"\")","v":-3.4551159305060226},{"$f":"IF(Arkusz1!B$9=1,Arkusz1!C105,\"\")","v":-6.4126817121553126},{"$f":"IF(Arkusz1!D$9=1,Arkusz1!D105+Arkusz1!E105,\"\")","v":14.7824994190828},{"$f":"IF(Arkusz1!D$9=1,Arkusz1!E105,\"\")","v":-3.0414390673057845},{"$f":"IF(Arkusz1!F$9=1,Arkusz1!F105+Arkusz1!G105,\"\")","v":""},{"$f":"IF(Arkusz1!F$9=1,Arkusz1!G105,\"\")","v":""},{"$f":"IF(Arkusz1!H$9=1,Arkusz1!H105+Arkusz1!I105,\"\")","v":""},{"$f":"IF(Arkusz1!H$9=1,Arkusz1!I105,\"\")","v":""},{"$f":"IF(Arkusz1!J$9=1,Arkusz1!J105+Arkusz1!K105,\"\")","v":""},{"$f":"IF(Arkusz1!J$9=1,Arkusz1!K105,\"\")","v":""},{"$f":"IF(Arkusz1!L$9=1,Arkusz1!L105+Arkusz1!M105,\"\")","v":""},{"$f":"IF(Arkusz1!L$9=1,Arkusz1!M105,\"\")","v":""},{"$f":"Arkusz1!O105+Arkusz1!P105","v":11.327383488576778},{"$f":"Arkusz1!P105","v":-9.4541207794610962}]
[{"$f":"Arkusz1!A106","v":116.5},{"$f":"IF(Arkusz1!B$9=1,Arkusz1!B106+Arkusz1!C106,\"\")","v":-3.5262970724558409},{"$f":"IF(Arkusz1!B$9=1,Arkusz1!C106,\"\")","v":-6.4126817121553126},{"$f":"IF(Arkusz1!D$9=1,Arkusz1!D106+Arkusz1!E106,\"\")","v":15.610370384592787},{"$f":"IF(Arkusz1!D$9=1,Arkusz1!E106,\"\")","v":-2.5414390673057845},{"$f":"IF(Arkusz1!F$9=1,Arkusz1!F106+Arkusz1!G106,\"\")","v":""},{"$f":"IF(Arkusz1!F$9=1,Arkusz1!G106,\"\")","v":""},{"$f":"IF(Arkusz1!H$9=1,Arkusz1!H106+Arkusz1!I106,\"\")","v":""},{"$f":"IF(Arkusz1!H$9=1,Arkusz1!I106,\"\")","v":""},{"$f":"IF(Arkusz1!J$9=1,Arkusz1!J106+Arkusz1!K106,\"\")","v":""},{"$f":"IF(Arkusz1!J$9=1,Arkusz1!K106,\"\")","v":""},{"$f":"IF(Arkusz1!L$9=1,Arkusz1!L106+Arkusz1!M106,\"\")","v":""},{"$f":"IF(Arkusz1!L$9=1,Arkusz1!M106,\"\")","v":""},{"$f":"Arkusz1!O106+Arkusz1!P106","v":12.084073312136947},{"$f":"Arkusz1!P106","v":-8.9541207794610962}]
[{"$f":"Arkusz1!A107","v":117},{"$f":"IF(Arkusz1!B$9=1,Arkusz1!B107+Arkusz1!C107,\"\")","v":-3.5958802544534345},{"$f":"IF(Arkusz1!B$9=1,Arkusz1!C107,\"\")","v":-6.4126817121553126},{"$f":"IF(Arkusz1!D$9=1,Arkusz1!D107+Arkusz1!E107,\"\")","v":16.440867062368515},{"$f":"IF(Arkusz1!D$9=1,Arkusz1!E107,\"\")","v":-2.0414390673057845},{"$f":"IF(Arkusz1!F$9=1,Arkusz1!F107+Arkusz1!G107,\"\")","v":""},{"$f":"IF(Arkusz1!F$9=1,Arkusz1!G107,\"\")","v":""},{"$f":"IF(Arkusz1!H$9=1,Arkusz1!H107+Arkusz1!I107,\"\")","v":""},{"$f":"IF(Arkusz1!H$9=1,Arkusz1!I107,\"\")","v":""},{"$f":"IF(Arkusz1!J$9=1,Arkusz1!J107+Arkusz1!K107,\"\")","v":""},{"$f":"IF(Arkusz1!J$9=1,Arkusz1!K107,\"\")","v":""},{"$f":"IF(Arkusz1!L$9=1,Arkusz1!L107+Arkusz1!M107,\"\")","v":""},{"$f":"IF(Arkusz1!L$9=1,Arkusz1!M107,\"\")","v":""},{"$f":"Arkusz1!O107+Arkusz1!P107","v":12.844986807915081},{"$f":"Arkusz1!P107","v":-8.4541207794610962}]
[{"$f":"Arkusz1!A108","v":117.5},{"$f":"IF(Arkusz1!B$9=1,Arkusz1!B108+Arkusz1!C108,\"\")","v":-3.6638967389546453},{"$f":"IF(Arkusz1!B$9=1,Arkusz1!C108,\"\")","v":-6.4126817121553126},{"$f":"IF(Arkusz1!D$9=1,Arkusz1!D108+Arkusz1!E108,\"\")","v":17.273962782783517},{"$f":"IF(Arkusz1!D$9=1,Arkusz1!E108,\"\")","v":-1.5414390673057845},{"$f":"IF(Arkusz1!F$9=1,Arkusz1!F108+Arkusz1!G108,\"\")","v":""},{"$f":"IF(Arkusz1!F$9=1,Arkusz1!G108,\"\")","v":""},{"$f":"IF(Arkusz1!H$9=1,Arkusz1!H108+Arkusz1!I108,\"\")","v":""},{"$f":"IF(Arkusz1!H$9=1,Arkusz1!I108,\"\")","v":""},{"$f":"IF(Arkusz1!J$9=1,Arkusz1!J108+Arkusz1!K108,\"\")","v":""},{"$f":"IF(Arkusz1!J$9=1,Arkusz1!K108,\"\")","v":""},{"$f":"IF(Arkusz1!L$9=1,Arkusz1!L108+Arkusz1!M108,\"\")","v":""},{"$f":"IF(Arkusz1!L$9=1,Arkusz1!M108,\"\")","v":""},{"$f":"Arkusz1!O108+Arkusz1!P108","v":13.610066043828873},{"$f":"Arkusz1!P108","v":-7.9541207794610971}]
[{"$f":"Arkusz1!A109","v":118},{"$f":"IF(Arkusz1!B$9=1,Arkusz1!B109+Arkusz1!C109,\"\")","v":-3.7303773584053159},{"$f":"IF(Arkusz1!B$9=1,Arkusz1!C109,\"\")","v":-6.4126817121553126},{"$f":"IF(Arkusz1!D$9=1,Arkusz1!D109+Arkusz1!E109,\"\")","v":18.109630738196625},{"$f":"IF(Arkusz1!D$9=1,Arkusz1!E109,\"\")","v":-1.0414390673057845},{"$f":"IF(Arkusz1!F$9=1,Arkusz1!F109+Arkusz1!G109,\"\")","v":""},{"$f":"IF(Arkusz1!F$9=1,Arkusz1!G109,\"\")","v":""},{"$f":"IF(Arkusz1!H$9=1,Arkusz1!H109+Arkusz1!I109,\"\")","v":""},{"$f":"IF(Arkusz1!H$9=1,Arkusz1!I109,\"\")","v":""},{"$f":"IF(Arkusz1!J$9=1,Arkusz1!J109+Arkusz1!K109,\"\")","v":""},{"$f":"IF(Arkusz1!J$9=1,Arkusz1!K109,\"\")","v":""},{"$f":"IF(Arkusz1!L$9=1,Arkusz1!L109+Arkusz1!M109,\"\")","v":""},{"$f":"IF(Arkusz1!L$9=1,Arkusz1!M109,\"\")","v":""},{"$f":"Arkusz1!O109+Arkusz1!P109","v":14.379253379791312},{"$f":"Arkusz1!P109","v":-7.4541207794610971}]
[{"$f":"Arkusz1!A110","v":118.5},{"$f":"IF(Arkusz1!B$9=1,Arkusz1!B110+Arkusz1!C110,\"\")","v":-3.7953525136816006},{"$f":"IF(Arkusz1!B$9=1,Arkusz1!C110,\"\")","v":-6.4126817121553126},{"$f":"IF(Arkusz1!D$9=1,Arkusz1!D110+Arkusz1!E110,\"\")","v":18.947843998473079},{"$f":"IF(Arkusz1!D$9=1,Arkusz1!E110,\"\")","v":-0.5414390673057845},{"$f":"IF(Arkusz1!F$9=1,Arkusz1!F110+Arkusz1!G110,\"\")","v":""},{"$f":"IF(Arkusz1!F$9=1,Arkusz1!G110,\"\")","v":""},{"$f":"IF(Arkusz1!H$9=1,Arkusz1!H110+Arkusz1!I110,\"\")","v":""},{"$f":"IF(Arkusz1!H$9=1,Arkusz1!I110,\"\")","v":""},{"$f":"IF(Arkusz1!J$9=1,Arkusz1!J110+Arkusz1!K110,\"\")","v":""},{"$f":"IF(Arkusz1!J$9=1,Arkusz1!K110,\"\")","v":""},{"$f":"IF(Arkusz1!L$9=1,Arkusz1!L110+Arkusz1!M110,\"\")","v":""},{"$f":"IF(Arkusz1!L$9=1,Arkusz1!M110,\"\")","v":""},{"$f":"Arkusz1!O110+Arkusz1!P110","v":15.152491484791479},{"$f":"Arkusz1!P110","v":-6.9541207794610971}]
[{"$f":"Arkusz1!A111","v":119},{"$f":"IF(Arkusz1!B$9=1,Arkusz1!B111+Arkusz1!C111,\"\")","v":-3.8588521729248138},{"$f":"IF(Arkusz1!B$9=1,Arkusz1!C111,\"\")","v":-6.4126817121553126},{"$f":"IF(Arkusz1!D$9=1,Arkusz1!D111+Arkusz1!E111,\"\")","v":19.788575526135656},{"$f":"IF(Arkusz1!D$9=1,Arkusz1!E111,\"\")","v":-4.1439067305784505E-2},{"$f":"IF(Arkusz1!F$9=1,Arkusz1!F111+Arkusz1!G111,\"\")","v":""},{"$f":"IF(Arkusz1!F$9=1,Arkusz1!G111,\"\")","v":""},{"$f":"IF(Arkusz1!H$9=1,Arkusz1!H111+Arkusz1!I111,\"\")","v":""},{"$f":"IF(Arkusz1!H$9=1,Arkusz1!I111,\"\")","v":""},{"$f":"IF(Arkusz1!J$9=1,Arkusz1!J111+Arkusz1!K111,\"\")","v":""},{"$f":"IF(Arkusz1!J$9=1,Arkusz1!K111,\"\")","v":""},{"$f":"IF(Arkusz1!L$9=1,Arkusz1!L111+Arkusz1!M111,\"\")","v":""},{"$f":"IF(Arkusz1!L$9=1,Arkusz1!M111,\"\")","v":""},{"$f":"Arkusz1!O111+Arkusz1!P111","v":15.929723353210843},{"$f":"Arkusz1!P111","v":-6.4541207794610971}]
[{"$f":"Arkusz1!A112","v":119.5},{"$f":"IF(Arkusz1!B$9=1,Arkusz1!B112+Arkusz1!C112,\"\")","v":-3.9209058707548659},{"$f":"IF(Arkusz1!B$9=1,Arkusz1!C112,\"\")","v":-6.4126817121553126},{"$f":"IF(Arkusz1!D$9=1,Arkusz1!D112+Arkusz1!E112,\"\")","v":20.63179819114475},{"$f":"IF(Arkusz1!D$9=1,Arkusz1!E112,\"\")","v":0.4585609326942155},{"$f":"IF(Arkusz1!F$9=1,Arkusz1!F112+Arkusz1!G112,\"\")","v":""},{"$f":"IF(Arkusz1!F$9=1,Arkusz1!G112,\"\")","v":""},{"$f":"IF(Arkusz1!H$9=1,Arkusz1!H112+Arkusz1!I112,\"\")","v":""},{"$f":"IF(Arkusz1!H$9=1,Arkusz1!I112,\"\")","v":""},{"$f":"IF(Arkusz1!J$9=1,Arkusz1!J112+Arkusz1!K112,\"\")","v":""},{"$f":"IF(Arkusz1!J$9=1,Arkusz1!K112,\"\")","v":""},{"$f":"IF(Arkusz1!L$9=1,Arkusz1!L112+Arkusz1!M112,\"\")","v":""},{"$f":"IF(Arkusz1!L$9=1,Arkusz1!M112,\"\")","v":""},{"$f":"Arkusz1!O112+Arkusz1!P112","v":16.710892320389885},{"$f":"Arkusz1!P112","v":-5.9541207794610971}]
[{"$f":"Arkusz1!A113","v":120},{"$f":"IF(Arkusz1!B$9=1,Arkusz1!B113+Arkusz1!C113,\"\")","v":-3.9815427078453576},{"$f":"IF(Arkusz1!B$9=1,Arkusz1!C113,\"\")","v":-6.4126817121553126},{"$f":"IF(Arkusz1!D$9=1,Arkusz1!D113+Arkusz1!E113,\"\")","v":21.477484785306043},{"$f":"IF(Arkusz1!D$9=1,Arkusz1!E113,\"\")","v":0.9585609326942155},{"$f":"IF(Arkusz1!F$9=1,Arkusz1!F113+Arkusz1!G113,\"\")","v":""},{"$f":"IF(Arkusz1!F$9=1,Arkusz1!G113,\"\")","v":""},{"$f":"IF(Arkusz1!H$9=1,Arkusz1!H113+Arkusz1!I113,\"\")","v":""},{"$f":"IF(Arkusz1!H$9=1,Arkusz1!I113,\"\")","v":""},{"$f":"IF(Arkusz1!J$9=1,Arkusz1!J113+Arkusz1!K113,\"\")","v":""},{"$f":"IF(Arkusz1!J$9=1,Arkusz1!K113,\"\")","v":""},{"$f":"IF(Arkusz1!L$9=1,Arkusz1!L113+Arkusz1!M113,\"\")","v":""},{"$f":"IF(Arkusz1!L$9=1,Arkusz1!M113,\"\")","v":""},{"$f":"Arkusz1!O113+Arkusz1!P113","v":17.495942077460686},{"$f":"Arkusz1!P113","v":-5.4541207794610971}]
[{"$f":"Arkusz1!A114","v":120.5},{"$f":"IF(Arkusz1!B$9=1,Arkusz1!B114+Arkusz1!C114,\"\")","v":-4.0407913508450166},{"$f":"IF(Arkusz1!B$9=1,Arkusz1!C114,\"\")","v":-6.4126817121553126},{"$f":"IF(Arkusz1!D$9=1,Arkusz1!D114+Arkusz1!E114,\"\")","v":22.325608036305528},{"$f":"IF(Arkusz1!D$9=1,Arkusz1!E114,\"\")","v":1.4585609326942155},{"$f":"IF(Arkusz1!F$9=1,Arkusz1!F114+Arkusz1!G114,\"\")","v":""},{"$f":"IF(Arkusz1!F$9=1,Arkusz1!G114,\"\")","v":""},{"$f":"IF(Arkusz1!H$9=1,Arkusz1!H114+Arkusz1!I114,\"\")","v":""},{"$f":"IF(Arkusz1!H$9=1,Arkusz1!I114,\"\")","v":""},{"$f":"IF(Arkusz1!J$9=1,Arkusz1!J114+Arkusz1!K114,\"\")","v":""},{"$f":"IF(Arkusz1!J$9=1,Arkusz1!K114,\"\")","v":""},{"$f":"IF(Arkusz1!L$9=1,Arkusz1!L114+Arkusz1!M114,\"\")","v":""},{"$f":"IF(Arkusz1!L$9=1,Arkusz1!M114,\"\")","v":""},{"$f":"Arkusz1!O114+Arkusz1!P114","v":18.284816685460513},{"$f":"Arkusz1!P114","v":-4.9541207794610971}]
[{"$f":"Arkusz1!A115","v":121},{"$f":"IF(Arkusz1!B$9=1,Arkusz1!B115+Arkusz1!C115,\"\")","v":-4.0986800326295691},{"$f":"IF(Arkusz1!B$9=1,Arkusz1!C115,\"\")","v":-6.4126817121553126},{"$f":"IF(Arkusz1!D$9=1,Arkusz1!D115+Arkusz1!E115,\"\")","v":23.176140621371754},{"$f":"IF(Arkusz1!D$9=1,Arkusz1!E115,\"\")","v":1.9585609326942155},{"$f":"IF(Arkusz1!F$9=1,Arkusz1!F115+Arkusz1!G115,\"\")","v":""},{"$f":"IF(Arkusz1!F$9=1,Arkusz1!G115,\"\")","v":""},{"$f":"IF(Arkusz1!H$9=1,Arkusz1!H115+Arkusz1!I115,\"\")","v":""},{"$f":"IF(Arkusz1!H$9=1,Arkusz1!I115,\"\")","v":""},{"$f":"IF(Arkusz1!J$9=1,Arkusz1!J115+Arkusz1!K115,\"\")","v":""},{"$f":"IF(Arkusz1!J$9=1,Arkusz1!K115,\"\")","v":""},{"$f":"IF(Arkusz1!L$9=1,Arkusz1!L115+Arkusz1!M115,\"\")","v":""},{"$f":"IF(Arkusz1!L$9=1,Arkusz1!M115,\"\")","v":""},{"$f":"Arkusz1!O115+Arkusz1!P115","v":19.077460588742188},{"$f":"Arkusz1!P115","v":-4.4541207794610971}]
[{"$f":"Arkusz1!A116","v":121.5},{"$f":"IF(Arkusz1!B$9=1,Arkusz1!B116+Arkusz1!C116,\"\")","v":-4.1552365528690158},{"$f":"IF(Arkusz1!B$9=1,Arkusz1!C116,\"\")","v":-6.4126817121553126},{"$f":"IF(Arkusz1!D$9=1,Arkusz1!D116+Arkusz1!E116,\"\")","v":24.02905518056561},{"$f":"IF(Arkusz1!D$9=1,Arkusz1!E116,\"\")","v":2.4585609326942155},{"$f":"IF(Arkusz1!F$9=1,Arkusz1!F116+Arkusz1!G116,\"\")","v":""},{"$f":"IF(Arkusz1!F$9=1,Arkusz1!G116,\"\")","v":""},{"$f":"IF(Arkusz1!H$9=1,Arkusz1!H116+Arkusz1!I116,\"\")","v":""},{"$f":"IF(Arkusz1!H$9=1,Arkusz1!I116,\"\")","v":""},{"$f":"IF(Arkusz1!J$9=1,Arkusz1!J116+Arkusz1!K116,\"\")","v":""},{"$f":"IF(Arkusz1!J$9=1,Arkusz1!K116,\"\")","v":""},{"$f":"IF(Arkusz1!L$9=1,Arkusz1!L116+Arkusz1!M116,\"\")","v":""},{"$f":"IF(Arkusz1!L$9=1,Arkusz1!M116,\"\")","v":""},{"$f":"Arkusz1!O116+Arkusz1!P116","v":19.873818627696597},{"$f":"Arkusz1!P116","v":-3.9541207794610971}]
[{"$f":"Arkusz1!A117","v":122},{"$f":"IF(Arkusz1!B$9=1,Arkusz1!B117+Arkusz1!C117,\"\")","v":-4.2104882788954159},{"$f":"IF(Arkusz1!B$9=1,Arkusz1!C117,\"\")","v":-6.4126817121553126},{"$f":"IF(Arkusz1!D$9=1,Arkusz1!D117+Arkusz1!E117,\"\")","v":24.884324329698959},{"$f":"IF(Arkusz1!D$9=1,Arkusz1!E117,\"\")","v":2.9585609326942155},{"$f":"IF(Arkusz1!F$9=1,Arkusz1!F117+Arkusz1!G117,\"\")","v":""},{"$f":"IF(Arkusz1!F$9=1,Arkusz1!G117,\"\")","v":""},{"$f":"IF(Arkusz1!H$9=1,Arkusz1!H117+Arkusz1!I117,\"\")","v":""},{"$f":"IF(Arkusz1!H$9=1,Arkusz1!I117,\"\")","v":""},{"$f":"IF(Arkusz1!J$9=1,Arkusz1!J117+Arkusz1!K117,\"\")","v":""},{"$f":"IF(Arkusz1!J$9=1,Arkusz1!K117,\"\")","v":""},{"$f":"IF(Arkusz1!L$9=1,Arkusz1!L117+Arkusz1!M117,\"\")","v":""},{"$f":"IF(Arkusz1!L$9=1,Arkusz1!M117,\"\")","v":""},{"$f":"Arkusz1!O117+Arkusz1!P117","v":20.673836050803544},{"$f":"Arkusz1!P117","v":-3.4541207794610971}]
[{"$f":"Arkusz1!A118","v":122.5},{"$f":"IF(Arkusz1!B$9=1,Arkusz1!B118+Arkusz1!C118,\"\")","v":-4.2644621468568031},{"$f":"IF(Arkusz1!B$9=1,Arkusz1!C118,\"\")","v":-6.4126817121553126},{"$f":"IF(Arkusz1!D$9=1,Arkusz1!D118+Arkusz1!E118,\"\")","v":25.741920672882873},{"$f":"IF(Arkusz1!D$9=1,Arkusz1!E118,\"\")","v":3.4585609326942155},{"$f":"IF(Arkusz1!F$9=1,Arkusz1!F118+Arkusz1!G118,\"\")","v":""},{"$f":"IF(Arkusz1!F$9=1,Arkusz1!G118,\"\")","v":""},{"$f":"IF(Arkusz1!H$9=1,Arkusz1!H118+Arkusz1!I118,\"\")","v":""},{"$f":"IF(Arkusz1!H$9=1,Arkusz1!I118,\"\")","v":""},{"$f":"IF(Arkusz1!J$9=1,Arkusz1!J118+Arkusz1!K118,\"\")","v":""},{"$f":"IF(Arkusz1!J$9=1,Arkusz1!K118,\"\")","v":""},{"$f":"IF(Arkusz1!L$9=1,Arkusz1!L118+Arkusz1!M118,\"\")","v":""},{"$f":"IF(Arkusz1!L$9=1,Arkusz1!M118,\"\")","v":""},{"$f":"Arkusz1!O118+Arkusz1!P118","v":21.477458526026073},{"$f":"Arkusz1!P118","v":-2.9541207794610971}]
[{"$f":"Arkusz1!A119","v":123},{"$f":"IF(Arkusz1!B$9=1,Arkusz1!B119+Arkusz1!C119,\"\")","v":-4.3171846631429736},{"$f":"IF(Arkusz1!B$9=1,Arkusz1!C119,\"\")","v":-6.4126817121553126},{"$f":"IF(Arkusz1!D$9=1,Arkusz1!D119+Arkusz1!E119,\"\")","v":26.60181681470765},{"$f":"IF(Arkusz1!D$9=1,Arkusz1!E119,\"\")","v":3.9585609326942155},{"$f":"IF(Arkusz1!F$9=1,Arkusz1!F119+Arkusz1!G119,\"\")","v":""},{"$f":"IF(Arkusz1!F$9=1,Arkusz1!G119,\"\")","v":""},{"$f":"IF(Arkusz1!H$9=1,Arkusz1!H119+Arkusz1!I119,\"\")","v":""},{"$f":"IF(Arkusz1!H$9=1,Arkusz1!I119,\"\")","v":""},{"$f":"IF(Arkusz1!J$9=1,Arkusz1!J119+Arkusz1!K119,\"\")","v":""},{"$f":"IF(Arkusz1!J$9=1,Arkusz1!K119,\"\")","v":""},{"$f":"IF(Arkusz1!L$9=1,Arkusz1!L119+Arkusz1!M119,\"\")","v":""},{"$f":"IF(Arkusz1!L$9=1,Arkusz1!M119,\"\")","v":""},{"$f":"Arkusz1!O119+Arkusz1!P119","v":22.284632151564676},{"$f":"Arkusz1!P119","v":-2.4541207794610971}]
[{"$f":"Arkusz1!A120","v":123.5},{"$f":"IF(Arkusz1!B$9=1,Arkusz1!B120+Arkusz1!C120,\"\")","v":-4.3686819060698037},{"$f":"IF(Arkusz1!B$9=1,Arkusz1!C120,\"\")","v":-6.4126817121553126},{"$f":"IF(Arkusz1!D$9=1,Arkusz1!D120+Arkusz1!E120,\"\")","v":27.463985372056047},{"$f":"IF(Arkusz1!D$9=1,Arkusz1!E120,\"\")","v":4.4585609326942155},{"$f":"IF(Arkusz1!F$9=1,Arkusz1!F120+Arkusz1!G120,\"\")","v":""},{"$f":"IF(Arkusz1!F$9=1,Arkusz1!G120,\"\")","v":""},{"$f":"IF(Arkusz1!H$9=1,Arkusz1!H120+Arkusz1!I120,\"\")","v":""},{"$f":"IF(Arkusz1!H$9=1,Arkusz1!I120,\"\")","v":""},{"$f":"IF(Arkusz1!J$9=1,Arkusz1!J120+Arkusz1!K120,\"\")","v":""},{"$f":"IF(Arkusz1!J$9=1,Arkusz1!K120,\"\")","v":""},{"$f":"IF(Arkusz1!L$9=1,Arkusz1!L120+Arkusz1!M120,\"\")","v":""},{"$f":"IF(Arkusz1!L$9=1,Arkusz1!M120,\"\")","v":""},{"$f":"Arkusz1!O120+Arkusz1!P120","v":23.095303465986245},{"$f":"Arkusz1!P120","v":-1.9541207794610971}]
[{"$f":"Arkusz1!A121","v":124},{"$f":"IF(Arkusz1!B$9=1,Arkusz1!B121+Arkusz1!C121,\"\")","v":-4.4189795278080917},{"$f":"IF(Arkusz1!B$9=1,Arkusz1!C121,\"\")","v":-6.4126817121553126},{"$f":"IF(Arkusz1!D$9=1,Arkusz1!D121+Arkusz1!E121,\"\")","v":28.328398985553154},{"$f":"IF(Arkusz1!D$9=1,Arkusz1!E121,\"\")","v":4.9585609326942155},{"$f":"IF(Arkusz1!F$9=1,Arkusz1!F121+Arkusz1!G121,\"\")","v":""},{"$f":"IF(Arkusz1!F$9=1,Arkusz1!G121,\"\")","v":""},{"$f":"IF(Arkusz1!H$9=1,Arkusz1!H121+Arkusz1!I121,\"\")","v":""},{"$f":"IF(Arkusz1!H$9=1,Arkusz1!I121,\"\")","v":""},{"$f":"IF(Arkusz1!J$9=1,Arkusz1!J121+Arkusz1!K121,\"\")","v":""},{"$f":"IF(Arkusz1!J$9=1,Arkusz1!K121,\"\")","v":""},{"$f":"IF(Arkusz1!L$9=1,Arkusz1!L121+Arkusz1!M121,\"\")","v":""},{"$f":"IF(Arkusz1!L$9=1,Arkusz1!M121,\"\")","v":""},{"$f":"Arkusz1!O121+Arkusz1!P121","v":23.909419457745063},{"$f":"Arkusz1!P121","v":-1.4541207794610971}]
[{"$f":"Arkusz1!A122","v":124.5},{"$f":"IF(Arkusz1!B$9=1,Arkusz1!B122+Arkusz1!C122,\"\")","v":-4.4681027565447726},{"$f":"IF(Arkusz1!B$9=1,Arkusz1!C122,\"\")","v":-6.4126817121553126},{"$f":"IF(Arkusz1!D$9=1,Arkusz1!D122+Arkusz1!E122,\"\")","v":29.195030330654294},{"$f":"IF(Arkusz1!D$9=1,Arkusz1!E122,\"\")","v":5.4585609326942155},{"$f":"IF(Arkusz1!F$9=1,Arkusz1!F122+Arkusz1!G122,\"\")","v":""},{"$f":"IF(Arkusz1!F$9=1,Arkusz1!G122,\"\")","v":""},{"$f":"IF(Arkusz1!H$9=1,Arkusz1!H122+Arkusz1!I122,\"\")","v":""},{"$f":"IF(Arkusz1!H$9=1,Arkusz1!I122,\"\")","v":""},{"$f":"IF(Arkusz1!J$9=1,Arkusz1!J122+Arkusz1!K122,\"\")","v":""},{"$f":"IF(Arkusz1!J$9=1,Arkusz1!K122,\"\")","v":""},{"$f":"IF(Arkusz1!L$9=1,Arkusz1!L122+Arkusz1!M122,\"\")","v":""},{"$f":"IF(Arkusz1!L$9=1,Arkusz1!M122,\"\")","v":""},{"$f":"Arkusz1!O122+Arkusz1!P122","v":24.726927574109521},{"$f":"Arkusz1!P122","v":-0.95412077946109708}]
[{"$f":"Arkusz1!A123","v":125},{"$f":"IF(Arkusz1!B$9=1,Arkusz1!B123+Arkusz1!C123,\"\")","v":-4.5160763988632207},{"$f":"IF(Arkusz1!B$9=1,Arkusz1!C123,\"\")","v":-6.4126817121553126},{"$f":"IF(Arkusz1!D$9=1,Arkusz1!D123+Arkusz1!E123,\"\")","v":30.063852128375192},{"$f":"IF(Arkusz1!D$9=1,Arkusz1!E123,\"\")","v":5.9585609326942155},{"$f":"IF(Arkusz1!F$9=1,Arkusz1!F123+Arkusz1!G123,\"\")","v":""},{"$f":"IF(Arkusz1!F$9=1,Arkusz1!G123,\"\")","v":""},{"$f":"IF(Arkusz1!H$9=1,Arkusz1!H123+Arkusz1!I123,\"\")","v":""},{"$f":"IF(Arkusz1!H$9=1,Arkusz1!I123,\"\")","v":""},{"$f":"IF(Arkusz1!J$9=1,Arkusz1!J123+Arkusz1!K123,\"\")","v":""},{"$f":"IF(Arkusz1!J$9=1,Arkusz1!K123,\"\")","v":""},{"$f":"IF(Arkusz1!L$9=1,Arkusz1!L123+Arkusz1!M123,\"\")","v":""},{"$f":"IF(Arkusz1!L$9=1,Arkusz1!M123,\"\")","v":""},{"$f":"Arkusz1!O123+Arkusz1!P123","v":25.547775729511972},{"$f":"Arkusz1!P123","v":-0.45412077946109708}]
[{"$f":"Arkusz1!A124","v":125.5},{"$f":"IF(Arkusz1!B$9=1,Arkusz1!B124+Arkusz1!C124,\"\")","v":-4.5629248423304771},{"$f":"IF(Arkusz1!B$9=1,Arkusz1!C124,\"\")","v":-6.4126817121553126},{"$f":"IF(Arkusz1!D$9=1,Arkusz1!D124+Arkusz1!E124,\"\")","v":30.9348371556671},{"$f":"IF(Arkusz1!D$9=1,Arkusz1!E124,\"\")","v":6.4585609326942155},{"$f":"IF(Arkusz1!F$9=1,Arkusz1!F124+Arkusz1!G124,\"\")","v":""},{"$f":"IF(Arkusz1!F$9=1,Arkusz1!G124,\"\")","v":""},{"$f":"IF(Arkusz1!H$9=1,Arkusz1!H124+Arkusz1!I124,\"\")","v":""},{"$f":"IF(Arkusz1!H$9=1,Arkusz1!I124,\"\")","v":""},{"$f":"IF(Arkusz1!J$9=1,Arkusz1!J124+Arkusz1!K124,\"\")","v":""},{"$f":"IF(Arkusz1!J$9=1,Arkusz1!K124,\"\")","v":""},{"$f":"IF(Arkusz1!L$9=1,Arkusz1!L124+Arkusz1!M124,\"\")","v":""},{"$f":"IF(Arkusz1!L$9=1,Arkusz1!M124,\"\")","v":""},{"$f":"Arkusz1!O124+Arkusz1!P124","v":26.371912313336626},{"$f":"Arkusz1!P124","v":4.5879220538902921E-2}]
[{"$f":"Arkusz1!A125","v":126},{"$f":"IF(Arkusz1!B$9=1,Arkusz1!B125+Arkusz1!C125,\"\")","v":-4.6086720582801375},{"$f":"IF(Arkusz1!B$9=1,Arkusz1!C125,\"\")","v":-6.4126817121553126},{"$f":"IF(Arkusz1!D$9=1,Arkusz1!D125+Arkusz1!E125,\"\")","v":31.807958255440514},{"$f":"IF(Arkusz1!D$9=1,Arkusz1!E125,\"\")","v":6.9585609326942155},{"$f":"IF(Arkusz1!F$9=1,Arkusz1!F125+Arkusz1!G125,\"\")","v":""},{"$f":"IF(Arkusz1!F$9=1,Arkusz1!G125,\"\")","v":""},{"$f":"IF(Arkusz1!H$9=1,Arkusz1!H125+Arkusz1!I125,\"\")","v":""},{"$f":"IF(Arkusz1!H$9=1,Arkusz1!I125,\"\")","v":""},{"$f":"IF(Arkusz1!J$9=1,Arkusz1!J125+Arkusz1!K125,\"\")","v":""},{"$f":"IF(Arkusz1!J$9=1,Arkusz1!K125,\"\")","v":""},{"$f":"IF(Arkusz1!L$9=1,Arkusz1!L125+Arkusz1!M125,\"\")","v":""},{"$f":"IF(Arkusz1!L$9=1,Arkusz1!M125,\"\")","v":""},{"$f":"Arkusz1!O125+Arkusz1!P125","v":27.199286197160379},{"$f":"Arkusz1!P125","v":0.54587922053890292}]
[{"$f":"Arkusz1!A126","v":126.5},{"$f":"IF(Arkusz1!B$9=1,Arkusz1!B126+Arkusz1!C126,\"\")","v":-4.6533416047785137},{"$f":"IF(Arkusz1!B$9=1,Arkusz1!C126,\"\")","v":-6.4126817121553126},{"$f":"IF(Arkusz1!D$9=1,Arkusz1!D126+Arkusz1!E126,\"\")","v":32.683188346241508},{"$f":"IF(Arkusz1!D$9=1,Arkusz1!E126,\"\")","v":7.4585609326942155},{"$f":"IF(Arkusz1!F$9=1,Arkusz1!F126+Arkusz1!G126,\"\")","v":""},{"$f":"IF(Arkusz1!F$9=1,Arkusz1!G126,\"\")","v":""},{"$f":"IF(Arkusz1!H$9=1,Arkusz1!H126+Arkusz1!I126,\"\")","v":""},{"$f":"IF(Arkusz1!H$9=1,Arkusz1!I126,\"\")","v":""},{"$f":"IF(Arkusz1!J$9=1,Arkusz1!J126+Arkusz1!K126,\"\")","v":""},{"$f":"IF(Arkusz1!J$9=1,Arkusz1!K126,\"\")","v":""},{"$f":"IF(Arkusz1!L$9=1,Arkusz1!L126+Arkusz1!M126,\"\")","v":""},{"$f":"IF(Arkusz1!L$9=1,Arkusz1!M126,\"\")","v":""},{"$f":"Arkusz1!O126+Arkusz1!P126","v":28.029846741463},{"$f":"Arkusz1!P126","v":1.0458792205389029}]
[{"$f":"Arkusz1!A127","v":127},{"$f":"IF(Arkusz1!B$9=1,Arkusz1!B127+Arkusz1!C127,\"\")","v":-4.6969566297634229},{"$f":"IF(Arkusz1!B$9=1,Arkusz1!C127,\"\")","v":-6.4126817121553126},{"$f":"IF(Arkusz1!D$9=1,Arkusz1!D127+Arkusz1!E127,\"\")","v":33.560500431584828},{"$f":"IF(Arkusz1!D$9=1,Arkusz1!E127,\"\")","v":7.9585609326942155},{"$f":"IF(Arkusz1!F$9=1,Arkusz1!F127+Arkusz1!G127,\"\")","v":""},{"$f":"IF(Arkusz1!F$9=1,Arkusz1!G127,\"\")","v":""},{"$f":"IF(Arkusz1!H$9=1,Arkusz1!H127+Arkusz1!I127,\"\")","v":""},{"$f":"IF(Arkusz1!H$9=1,Arkusz1!I127,\"\")","v":""},{"$f":"IF(Arkusz1!J$9=1,Arkusz1!J127+Arkusz1!K127,\"\")","v":""},{"$f":"IF(Arkusz1!J$9=1,Arkusz1!K127,\"\")","v":""},{"$f":"IF(Arkusz1!L$9=1,Arkusz1!L127+Arkusz1!M127,\"\")","v":""},{"$f":"IF(Arkusz1!L$9=1,Arkusz1!M127,\"\")","v":""},{"$f":"Arkusz1!O127+Arkusz1!P127","v":28.863543801821411},{"$f":"Arkusz1!P127","v":1.5458792205389029}]
[{"$f":"Arkusz1!A128","v":127.5},{"$f":"IF(Arkusz1!B$9=1,Arkusz1!B128+Arkusz1!C128,\"\")","v":-4.7395398743449979},{"$f":"IF(Arkusz1!B$9=1,Arkusz1!C128,\"\")","v":-6.4126817121553126},{"$f":"IF(Arkusz1!D$9=1,Arkusz1!D128+Arkusz1!E128,\"\")","v":34.439867608947722},{"$f":"IF(Arkusz1!D$9=1,Arkusz1!E128,\"\")","v":8.4585609326942155},{"$f":"IF(Arkusz1!F$9=1,Arkusz1!F128+Arkusz1!G128,\"\")","v":""},{"$f":"IF(Arkusz1!F$9=1,Arkusz1!G128,\"\")","v":""},{"$f":"IF(Arkusz1!H$9=1,Arkusz1!H128+Arkusz1!I128,\"\")","v":""},{"$f":"IF(Arkusz1!H$9=1,Arkusz1!I128,\"\")","v":""},{"$f":"IF(Arkusz1!J$9=1,Arkusz1!J128+Arkusz1!K128,\"\")","v":""},{"$f":"IF(Arkusz1!J$9=1,Arkusz1!K128,\"\")","v":""},{"$f":"IF(Arkusz1!L$9=1,Arkusz1!L128+Arkusz1!M128,\"\")","v":""},{"$f":"IF(Arkusz1!L$9=1,Arkusz1!M128,\"\")","v":""},{"$f":"Arkusz1!O128+Arkusz1!P128","v":29.700327734602727},{"$f":"Arkusz1!P128","v":2.0458792205389029}]
[{"$f":"Arkusz1!A129","v":128},{"$f":"IF(Arkusz1!B$9=1,Arkusz1!B129+Arkusz1!C129,\"\")","v":-4.7811136762572888},{"$f":"IF(Arkusz1!B$9=1,Arkusz1!C129,\"\")","v":-6.4126817121553126},{"$f":"IF(Arkusz1!D$9=1,Arkusz1!D129+Arkusz1!E129,\"\")","v":35.321263078429212},{"$f":"IF(Arkusz1!D$9=1,Arkusz1!E129,\"\")","v":8.9585609326942155},{"$f":"IF(Arkusz1!F$9=1,Arkusz1!F129+Arkusz1!G129,\"\")","v":""},{"$f":"IF(Arkusz1!F$9=1,Arkusz1!G129,\"\")","v":""},{"$f":"IF(Arkusz1!H$9=1,Arkusz1!H129+Arkusz1!I129,\"\")","v":""},{"$f":"IF(Arkusz1!H$9=1,Arkusz1!I129,\"\")","v":""},{"$f":"IF(Arkusz1!J$9=1,Arkusz1!J129+Arkusz1!K129,\"\")","v":""},{"$f":"IF(Arkusz1!J$9=1,Arkusz1!K129,\"\")","v":""},{"$f":"IF(Arkusz1!L$9=1,Arkusz1!L129+Arkusz1!M129,\"\")","v":""},{"$f":"IF(Arkusz1!L$9=1,Arkusz1!M129,\"\")","v":""},{"$f":"Arkusz1!O129+Arkusz1!P129","v":30.540149402171927},{"$f":"Arkusz1!P129","v":2.5458792205389029}]
[{"$f":"Arkusz1!A130","v":128.5},{"$f":"IF(Arkusz1!B$9=1,Arkusz1!B130+Arkusz1!C130,\"\")","v":-4.8216999734515928},{"$f":"IF(Arkusz1!B$9=1,Arkusz1!C130,\"\")","v":-6.4126817121553126},{"$f":"IF(Arkusz1!D$9=1,Arkusz1!D130+Arkusz1!E130,\"\")","v":36.204660151079636},{"$f":"IF(Arkusz1!D$9=1,Arkusz1!E130,\"\")","v":9.4585609326942155},{"$f":"IF(Arkusz1!F$9=1,Arkusz1!F130+Arkusz1!G130,\"\")","v":""},{"$f":"IF(Arkusz1!F$9=1,Arkusz1!G130,\"\")","v":""},{"$f":"IF(Arkusz1!H$9=1,Arkusz1!H130+Arkusz1!I130,\"\")","v":""},{"$f":"IF(Arkusz1!H$9=1,Arkusz1!I130,\"\")","v":""},{"$f":"IF(Arkusz1!J$9=1,Arkusz1!J130+Arkusz1!K130,\"\")","v":""},{"$f":"IF(Arkusz1!J$9=1,Arkusz1!K130,\"\")","v":""},{"$f":"IF(Arkusz1!L$9=1,Arkusz1!L130+Arkusz1!M130,\"\")","v":""},{"$f":"IF(Arkusz1!L$9=1,Arkusz1!M130,\"\")","v":""},{"$f":"Arkusz1!O130+Arkusz1!P130","v":31.382960177628046},{"$f":"Arkusz1!P130","v":3.0458792205389029}]
[{"$f":"Arkusz1!A131","v":129},{"$f":"IF(Arkusz1!B$9=1,Arkusz1!B131+Arkusz1!C131,\"\")","v":-4.8613203078208054},{"$f":"IF(Arkusz1!B$9=1,Arkusz1!C131,\"\")","v":-6.4126817121553126},{"$f":"IF(Arkusz1!D$9=1,Arkusz1!D131+Arkusz1!E131,\"\")","v":37.090032256905033},{"$f":"IF(Arkusz1!D$9=1,Arkusz1!E131,\"\")","v":9.9585609326942155},{"$f":"IF(Arkusz1!F$9=1,Arkusz1!F131+Arkusz1!G131,\"\")","v":""},{"$f":"IF(Arkusz1!F$9=1,Arkusz1!G131,\"\")","v":""},{"$f":"IF(Arkusz1!H$9=1,Arkusz1!H131+Arkusz1!I131,\"\")","v":""},{"$f":"IF(Arkusz1!H$9=1,Arkusz1!I131,\"\")","v":""},{"$f":"IF(Arkusz1!J$9=1,Arkusz1!J131+Arkusz1!K131,\"\")","v":""},{"$f":"IF(Arkusz1!J$9=1,Arkusz1!K131,\"\")","v":""},{"$f":"IF(Arkusz1!L$9=1,Arkusz1!L131+Arkusz1!M131,\"\")","v":""},{"$f":"IF(Arkusz1!L$9=1,Arkusz1!M131,\"\")","v":""},{"$f":"Arkusz1!O131+Arkusz1!P131","v":32.228711949084229},{"$f":"Arkusz1!P131","v":3.5458792205389029}]
[{"$f":"Arkusz1!A132","v":129.5},{"$f":"IF(Arkusz1!B$9=1,Arkusz1!B132+Arkusz1!C132,\"\")","v":-4.8999958290461096},{"$f":"IF(Arkusz1!B$9=1,Arkusz1!C132,\"\")","v":-6.4126817121553126},{"$f":"IF(Arkusz1!D$9=1,Arkusz1!D132+Arkusz1!E132,\"\")","v":37.977352952551541},{"$f":"IF(Arkusz1!D$9=1,Arkusz1!E132,\"\")","v":10.458560932694215},{"$f":"IF(Arkusz1!F$9=1,Arkusz1!F132+Arkusz1!G132,\"\")","v":""},{"$f":"IF(Arkusz1!F$9=1,Arkusz1!G132,\"\")","v":""},{"$f":"IF(Arkusz1!H$9=1,Arkusz1!H132+Arkusz1!I132,\"\")","v":""},{"$f":"IF(Arkusz1!H$9=1,Arkusz1!I132,\"\")","v":""},{"$f":"IF(Arkusz1!J$9=1,Arkusz1!J132+Arkusz1!K132,\"\")","v":""},{"$f":"IF(Arkusz1!J$9=1,Arkusz1!K132,\"\")","v":""},{"$f":"IF(Arkusz1!L$9=1,Arkusz1!L132+Arkusz1!M132,\"\")","v":""},{"$f":"IF(Arkusz1!L$9=1,Arkusz1!M132,\"\")","v":""},{"$f":"Arkusz1!O132+Arkusz1!P132","v":33.077357123505436},{"$f":"Arkusz1!P132","v":4.0458792205389029}]
[{"$f":"Arkusz1!A133","v":130},{"$f":"IF(Arkusz1!B$9=1,Arkusz1!B133+Arkusz1!C133,\"\")","v":-4.9377472985564479},{"$f":"IF(Arkusz1!B$9=1,Arkusz1!C133,\"\")","v":-6.4126817121553126},{"$f":"IF(Arkusz1!D$9=1,Arkusz1!D133+Arkusz1!E133,\"\")","v":38.866595928674897},{"$f":"IF(Arkusz1!D$9=1,Arkusz1!E133,\"\")","v":10.958560932694215},{"$f":"IF(Arkusz1!F$9=1,Arkusz1!F133+Arkusz1!G133,\"\")","v":""},{"$f":"IF(Arkusz1!F$9=1,Arkusz1!G133,\"\")","v":""},{"$f":"IF(Arkusz1!H$9=1,Arkusz1!H133+Arkusz1!I133,\"\")","v":""},{"$f":"IF(Arkusz1!H$9=1,Arkusz1!I133,\"\")","v":""},{"$f":"IF(Arkusz1!J$9=1,Arkusz1!J133+Arkusz1!K133,\"\")","v":""},{"$f":"IF(Arkusz1!J$9=1,Arkusz1!K133,\"\")","v":""},{"$f":"IF(Arkusz1!L$9=1,Arkusz1!L133+Arkusz1!M133,\"\")","v":""},{"$f":"IF(Arkusz1!L$9=1,Arkusz1!M133,\"\")","v":""},{"$f":"Arkusz1!O133+Arkusz1!P133","v":33.928848630118452},{"$f":"Arkusz1!P133","v":4.5458792205389029}]

{"sheet":"Arkusz1","index":1,"n_rows":133,"n_cols":16,"rows_kept":133,"cut":false,"hidden":false,"merged":[]}
[null,null,null,null,null,null,null,null,null,null,null,null,null,null,"Portfel"]
[]
["r",{"$f":"Arkusz3!B2","v":0.02},null,{"$f":"Arkusz3!C2","v":0.02},null,{"$f":"Arkusz3!D2","v":0.02},null,{"$f":"Arkusz3!E2","v":0.02},null,{"$f":"Arkusz3!F2","v":0.02},null,{"$f":"Arkusz3!G2","v":0.02}]
["sigma",{"$f":"Arkusz3!B3","v":0.3},null,{"$f":"Arkusz3!C3","v":0.3},null,{"$f":"Arkusz3!D3","v":0.3},null,{"$f":"Arkusz3!E3","v":0.3},null,{"$f":"Arkusz3!F3","v":0.3},null,{"$f":"Arkusz3!G3","v":0.3}]
["Czas do wykonania",{"$f":"Arkusz3!B4","v":1},null,{"$f":"Arkusz3!C4","v":1},null,{"$f":"Arkusz3!D4","v":1},null,{"$f":"Arkusz3!E4","v":1},null,{"$f":"Arkusz3!F4","v":1},null,{"$f":"Arkusz3!G4","v":1}]
["Cena wykonania",{"$f":"Arkusz3!B5","v":90},null,{"$f":"Arkusz3!C5","v":110},null,{"$f":"Arkusz3!D5","v":80},null,{"$f":"Arkusz3!E5","v":110},null,{"$f":"Arkusz3!F5","v":110},null,{"$f":"Arkusz3!G5","v":110}]
["Call/put",{"$f":"Arkusz3!B6","v":"p"},null,{"$f":"Arkusz3!C6","v":"c"},null,{"$f":"Arkusz3!D6","v":"p"},null,{"$f":"Arkusz3!E6","v":"c"},null,{"$f":"Arkusz3!F6","v":"c"},null,{"$f":"Arkusz3!G6","v":"c"}]
["długa/krótka",{"$f":"Arkusz3!B7","v":"d"},null,{"$f":"Arkusz3!C7","v":"d"},null,{"$f":"Arkusz3!D7","v":"d"},null,{"$f":"Arkusz3!E7","v":"k"},null,{"$f":"Arkusz3!F7","v":"k"},null,{"$f":"Arkusz3!G7","v":"k"}]
["w portfelu",{"$f":"Arkusz3!B8","v":1},0,{"$f":"Arkusz3!C8","v":1},0,{"$f":"Arkusz3!D8","v":0},0,{"$f":"Arkusz3!E8","v":0},0,{"$f":"Arkusz3!F8","v":0},0,{"$f":"Arkusz3!G8","v":0},0]
[null,0,{"$f":"B9","v":1},0,{"$f":"D9","v":1},0,{"$f":"F9","v":0},0,{"$f":"H9","v":0},0,{"$f":"J9","v":0},0,{"$f":"L9","v":0}]
["Wycena spot=100",{"$f":"IF(B$7=\"c\",call_wycena(100, B$6,B$3, B$4,B$5),put_wycena(100, B$6,B$3, B$4,B$5))","v":6.2869428550542281},null,{"$f":"IF(D$7=\"c\",call_wycena(100, D$6,D$3, D$4,D$5),put_wycena(100, D$6,D$3, D$4,D$5))","v":8.864155948339004},null,{"$f":"IF(F$7=\"c\",call_wycena(100, F$6,F$3, F$4,F$5),put_wycena(100, F$6,F$3, F$4,F$5))","v":3.1140372333370543},null,{"$f":"IF(H$7=\"c\",call_wycena(100, H$6,H$3, H$4,H$5),put_wycena(100, H$6,H$3, H$4,H$5))","v":8.864155948339004},null,{"$f":"IF(J$7=\"c\",call_wycena(100, J$6,J$3, J$4,J$5),put_wycena(100, J$6,J$3, J$4,J$5))","v":8.864155948339004},null,{"$f":"IF(L$7=\"c\",call_wycena(100, L$6,L$3, L$4,L$5),put_wycena(100, L$6,L$3, L$4,L$5))","v":8.864155948339004}]
[]
[70,{"$f":"IF(B$8=\"d\",1,-1)*IF(B$7=\"c\",call_wycena($A13, B$6,B$3, B$4,B$5),put_wycena($A13, B$6,B$3, B$4,B$5))","v":21.17975144760841},{"$f":"IF(B$8=\"d\",1,-1)*(IF(B$7=\"c\",MAX($A13-B$6,0),MAX(B$6-$A13,0))-B$11*((1+B$3)^B$5))","v":13.587318287844688},{"$f":"IF(D$8=\"d\",1,-1)*IF(D$7=\"c\",call_wycena($A13, D$6,D$3, D$4,D$5),put_wycena($A13, D$6,D$3, D$4,D$5))","v":0.86765502388677795},{"$f":"IF(D$8=\"d\",1,-1)*(IF(D$7=\"c\",MAX($A13-D$6,0),MAX(D$6-$A13,0))-D$11*((1+D$3)^D$5))","v":-9.0414390673057845},{"$f":"IF(F$8=\"d\",1,-1)*IF(F$7=\"c\",call_wycena($A13, F$6,F$3, F$4,F$5),put_wycena($A13, F$6,F$3, F$4,F$5))","v":13.676790809916859},{"$f":"IF(F$8=\"d\",1,-1)*(IF(F$7=\"c\",MAX($A13-F$6,0),MAX(F$6-$A13,0))-F$11*((1+F$3)^F$5))","v":6.8236820219962047},{"$f":"IF(H$8=\"d\",1,-1)*IF(H$7=\"c\",call_wycena($A13, H$6,H$3, H$4,H$5),put_wycena($A13, H$6,H$3, H$4,H$5))","v":-0.86765502388677795},{"$f":"IF(H$8=\"d\",1,-1)*(IF(H$7=\"c\",MAX($A13-H$6,0),MAX(H$6-$A13,0))-H$11*((1+H$3)^H$5))","v":9.0414390673057845},{"$f":"IF(J$8=\"d\",1,-1)*IF(J$7=\"c\",call_wycena($A13, J$6,J$3, J$4,J$5),put_wycena($A13, J$6,J$3, J$4,J$5))","v":-0.86765502388677795},{"$f":"IF(J$8=\"d\",1,-1)*(IF(J$7=\"c\",MAX($A13-J$6,0),MAX(J$6-$A13,0))-J$11*((1+J$3)^J$5))","v":9.0414390673057845},{"$f":"IF(L$8=\"d\",1,-1)*IF(L$7=\"c\",call_wycena($A13, L$6,L$3, L$4,L$5),put_wycena($A13, L$6,L$3, L$4,L$5))","v":-0.86765502388677795},{"$f":"IF(L$8=\"d\",1,-1)*(IF(L$7=\"c\",MAX($A13-L$6,0),MAX(L$6-$A13,0))-L$11*((1+L$3)^L$5))","v":9.0414390673057845},null,{"$f":"SUMPRODUCT(B$9:M$9,B13:M13)","v":22.047406471495187},{"$f":"SUMPRODUCT(B$10:M$10,B13:M13)","v":4.5458792205389038}]
[{"$f":"A13+0.5","v":70.5},{"$f":"IF(B$8=\"d\",1,-1)*IF(B$7=\"c\",call_wycena($A14, B$6,B$3, B$4,B$5),put_wycena($A14, B$6,B$3, B$4,B$5))","v":20.815356494378989},13.087318287844688,{"$f":"IF(D$8=\"d\",1,-1)*IF(D$7=\"c\",call_wycena($A14, D$6,D$3, D$4,D$5),put_wycena($A14, D$6,D$3, D$4,D$5))","v":0.9179635089848901},-9.0414390673057845,{"$f":"IF(F$8=\"d\",1,-1)*IF(F$7=\"c\",call_wycena($A14, F$6,F$3, F$4,F$5),put_wycena($A14, F$6,F$3, F$4,F$5))","v":13.383929330909943},{"$f":"IF(F$8=\"d\",1,-1)*(IF(F$7=\"c\",MAX($A14-F$6,0),MAX(F$6-$A14,0))-F$11*((1+F$3)^F$5))","v":6.3236820219962047},{"$f":"IF(H$8=\"d\",1,-1)*IF(H$7=\"c\",call_wycena($A14, H$6,H$3, H$4,H$5),put_wycena($A14, H$6,H$3, H$4,H$5))","v":-0.9179635089848901},{"$f":"IF(H$8=\"d\",1,-1)*(IF(H$7=\"c\",MAX($A14-H$6,0),MAX(H$6-$A14,0))-H$11*((1+H$3)^H$5))","v":9.0414390673057845},{"$f":"IF(J$8=\"d\",1,-1)*IF(J$7=\"c\",call_wycena($A14, J$6,J$3, J$4,J$5),put_wycena($A14, J$6,J$3, J$4,J$5))","v":-0.9179635089848901},{"$f":"IF(J$8=\"d\",1,-1)*(IF(J$7=\"c\",MAX($A14-J$6,0),MAX(J$6-$A14,0))-J$11*((1+J$3)^J$5))","v":9.0414390673057845},{"$f":"IF(L$8=\"d\",1,-1)*IF(L$7=\"c\",call_wycena($A14, L$6,L$3, L$4,L$5),put_wycena($A14, L$6,L$3, L$4,L$5))","v":-0.9179635089848901},{"$f":"IF(L$8=\"d\",1,-1)*(IF(L$7=\"c\",MAX($A14-L$6,0),MAX(L$6-$A14,0))-L$11*((1+L$3)^L$5))","v":9.0414390673057845},null,{"$f":"SUMPRODUCT(B$9:M$9,B14:M14)","v":21.733320003363879},{"$f":"SUMPRODUCT(B$10:M$10,B14:M14)","v":4.0458792205389038}]
[{"$f":"A14+0.5","v":71},{"$f":"IF(B$8=\"d\",1,-1)*IF(B$7=\"c\",call_wycena($A15, B$6,B$3, B$4,B$5),put_wycena($A15, B$6,B$3, B$4,B$5))","v":20.454906499381423},12.587318287844688,{"$f":"IF(D$8=\"d\",1,-1)*IF(D$7=\"c\",call_wycena($A15, D$6,D$3, D$4,D$5),put_wycena($A15, D$6,D$3, D$4,D$5))","v":0.97038730615586388},-9.0414390673057845,{"$f":"IF(F$8=\"d\",1,-1)*IF(F$7=\"c\",call_wycena($A15, F$6,F$3, F$4,F$5),put_wycena($A15, F$6,F$3, F$4,F$5))","v":13.095685492757433},{"$f":"IF(F$8=\"d\",1,-1)*(IF(F$7=\"c\",MAX($A15-F$6,0),MAX(F$6-$A15,0))-F$11*((1+F$3)^F$5))","v":5.8236820219962047},{"$f":"IF(H$8=\"d\",1,-1)*IF(H$7=\"c\",call_wycena($A15, H$6,H$3, H$4,H$5),put_wycena($A15, H$6,H$3, H$4,H$5))","v":-0.97038730615586388},{"$f":"IF(H$8=\"d\",1,-1)*(IF(H$7=\"c\",MAX($A15-H$6,0),MAX(H$6-$A15,0))-H$11*((1+H$3)^H$5))","v":9.0414390673057845},{"$f":"IF(J$8=\"d\",1,-1)*IF(J$7=\"c\",call_wycena($A15, J$6,J$3, J$4,J$5),put_wycena($A15, J$6,J$3, J$4,J$5))","v":-0.97038730615586388},{"$f":"IF(J$8=\"d\",1,-1)*(IF(J$7=\"c\",MAX($A15-J$6,0),MAX(J$6-$A15,0))-J$11*((1+J$3)^J$5))","v":9.0414390673057845},{"$f":"IF(L$8=\"d\",1,-1)*IF(L$7=\"c\",call_wycena($A15, L$6,L$3, L$4,L$5),put_wycena($A15, L$6,L$3, L$4,L$5))","v":-0.97038730615586388},{"$f":"IF(L$8=\"d\",1,-1)*(IF(L$7=\"c\",MAX($A15-L$6,0),MAX(L$6-$A15,0))-L$11*((1+L$3)^L$5))","v":9.0414390673057845},null,21.425293805537287,3.5458792205389038]
[71.5,{"$f":"IF(B$8=\"d\",1,-1)*IF(B$7=\"c\",call_wycena($A16, B$6,B$3, B$4,B$5),put_wycena($A16, B$6,B$3, B$4,B$5))","v":20.098428089804806},12.087318287844688,{"$f":"IF(D$8=\"d\",1,-1)*IF(D$7=\"c\",call_wycena($A16, D$6,D$3, D$4,D$5),put_wycena($A16, D$6,D$3, D$4,D$5))","v":1.0249745117810782},-9.0414390673057845,{"$f":"IF(F$8=\"d\",1,-1)*IF(F$7=\"c\",call_wycena($A16, F$6,F$3, F$4,F$5),put_wycena($A16, F$6,F$3, F$4,F$5))","v":12.812047669132831},{"$f":"IF(F$8=\"d\",1,-1)*(IF(F$7=\"c\",MAX($A16-F$6,0),MAX(F$6-$A16,0))-F$11*((1+F$3)^F$5))","v":5.3236820219962047},{"$f":"IF(H$8=\"d\",1,-1)*IF(H$7=\"c\",call_wycena($A16, H$6,H$3, H$4,H$5),put_wycena($A16, H$6,H$3, H$4,H$5))","v":-1.0249745117810782},{"$f":"IF(H$8=\"d\",1,-1)*(IF(H$7=\"c\",MAX($A16-H$6,0),MAX(H$6-$A16,0))-H$11*((1+H$3)^H$5))","v":9.0414390673057845},{"$f":"IF(J$8=\"d\",1,-1)*IF(J$7=\"c\",call_wycena($A16, J$6,J$3, J$4,J$5),put_wycena($A16, J$6,J$3, J$4,J$5))","v":-1.0249745117810782},{"$f":"IF(J$8=\"d\",1,-1)*(IF(J$7=\"c\",MAX($A16-J$6,0),MAX(J$6-$A16,0))-J$11*((1+J$3)^J$5))","v":9.0414390673057845},{"$f":"IF(L$8=\"d\",1,-1)*IF(L$7=\"c\",call_wycena($A16, L$6,L$3, L$4,L$5),put_wycena($A16, L$6,L$3, L$4,L$5))","v":-1.0249745117810782},{"$f":"IF(L$8=\"d\",1,-1)*(IF(L$7=\"c\",MAX($A16-L$6,0),MAX(L$6-$A16,0))-L$11*((1+L$3)^L$5))","v":9.0414390673057845},null,21.123402601585884,3.0458792205389038]
[72,{"$f":"IF(B$8=\"d\",1,-1)*IF(B$7=\"c\",call_wycena($A17, B$6,B$3, B$4,B$5),put_wycena($A17, B$6,B$3, B$4,B$5))","v":19.745945689138232},11.587318287844688,{"$f":"IF(D$8=\"d\",1,-1)*IF(D$7=\"c\",call_wycena($A17, D$6,D$3, D$4,D$5),put_wycena($A17, D$6,D$3, D$4,D$5))","v":1.081772752522169},-9.0414390673057845,{"$f":"IF(F$8=\"d\",1,-1)*IF(F$7=\"c\",call_wycena($A17, F$6,F$3, F$4,F$5),put_wycena($A17, F$6,F$3, F$4,F$5))","v":12.533001822166234},{"$f":"IF(F$8=\"d\",1,-1)*(IF(F$7=\"c\",MAX($A17-F$6,0),MAX(F$6-$A17,0))-F$11*((1+F$3)^F$5))","v":4.8236820219962047},{"$f":"IF(H$8=\"d\",1,-1)*IF(H$7=\"c\",call_wycena($A17, H$6,H$3, H$4,H$5),put_wycena($A17, H$6,H$3, H$4,H$5))","v":-1.081772752522169},{"$f":"IF(H$8=\"d\",1,-1)*(IF(H$7=\"c\",MAX($A17-H$6,0),MAX(H$6-$A17,0))-H$11*((1+H$3)^H$5))","v":9.0414390673057845},{"$f":"IF(J$8=\"d\",1,-1)*IF(J$7=\"c\",call_wycena($A17, J$6,J$3, J$4,J$5),put_wycena($A17, J$6,J$3, J$4,J$5))","v":-1.081772752522169},{"$f":"IF(J$8=\"d\",1,-1)*(IF(J$7=\"c\",MAX($A17-J$6,0),MAX(J$6-$A17,0))-J$11*((1+J$3)^J$5))","v":9.0414390673057845},{"$f":"IF(L$8=\"d\",1,-1)*IF(L$7=\"c\",call_wycena($A17, L$6,L$3, L$4,L$5),put_wycena($A17, L$6,L$3, L$4,L$5))","v":-1.081772752522169},{"$f":"IF(L$8=\"d\",1,-1)*(IF(L$7=\"c\",MAX($A17-L$6,0),MAX(L$6-$A17,0))-L$11*((1+L$3)^L$5))","v":9.0414390673057845},null,20.827718441660402,2.5458792205389038]
[72.5,{"$f":"IF(B$8=\"d\",1,-1)*IF(B$7=\"c\",call_wycena($A18, B$6,B$3, B$4,B$5),put_wycena($A18, B$6,B$3, B$4,B$5))","v":19.397481523118408},11.087318287844688,{"$f":"IF(D$8=\"d\",1,-1)*IF(D$7=\"c\",call_wycena($A18, D$6,D$3, D$4,D$5),put_wycena($A18, D$6,D$3, D$4,D$5))","v":1.1408291377865103},-9.0414390673057845,{"$f":"IF(F$8=\"d\",1,-1)*IF(F$7=\"c\",call_wycena($A18, F$6,F$3, F$4,F$5),put_wycena($A18, F$6,F$3, F$4,F$5))","v":12.258531576014789},{"$f":"IF(F$8=\"d\",1,-1)*(IF(F$7=\"c\",MAX($A18-F$6,0),MAX(F$6-$A18,0))-F$11*((1+F$3)^F$5))","v":4.3236820219962047},{"$f":"IF(H$8=\"d\",1,-1)*IF(H$7=\"c\",call_wycena($A18, H$6,H$3, H$4,H$5),put_wycena($A18, H$6,H$3, H$4,H$5))","v":-1.1408291377865103},{"$f":"IF(H$8=\"d\",1,-1)*(IF(H$7=\"c\",MAX($A18-H$6,0),MAX(H$6-$A18,0))-H$11*((1+H$3)^H$5))","v":9.0414390673057845},{"$f":"IF(J$8=\"d\",1,-1)*IF(J$7=\"c\",call_wycena($A18, J$6,J$3, J$4,J$5),put_wycena($A18, J$6,J$3, J$4,J$5))","v":-1.1408291377865103},{"$f":"IF(J$8=\"d\",1,-1)*(IF(J$7=\"c\",MAX($A18-J$6,0),MAX(J$6-$A18,0))-J$11*((1+J$3)^J$5))","v":9.0414390673057845},{"$f":"IF(L$8=\"d\",1,-1)*IF(L$7=\"c\",call_wycena($A18, L$6,L$3, L$4,L$5),put_wycena($A18, L$6,L$3, L$4,L$5))","v":-1.1408291377865103},{"$f":"IF(L$8=\"d\",1,-1)*(IF(L$7=\"c\",MAX($A18-L$6,0),MAX(L$6-$A18,0))-L$11*((1+L$3)^L$5))","v":9.0414390673057845},null,20.538310660904919,2.0458792205389038]
[73,{"$f":"IF(B$8=\"d\",1,-1)*IF(B$7=\"c\",call_wycena($A19, B$6,B$3, B$4,B$5),put_wycena($A19, B$6,B$3, B$4,B$5))","v":19.053055629195697},10.587318287844688,{"$f":"IF(D$8=\"d\",1,-1)*IF(D$7=\"c\",call_wycena($A19, D$6,D$3, D$4,D$5),put_wycena($A19, D$6,D$3, D$4,D$5))","v":1.2021902134355251},-9.0414390673057845,{"$f":"IF(F$8=\"d\",1,-1)*IF(F$7=\"c\",call_wycena($A19, F$6,F$3, F$4,F$5),put_wycena($A19, F$6,F$3, F$4,F$5))","v":11.988618292020846},{"$f":"IF(F$8=\"d\",1,-1)*(IF(F$7=\"c\",MAX($A19-F$6,0),MAX(F$6-$A19,0))-F$11*((1+F$3)^F$5))","v":3.8236820219962047},{"$f":"IF(H$8=\"d\",1,-1)*IF(H$7=\"c\",call_wycena($A19, H$6,H$3, H$4,H$5),put_wycena($A19, H$6,H$3, H$4,H$5))","v":-1.2021902134355251},{"$f":"IF(H$8=\"d\",1,-1)*(IF(H$7=\"c\",MAX($A19-H$6,0),MAX(H$6-$A19,0))-H$11*((1+H$3)^H$5))","v":9.0414390673057845},{"$f":"IF(J$8=\"d\",1,-1)*IF(J$7=\"c\",call_wycena($A19, J$6,J$3, J$4,J$5),put_wycena($A19, J$6,J$3, J$4,J$5))","v":-1.2021902134355251},{"$f":"IF(J$8=\"d\",1,-1)*(IF(J$7=\"c\",MAX($A19-J$6,0),MAX(J$6-$A19,0))-J$11*((1+J$3)^J$5))","v":9.0414390673057845},{"$f":"IF(L$8=\"d\",1,-1)*IF(L$7=\"c\",call_wycena($A19, L$6,L$3, L$4,L$5),put_wycena($A19, L$6,L$3, L$4,L$5))","v":-1.2021902134355251},{"$f":"IF(L$8=\"d\",1,-1)*(IF(L$7=\"c\",MAX($A19-L$6,0),MAX(L$6-$A19,0))-L$11*((1+L$3)^L$5))","v":9.0414390673057845},null,20.255245842631222,1.5458792205389038]
[73.5,{"$f":"IF(B$8=\"d\",1,-1)*IF(B$7=\"c\",call_wycena($A20, B$6,B$3, B$4,B$5),put_wycena($A20, B$6,B$3, B$4,B$5))","v":18.712685869371825},10.087318287844688,{"$f":"IF(D$8=\"d\",1,-1)*IF(D$7=\"c\",call_wycena($A20, D$6,D$3, D$4,D$5),put_wycena($A20, D$6,D$3, D$4,D$5))","v":1.2659019168087635},-9.0414390673057845,{"$f":"IF(F$8=\"d\",1,-1)*IF(F$7=\"c\",call_wycena($A20, F$6,F$3, F$4,F$5),put_wycena($A20, F$6,F$3, F$4,F$5))","v":11.723241145205819},{"$f":"IF(F$8=\"d\",1,-1)*(IF(F$7=\"c\",MAX($A20-F$6,0),MAX(F$6-$A20,0))-F$11*((1+F$3)^F$5))","v":3.3236820219962047},{"$f":"IF(H$8=\"d\",1,-1)*IF(H$7=\"c\",call_wycena($A20, H$6,H$3, H$4,H$5),put_wycena($A20, H$6,H$3, H$4,H$5))","v":-1.2659019168087635},{"$f":"IF(H$8=\"d\",1,-1)*(IF(H$7=\"c\",MAX($A20-H$6,0),MAX(H$6-$A20,0))-H$11*((1+H$3)^H$5))","v":9.0414390673057845},{"$f":"IF(J$8=\"d\",1,-1)*IF(J$7=\"c\",call_wycena($A20, J$6,J$3, J$4,J$5),put_wycena($A20, J$6,J$3, J$4,J$5))","v":-1.2659019168087635},{"$f":"IF(J$8=\"d\",1,-1)*(IF(J$7=\"c\",MAX($A20-J$6,0),MAX(J$6-$A20,0))-J$11*((1+J$3)^J$5))","v":9.0414390673057845},{"$f":"IF(L$8=\"d\",1,-1)*IF(L$7=\"c\",call_wycena($A20, L$6,L$3, L$4,L$5),put_wycena($A20, L$6,L$3, L$4,L$5))","v":-1.2659019168087635},{"$f":"IF(L$8=\"d\",1,-1)*(IF(L$7=\"c\",MAX($A20-L$6,0),MAX(L$6-$A20,0))-L$11*((1+L$3)^L$5))","v":9.0414390673057845},null,19.97858778618059,1.0458792205389038]
[74,{"$f":"IF(B$8=\"d\",1,-1)*IF(B$7=\"c\",call_wycena($A21, B$6,B$3, B$4,B$5),put_wycena($A21, B$6,B$3, B$4,B$5))","v":18.376387946258852},9.5873182878446883,{"$f":"IF(D$8=\"d\",1,-1)*IF(D$7=\"c\",call_wycena($A21, D$6,D$3, D$4,D$5),put_wycena($A21, D$6,D$3, D$4,D$5))","v":1.3320095331286375},-9.0414390673057845,{"$f":"IF(F$8=\"d\",1,-1)*IF(F$7=\"c\",call_wycena($A21, F$6,F$3, F$4,F$5),put_wycena($A21, F$6,F$3, F$4,F$5))","v":11.462377201858452},{"$f":"IF(F$8=\"d\",1,-1)*(IF(F$7=\"c\",MAX($A21-F$6,0),MAX(F$6-$A21,0))-F$11*((1+F$3)^F$5))","v":2.8236820219962047},{"$f":"IF(H$8=\"d\",1,-1)*IF(H$7=\"c\",call_wycena($A21, H$6,H$3, H$4,H$5),put_wycena($A21, H$6,H$3, H$4,H$5))","v":-1.3320095331286375},{"$f":"IF(H$8=\"d\",1,-1)*(IF(H$7=\"c\",MAX($A21-H$6,0),MAX(H$6-$A21,0))-H$11*((1+H$3)^H$5))","v":9.0414390673057845},{"$f":"IF(J$8=\"d\",1,-1)*IF(J$7=\"c\",call_wycena($A21, J$6,J$3, J$4,J$5),put_wycena($A21, J$6,J$3, J$4,J$5))","v":-1.3320095331286375},{"$f":"IF(J$8=\"d\",1,-1)*(IF(J$7=\"c\",MAX($A21-J$6,0),MAX(J$6-$A21,0))-J$11*((1+J$3)^J$5))","v":9.0414390673057845},{"$f":"IF(L$8=\"d\",1,-1)*IF(L$7=\"c\",call_wycena($A21, L$6,L$3, L$4,L$5),put_wycena($A21, L$6,L$3, L$4,L$5))","v":-1.3320095331286375},{"$f":"IF(L$8=\"d\",1,-1)*(IF(L$7=\"c\",MAX($A21-L$6,0),MAX(L$6-$A21,0))-L$11*((1+L$3)^L$5))","v":9.0414390673057845},null,19.708397479387489,0.54587922053890381]
[74.5,{"$f":"IF(B$8=\"d\",1,-1)*IF(B$7=\"c\",call_wycena($A22, B$6,B$3, B$4,B$5),put_wycena($A22, B$6,B$3, B$4,B$5))","v":18.044175422207068},9.0873182878446883,{"$f":"IF(D$8=\"d\",1,-1)*IF(D$7=\"c\",call_wycena($A22, D$6,D$3, D$4,D$5),put_wycena($A22, D$6,D$3, D$4,D$5))","v":1.4005576533467021},-9.0414390673057845,{"$f":"IF(F$8=\"d\",1,-1)*IF(F$7=\"c\",call_wycena($A22, F$6,F$3, F$4,F$5),put_wycena($A22, F$6,F$3, F$4,F$5))","v":11.206001497985092},{"$f":"IF(F$8=\"d\",1,-1)*(IF(F$7=\"c\",MAX($A22-F$6,0),MAX(F$6-$A22,0))-F$11*((1+F$3)^F$5))","v":2.3236820219962047},{"$f":"IF(H$8=\"d\",1,-1)*IF(H$7=\"c\",call_wycena($A22, H$6,H$3, H$4,H$5),put_wycena($A22, H$6,H$3, H$4,H$5))","v":-1.4005576533467021},{"$f":"IF(H$8=\"d\",1,-1)*(IF(H$7=\"c\",MAX($A22-H$6,0),MAX(H$6-$A22,0))-H$11*((1+H$3)^H$5))","v":9.0414390673057845},{"$f":"IF(J$8=\"d\",1,-1)*IF(J$7=\"c\",call_wycena($A22, J$6,J$3, J$4,J$5),put_wycena($A22, J$6,J$3, J$4,J$5))","v":-1.4005576533467021},{"$f":"IF(J$8=\"d\",1,-1)*(IF(J$7=\"c\",MAX($A22-J$6,0),MAX(J$6-$A22,0))-J$11*((1+J$3)^J$5))","v":9.0414390673057845},{"$f":"IF(L$8=\"d\",1,-1)*IF(L$7=\"c\",call_wycena($A22, L$6,L$3, L$4,L$5),put_wycena($A22, L$6,L$3, L$4,L$5))","v":-1.4005576533467021},{"$f":"IF(L$8=\"d\",1,-1)*(IF(L$7=\"c\",MAX($A22-L$6,0),MAX(L$6-$A22,0))-L$11*((1+L$3)^L$5))","v":9.0414390673057845},null,19.444733075553771,4.5879220538903809E-2]
[75,{"$f":"IF(B$8=\"d\",1,-1)*IF(B$7=\"c\",call_wycena($A23, B$6,B$3, B$4,B$5),put_wycena($A23, B$6,B$3, B$4,B$5))","v":17.71605974134782},8.5873182878446883,{"$f":"IF(D$8=\"d\",1,-1)*IF(D$7=\"c\",call_wycena($A23, D$6,D$3, D$4,D$5),put_wycena($A23, D$6,D$3, D$4,D$5))","v":1.4715901334856554},-9.0414390673057845,{"$f":"IF(F$8=\"d\",1,-1)*IF(F$7=\"c\",call_wycena($A23, F$6,F$3, F$4,F$5),put_wycena($A23, F$6,F$3, F$4,F$5))","v":10.954087118400764},{"$f":"IF(F$8=\"d\",1,-1)*(IF(F$7=\"c\",MAX($A23-F$6,0),MAX(F$6-$A23,0))-F$11*((1+F$3)^F$5))","v":1.8236820219962047},{"$f":"IF(H$8=\"d\",1,-1)*IF(H$7=\"c\",call_wycena($A23, H$6,H$3, H$4,H$5),put_wycena($A23, H$6,H$3, H$4,H$5))","v":-1.4715901334856554},{"$f":"IF(H$8=\"d\",1,-1)*(IF(H$7=\"c\",MAX($A23-H$6,0),MAX(H$6-$A23,0))-H$11*((1+H$3)^H$5))","v":9.0414390673057845},{"$f":"IF(J$8=\"d\",1,-1)*IF(J$7=\"c\",call_wycena($A23, J$6,J$3, J$4,J$5),put_wycena($A23, J$6,J$3, J$4,J$5))","v":-1.4715901334856554},{"$f":"IF(J$8=\"d\",1,-1)*(IF(J$7=\"c\",MAX($A23-J$6,0),MAX(J$6-$A23,0))-J$11*((1+J$3)^J$5))","v":9.0414390673057845},{"$f":"IF(L$8=\"d\",1,-1)*IF(L$7=\"c\",call_wycena($A23, L$6,L$3, L$4,L$5),put_wycena($A23, L$6,L$3, L$4,L$5))","v":-1.4715901334856554},{"$f":"IF(L$8=\"d\",1,-1)*(IF(L$7=\"c\",MAX($A23-L$6,0),MAX(L$6-$A23,0))-L$11*((1+L$3)^L$5))","v":9.0414390673057845},null,19.187649874833475,-0.45412077946109619]
[75.5,{"$f":"IF(B$8=\"d\",1,-1)*IF(B$7=\"c\",call_wycena($A24, B$6,B$3, B$4,B$5),put_wycena($A24, B$6,B$3, B$4,B$5))","v":17.392050254395187},8.0873182878446883,{"$f":"IF(D$8=\"d\",1,-1)*IF(D$7=\"c\",call_wycena($A24, D$6,D$3, D$4,D$5),put_wycena($A24, D$6,D$3, D$4,D$5))","v":1.5451500555262871},-9.0414390673057845,{"$f":"IF(F$8=\"d\",1,-1)*IF(F$7=\"c\",call_wycena($A24, F$6,F$3, F$4,F$5),put_wycena($A24, F$6,F$3, F$4,F$5))","v":10.706605276249157},{"$f":"IF(F$8=\"d\",1,-1)*(IF(F$7=\"c\",MAX($A24-F$6,0),MAX(F$6-$A24,0))-F$11*((1+F$3)^F$5))","v":1.3236820219962047},{"$f":"IF(H$8=\"d\",1,-1)*IF(H$7=\"c\",call_wycena($A24, H$6,H$3, H$4,H$5),put_wycena($A24, H$6,H$3, H$4,H$5))","v":-1.5451500555262871},{"$f":"IF(H$8=\"d\",1,-1)*(IF(H$7=\"c\",MAX($A24-H$6,0),MAX(H$6-$A24,0))-H$11*((1+H$3)^H$5))","v":9.0414390673057845},{"$f":"IF(J$8=\"d\",1,-1)*IF(J$7=\"c\",call_wycena($A24, J$6,J$3, J$4,J$5),put_wycena($A24, J$6,J$3, J$4,J$5))","v":-1.5451500555262871},{"$f":"IF(J$8=\"d\",1,-1)*(IF(J$7=\"c\",MAX($A24-J$6,0),MAX(J$6-$A24,0))-J$11*((1+J$3)^J$5))","v":9.0414390673057845},{"$f":"IF(L$8=\"d\",1,-1)*IF(L$7=\"c\",call_wycena($A24, L$6,L$3, L$4,L$5),put_wycena($A24, L$6,L$3, L$4,L$5))","v":-1.5451500555262871},{"$f":"IF(L$8=\"d\",1,-1)*(IF(L$7=\"c\",MAX($A24-L$6,0),MAX(L$6-$A24,0))-L$11*((1+L$3)^L$5))","v":9.0414390673057845},null,18.937200309921472,-0.95412077946109619]
[76,{"$f":"IF(B$8=\"d\",1,-1)*IF(B$7=\"c\",call_wycena($A25, B$6,B$3, B$4,B$5),put_wycena($A25, B$6,B$3, B$4,B$5))","v":17.072154246051504},7.5873182878446874,{"$f":"IF(D$8=\"d\",1,-1)*IF(D$7=\"c\",call_wycena($A25, D$6,D$3, D$4,D$5),put_wycena($A25, D$6,D$3, D$4,D$5))","v":1.6212796898826944},-9.0414390673057845,{"$f":"IF(F$8=\"d\",1,-1)*IF(F$7=\"c\",call_wycena($A25, F$6,F$3, F$4,F$5),put_wycena($A25, F$6,F$3, F$4,F$5))","v":10.463525392751173},{"$f":"IF(F$8=\"d\",1,-1)*(IF(F$7=\"c\",MAX($A25-F$6,0),MAX(F$6-$A25,0))-F$11*((1+F$3)^F$5))","v":0.82368202199620466},{"$f":"IF(H$8=\"d\",1,-1)*IF(H$7=\"c\",call_wycena($A25, H$6,H$3, H$4,H$5),put_wycena($A25, H$6,H$3, H$4,H$5))","v":-1.6212796898826944},{"$f":"IF(H$8=\"d\",1,-1)*(IF(H$7=\"c\",MAX($A25-H$6,0),MAX(H$6-$A25,0))-H$11*((1+H$3)^H$5))","v":9.0414390673057845},{"$f":"IF(J$8=\"d\",1,-1)*IF(J$7=\"c\",call_wycena($A25, J$6,J$3, J$4,J$5),put_wycena($A25, J$6,J$3, J$4,J$5))","v":-1.6212796898826944},{"$f":"IF(J$8=\"d\",1,-1)*(IF(J$7=\"c\",MAX($A25-J$6,0),MAX(J$6-$A25,0))-J$11*((1+J$3)^J$5))","v":9.0414390673057845},{"$f":"IF(L$8=\"d\",1,-1)*IF(L$7=\"c\",call_wycena($A25, L$6,L$3, L$4,L$5),put_wycena($A25, L$6,L$3, L$4,L$5))","v":-1.6212796898826944},{"$f":"IF(L$8=\"d\",1,-1)*(IF(L$7=\"c\",MAX($A25-L$6,0),MAX(L$6-$A25,0))-L$11*((1+L$3)^L$5))","v":9.0414390673057845},null,18.693433935934198,-1.4541207794610971]
[76.5,{"$f":"IF(B$8=\"d\",1,-1)*IF(B$7=\"c\",call_wycena($A26, B$6,B$3, B$4,B$5),put_wycena($A26, B$6,B$3, B$4,B$5))","v":16.756376964860578},7.0873182878446874,{"$f":"IF(D$8=\"d\",1,-1)*IF(D$7=\"c\",call_wycena($A26, D$6,D$3, D$4,D$5),put_wycena($A26, D$6,D$3, D$4,D$5))","v":1.7000204595036283},-9.0414390673057845,{"$f":"IF(F$8=\"d\",1,-1)*IF(F$7=\"c\",call_wycena($A26, F$6,F$3, F$4,F$5),put_wycena($A26, F$6,F$3, F$4,F$5))","v":10.224815176991207},{"$f":"IF(F$8=\"d\",1,-1)*(IF(F$7=\"c\",MAX($A26-F$6,0),MAX(F$6-$A26,0))-F$11*((1+F$3)^F$5))","v":0.32368202199620466},{"$f":"IF(H$8=\"d\",1,-1)*IF(H$7=\"c\",call_wycena($A26, H$6,H$3, H$4,H$5),put_wycena($A26, H$6,H$3, H$4,H$5))","v":-1.7000204595036283},{"$f":"IF(H$8=\"d\",1,-1)*(IF(H$7=\"c\",MAX($A26-H$6,0),MAX(H$6-$A26,0))-H$11*((1+H$3)^H$5))","v":9.0414390673057845},{"$f":"IF(J$8=\"d\",1,-1)*IF(J$7=\"c\",call_wycena($A26, J$6,J$3, J$4,J$5),put_wycena($A26, J$6,J$3, J$4,J$5))","v":-1.7000204595036283},{"$f":"IF(J$8=\"d\",1,-1)*(IF(J$7=\"c\",MAX($A26-J$6,0),MAX(J$6-$A26,0))-J$11*((1+J$3)^J$5))","v":9.0414390673057845},{"$f":"IF(L$8=\"d\",1,-1)*IF(L$7=\"c\",call_wycena($A26, L$6,L$3, L$4,L$5),put_wycena($A26, L$6,L$3, L$4,L$5))","v":-1.7000204595036283},{"$f":"IF(L$8=\"d\",1,-1)*(IF(L$7=\"c\",MAX($A26-L$6,0),MAX(L$6-$A26,0))-L$11*((1+L$3)^L$5))","v":9.0414390673057845},null,18.456397424364205,-1.9541207794610971]
[77,{"$f":"IF(B$8=\"d\",1,-1)*IF(B$7=\"c\",call_wycena($A27, B$6,B$3, B$4,B$5),put_wycena($A27, B$6,B$3, B$4,B$5))","v":16.444721655353476},6.5873182878446874,{"$f":"IF(D$8=\"d\",1,-1)*IF(D$7=\"c\",call_wycena($A27, D$6,D$3, D$4,D$5),put_wycena($A27, D$6,D$3, D$4,D$5))","v":1.78141290563312},-9.0414390673057845,{"$f":"IF(F$8=\"d\",1,-1)*IF(F$7=\"c\",call_wycena($A27, F$6,F$3, F$4,F$5),put_wycena($A27, F$6,F$3, F$4,F$5))","v":9.9904407055615039},{"$f":"IF(F$8=\"d\",1,-1)*(IF(F$7=\"c\",MAX($A27-F$6,0),MAX(F$6-$A27,0))-F$11*((1+F$3)^F$5))","v":-0.17631797800379534},{"$f":"IF(H$8=\"d\",1,-1)*IF(H$7=\"c\",call_wycena($A27, H$6,H$3, H$4,H$5),put_wycena($A27, H$6,H$3, H$4,H$5))","v":-1.78141290563312},{"$f":"IF(H$8=\"d\",1,-1)*(IF(H$7=\"c\",MAX($A27-H$6,0),MAX(H$6-$A27,0))-H$11*((1+H$3)^H$5))","v":9.0414390673057845},{"$f":"IF(J$8=\"d\",1,-1)*IF(J$7=\"c\",call_wycena($A27, J$6,J$3, J$4,J$5),put_wycena($A27, J$6,J$3, J$4,J$5))","v":-1.78141290563312},{"$f":"IF(J$8=\"d\",1,-1)*(IF(J$7=\"c\",MAX($A27-J$6,0),MAX(J$6-$A27,0))-J$11*((1+J$3)^J$5))","v":9.0414390673057845},{"$f":"IF(L$8=\"d\",1,-1)*IF(L$7=\"c\",call_wycena($A27, L$6,L$3, L$4,L$5),put_wycena($A27, L$6,L$3, L$4,L$5))","v":-1.78141290563312},{"$f":"IF(L$8=\"d\",1,-1)*(IF(L$7=\"c\",MAX($A27-L$6,0),MAX(L$6-$A27,0))-L$11*((1+L$3)^L$5))","v":9.0414390673057845},null,18.226134560986594,-2.4541207794610971]
[77.5,{"$f":"IF(B$8=\"d\",1,-1)*IF(B$7=\"c\",call_wycena($A28, B$6,B$3, B$4,B$5),put_wycena($A28, B$6,B$3, B$4,B$5))","v":16.137189592332952},6.0873182878446874,{"$f":"IF(D$8=\"d\",1,-1)*IF(D$7=\"c\",call_wycena($A28, D$6,D$3, D$4,D$5),put_wycena($A28, D$6,D$3, D$4,D$5))","v":1.8654966552573828},-9.0414390673057845,{"$f":"IF(F$8=\"d\",1,-1)*IF(F$7=\"c\",call_wycena($A28, F$6,F$3, F$4,F$5),put_wycena($A28, F$6,F$3, F$4,F$5))","v":9.7603665018949286},{"$f":"IF(F$8=\"d\",1,-1)*(IF(F$7=\"c\",MAX($A28-F$6,0),MAX(F$6-$A28,0))-F$11*((1+F$3)^F$5))","v":-0.67631797800379534},{"$f":"IF(H$8=\"d\",1,-1)*IF(H$7=\"c\",call_wycena($A28, H$6,H$3, H$4,H$5),put_wycena($A28, H$6,H$3, H$4,H$5))","v":-1.8654966552573828},{"$f":"IF(H$8=\"d\",1,-1)*(IF(H$7=\"c\",MAX($A28-H$6,0),MAX(H$6-$A28,0))-H$11*((1+H$3)^H$5))","v":9.0414390673057845},{"$f":"IF(J$8=\"d\",1,-1)*IF(J$7=\"c\",call_wycena($A28, J$6,J$3, J$4,J$5),put_wycena($A28, J$6,J$3, J$4,J$5))","v":-1.8654966552573828},{"$f":"IF(J$8=\"d\",1,-1)*(IF(J$7=\"c\",MAX($A28-J$6,0),MAX(J$6-$A28,0))-J$11*((1+J$3)^J$5))","v":9.0414390673057845},{"$f":"IF(L$8=\"d\",1,-1)*IF(L$7=\"c\",call_wycena($A28, L$6,L$3, L$4,L$5),put_wycena($A28, L$6,L$3, L$4,L$5))","v":-1.8654966552573828},{"$f":"IF(L$8=\"d\",1,-1)*(IF(L$7=\"c\",MAX($A28-L$6,0),MAX(L$6-$A28,0))-L$11*((1+L$3)^L$5))","v":9.0414390673057845},null,18.002686247590333,-2.9541207794610971]
[78,{"$f":"IF(B$8=\"d\",1,-1)*IF(B$7=\"c\",call_wycena($A29, B$6,B$3, B$4,B$5),put_wycena($A29, B$6,B$3, B$4,B$5))","v":15.833780117144073},5.5873182878446874,{"$f":"IF(D$8=\"d\",1,-1)*IF(D$7=\"c\",call_wycena($A29, D$6,D$3, D$4,D$5),put_wycena($A29, D$6,D$3, D$4,D$5))","v":1.952310390260795},-9.0414390673057845,{"$f":"IF(F$8=\"d\",1,-1)*IF(F$7=\"c\",call_wycena($A29, F$6,F$3, F$4,F$5),put_wycena($A29, F$6,F$3, F$4,F$5))","v":9.5345556151271751},{"$f":"IF(F$8=\"d\",1,-1)*(IF(F$7=\"c\",MAX($A29-F$6,0),MAX(F$6-$A29,0))-F$11*((1+F$3)^F$5))","v":-1.1763179780037953},{"$f":"IF(H$8=\"d\",1,-1)*IF(H$7=\"c\",call_wycena($A29, H$6,H$3, H$4,H$5),put_wycena($A29, H$6,H$3, H$4,H$5))","v":-1.952310390260795},{"$f":"IF(H$8=\"d\",1,-1)*(IF(H$7=\"c\",MAX($A29-H$6,0),MAX(H$6-$A29,0))-H$11*((1+H$3)^H$5))","v":9.0414390673057845},{"$f":"IF(J$8=\"d\",1,-1)*IF(J$7=\"c\",call_wycena($A29, J$6,J$3, J$4,J$5),put_wycena($A29, J$6,J$3, J$4,J$5))","v":-1.952310390260795},{"$f":"IF(J$8=\"d\",1,-1)*(IF(J$7=\"c\",MAX($A29-J$6,0),MAX(J$6-$A29,0))-J$11*((1+J$3)^J$5))","v":9.0414390673057845},{"$f":"IF(L$8=\"d\",1,-1)*IF(L$7=\"c\",call_wycena($A29, L$6,L$3, L$4,L$5),put_wycena($A29, L$6,L$3, L$4,L$5))","v":-1.952310390260795},{"$f":"IF(L$8=\"d\",1,-1)*(IF(L$7=\"c\",MAX($A29-L$6,0),MAX(L$6-$A29,0))-L$11*((1+L$3)^L$5))","v":9.0414390673057845},null,17.786090507404868,-3.4541207794610971]
[78.5,{"$f":"IF(B$8=\"d\",1,-1)*IF(B$7=\"c\",call_wycena($A30, B$6,B$3, B$4,B$5),put_wycena($A30, B$6,B$3, B$4,B$5))","v":15.534490675780368},5.0873182878446874,{"$f":"IF(D$8=\"d\",1,-1)*IF(D$7=\"c\",call_wycena($A30, D$6,D$3, D$4,D$5),put_wycena($A30, D$6,D$3, D$4,D$5))","v":2.041891818308267},-9.0414390673057845,{"$f":"IF(F$8=\"d\",1,-1)*IF(F$7=\"c\",call_wycena($A30, F$6,F$3, F$4,F$5),put_wycena($A30, F$6,F$3, F$4,F$5))","v":9.312969698339451},{"$f":"IF(F$8=\"d\",1,-1)*(IF(F$7=\"c\",MAX($A30-F$6,0),MAX(F$6-$A30,0))-F$11*((1+F$3)^F$5))","v":-1.6763179780037953},{"$f":"IF(H$8=\"d\",1,-1)*IF(H$7=\"c\",call_wycena($A30, H$6,H$3, H$4,H$5),put_wycena($A30, H$6,H$3, H$4,H$5))","v":-2.041891818308267},{"$f":"IF(H$8=\"d\",1,-1)*(IF(H$7=\"c\",MAX($A30-H$6,0),MAX(H$6-$A30,0))-H$11*((1+H$3)^H$5))","v":9.0414390673057845},{"$f":"IF(J$8=\"d\",1,-1)*IF(J$7=\"c\",call_wycena($A30, J$6,J$3, J$4,J$5),put_wycena($A30, J$6,J$3, J$4,J$5))","v":-2.041891818308267},{"$f":"IF(J$8=\"d\",1,-1)*(IF(J$7=\"c\",MAX($A30-J$6,0),MAX(J$6-$A30,0))-J$11*((1+J$3)^J$5))","v":9.0414390673057845},{"$f":"IF(L$8=\"d\",1,-1)*IF(L$7=\"c\",call_wycena($A30, L$6,L$3, L$4,L$5),put_wycena($A30, L$6,L$3, L$4,L$5))","v":-2.041891818308267},{"$f":"IF(L$8=\"d\",1,-1)*(IF(L$7=\"c\",MAX($A30-L$6,0),MAX(L$6-$A30,0))-L$11*((1+L$3)^L$5))","v":9.0414390673057845},null,17.576382494088634,-3.9541207794610971]
[79,{"$f":"IF(B$8=\"d\",1,-1)*IF(B$7=\"c\",call_wycena($A31, B$6,B$3, B$4,B$5),put_wycena($A31, B$6,B$3, B$4,B$5))","v":15.239316858677498},4.5873182878446874,{"$f":"IF(D$8=\"d\",1,-1)*IF(D$7=\"c\",call_wycena($A31, D$6,D$3, D$4,D$5),put_wycena($A31, D$6,D$3, D$4,D$5))","v":2.1342776454670176},-9.0414390673057845,{"$f":"IF(F$8=\"d\",1,-1)*IF(F$7=\"c\",call_wycena($A31, F$6,F$3, F$4,F$5),put_wycena($A31, F$6,F$3, F$4,F$5))","v":9.095569086042893},{"$f":"IF(F$8=\"d\",1,-1)*(IF(F$7=\"c\",MAX($A31-F$6,0),MAX(F$6-$A31,0))-F$11*((1+F$3)^F$5))","v":-2.1763179780037953},{"$f":"IF(H$8=\"d\",1,-1)*IF(H$7=\"c\",call_wycena($A31, H$6,H$3, H$4,H$5),put_wycena($A31, H$6,H$3, H$4,H$5))","v":-2.1342776454670176},{"$f":"IF(H$8=\"d\",1,-1)*(IF(H$7=\"c\",MAX($A31-H$6,0),MAX(H$6-$A31,0))-H$11*((1+H$3)^H$5))","v":9.0414390673057845},{"$f":"IF(J$8=\"d\",1,-1)*IF(J$7=\"c\",call_wycena($A31, J$6,J$3, J$4,J$5),put_wycena($A31, J$6,J$3, J$4,J$5))","v":-2.1342776454670176},{"$f":"IF(J$8=\"d\",1,-1)*(IF(J$7=\"c\",MAX($A31-J$6,0),MAX(J$6-$A31,0))-J$11*((1+J$3)^J$5))","v":9.0414390673057845},{"$f":"IF(L$8=\"d\",1,-1)*IF(L$7=\"c\",call_wycena($A31, L$6,L$3, L$4,L$5),put_wycena($A31, L$6,L$3, L$4,L$5))","v":-2.1342776454670176},{"$f":"IF(L$8=\"d\",1,-1)*(IF(L$7=\"c\",MAX($A31-L$6,0),MAX(L$6-$A31,0))-L$11*((1+L$3)^L$5))","v":9.0414390673057845},null,17.373594504144513,-4.4541207794610971]
[79.5,{"$f":"IF(B$8=\"d\",1,-1)*IF(B$7=\"c\",call_wycena($A32, B$6,B$3, B$4,B$5),put_wycena($A32, B$6,B$3, B$4,B$5))","v":14.948252442048947},4.0873182878446874,{"$f":"IF(D$8=\"d\",1,-1)*IF(D$7=\"c\",call_wycena($A32, D$6,D$3, D$4,D$5),put_wycena($A32, D$6,D$3, D$4,D$5))","v":2.2295035505755134},-9.0414390673057845,{"$f":"IF(F$8=\"d\",1,-1)*IF(F$7=\"c\",call_wycena($A32, F$6,F$3, F$4,F$5),put_wycena($A32, F$6,F$3, F$4,F$5))","v":8.8823128707756354},{"$f":"IF(F$8=\"d\",1,-1)*(IF(F$7=\"c\",MAX($A32-F$6,0),MAX(F$6-$A32,0))-F$11*((1+F$3)^F$5))","v":-2.6763179780037953},{"$f":"IF(H$8=\"d\",1,-1)*IF(H$7=\"c\",call_wycena($A32, H$6,H$3, H$4,H$5),put_wycena($A32, H$6,H$3, H$4,H$5))","v":-2.2295035505755134},{"$f":"IF(H$8=\"d\",1,-1)*(IF(H$7=\"c\",MAX($A32-H$6,0),MAX(H$6-$A32,0))-H$11*((1+H$3)^H$5))","v":9.0414390673057845},{"$f":"IF(J$8=\"d\",1,-1)*IF(J$7=\"c\",call_wycena($A32, J$6,J$3, J$4,J$5),put_wycena($A32, J$6,J$3, J$4,J$5))","v":-2.2295035505755134},{"$f":"IF(J$8=\"d\",1,-1)*(IF(J$7=\"c\",MAX($A32-J$6,0),MAX(J$6-$A32,0))-J$11*((1+J$3)^J$5))","v":9.0414390673057845},{"$f":"IF(L$8=\"d\",1,-1)*IF(L$7=\"c\",call_wycena($A32, L$6,L$3, L$4,L$5),put_wycena($A32, L$6,L$3, L$4,L$5))","v":-2.2295035505755134},{"$f":"IF(L$8=\"d\",1,-1)*(IF(L$7=\"c\",MAX($A32-L$6,0),MAX(L$6-$A32,0))-L$11*((1+L$3)^L$5))","v":9.0414390673057845},null,17.177755992624462,-4.9541207794610971]
[80,{"$f":"IF(B$8=\"d\",1,-1)*IF(B$7=\"c\",call_wycena($A33, B$6,B$3, B$4,B$5),put_wycena($A33, B$6,B$3, B$4,B$5))","v":14.66128943062121},3.5873182878446874,{"$f":"IF(D$8=\"d\",1,-1)*IF(D$7=\"c\",call_wycena($A33, D$6,D$3, D$4,D$5),put_wycena($A33, D$6,D$3, D$4,D$5))","v":2.3276041613640359},-9.0414390673057845,{"$f":"IF(F$8=\"d\",1,-1)*IF(F$7=\"c\",call_wycena($A33, F$6,F$3, F$4,F$5),put_wycena($A33, F$6,F$3, F$4,F$5))","v":8.6731589786935501},{"$f":"IF(F$8=\"d\",1,-1)*(IF(F$7=\"c\",MAX($A33-F$6,0),MAX(F$6-$A33,0))-F$11*((1+F$3)^F$5))","v":-3.1763179780037953},{"$f":"IF(H$8=\"d\",1,-1)*IF(H$7=\"c\",call_wycena($A33, H$6,H$3, H$4,H$5),put_wycena($A33, H$6,H$3, H$4,H$5))","v":-2.3276041613640359},{"$f":"IF(H$8=\"d\",1,-1)*(IF(H$7=\"c\",MAX($A33-H$6,0),MAX(H$6-$A33,0))-H$11*((1+H$3)^H$5))","v":9.0414390673057845},{"$f":"IF(J$8=\"d\",1,-1)*IF(J$7=\"c\",call_wycena($A33, J$6,J$3, J$4,J$5),put_wycena($A33, J$6,J$3, J$4,J$5))","v":-2.3276041613640359},{"$f":"IF(J$8=\"d\",1,-1)*(IF(J$7=\"c\",MAX($A33-J$6,0),MAX(J$6-$A33,0))-J$11*((1+J$3)^J$5))","v":9.0414390673057845},{"$f":"IF(L$8=\"d\",1,-1)*IF(L$7=\"c\",call_wycena($A33, L$6,L$3, L$4,L$5),put_wycena($A33, L$6,L$3, L$4,L$5))","v":-2.3276041613640359},{"$f":"IF(L$8=\"d\",1,-1)*(IF(L$7=\"c\",MAX($A33-L$6,0),MAX(L$6-$A33,0))-L$11*((1+L$3)^L$5))","v":9.0414390673057845},null,16.988893591985246,-5.4541207794610971]
[80.5,{"$f":"IF(B$8=\"d\",1,-1)*IF(B$7=\"c\",call_wycena($A34, B$6,B$3, B$4,B$5),put_wycena($A34, B$6,B$3, B$4,B$5))","v":14.378418101629279},3.0873182878446874,{"$f":"IF(D$8=\"d\",1,-1)*IF(D$7=\"c\",call_wycena($A34, D$6,D$3, D$4,D$5),put_wycena($A34, D$6,D$3, D$4,D$5))","v":2.4286130323255364},-9.0414390673057845,{"$f":"IF(F$8=\"d\",1,-1)*IF(F$7=\"c\",call_wycena($A34, F$6,F$3, F$4,F$5),put_wycena($A34, F$6,F$3, F$4,F$5))","v":8.4680642440446121},{"$f":"IF(F$8=\"d\",1,-1)*(IF(F$7=\"c\",MAX($A34-F$6,0),MAX(F$6-$A34,0))-F$11*((1+F$3)^F$5))","v":-3.1763179780037953},{"$f":"IF(H$8=\"d\",1,-1)*IF(H$7=\"c\",call_wycena($A34, H$6,H$3, H$4,H$5),put_wycena($A34, H$6,H$3, H$4,H$5))","v":-2.4286130323255364},{"$f":"IF(H$8=\"d\",1,-1)*(IF(H$7=\"c\",MAX($A34-H$6,0),MAX(H$6-$A34,0))-H$11*((1+H$3)^H$5))","v":9.0414390673057845},{"$f":"IF(J$8=\"d\",1,-1)*IF(J$7=\"c\",call_wycena($A34, J$6,J$3, J$4,J$5),put_wycena($A34, J$6,J$3, J$4,J$5))","v":-2.4286130323255364},{"$f":"IF(J$8=\"d\",1,-1)*(IF(J$7=\"c\",MAX($A34-J$6,0),MAX(J$6-$A34,0))-J$11*((1+J$3)^J$5))","v":9.0414390673057845},{"$f":"IF(L$8=\"d\",1,-1)*IF(L$7=\"c\",call_wycena($A34, L$6,L$3, L$4,L$5),put_wycena($A34, L$6,L$3, L$4,L$5))","v":-2.4286130323255364},{"$f":"IF(L$8=\"d\",1,-1)*(IF(L$7=\"c\",MAX($A34-L$6,0),MAX(L$6-$A34,0))-L$11*((1+L$3)^L$5))","v":9.0414390673057845},null,16.807031133954816,-5.9541207794610971]
[81,{"$f":"IF(B$8=\"d\",1,-1)*IF(B$7=\"c\",call_wycena($A35, B$6,B$3, B$4,B$5),put_wycena($A35, B$6,B$3, B$4,B$5))","v":14.099627049937013},2.5873182878446874,{"$f":"IF(D$8=\"d\",1,-1)*IF(D$7=\"c\",call_wycena($A35, D$6,D$3, D$4,D$5),put_wycena($A35, D$6,D$3, D$4,D$5))","v":2.5325626243329804},-9.0414390673057845,{"$f":"IF(F$8=\"d\",1,-1)*IF(F$7=\"c\",call_wycena($A35, F$6,F$3, F$4,F$5),put_wycena($A35, F$6,F$3, F$4,F$5))","v":8.266984482426281},{"$f":"IF(F$8=\"d\",1,-1)*(IF(F$7=\"c\",MAX($A35-F$6,0),MAX(F$6-$A35,0))-F$11*((1+F$3)^F$5))","v":-3.1763179780037953},{"$f":"IF(H$8=\"d\",1,-1)*IF(H$7=\"c\",call_wycena($A35, H$6,H$3, H$4,H$5),put_wycena($A35, H$6,H$3, H$4,H$5))","v":-2.5325626243329804},{"$f":"IF(H$8=\"d\",1,-1)*(IF(H$7=\"c\",MAX($A35-H$6,0),MAX(H$6-$A35,0))-H$11*((1+H$3)^H$5))","v":9.0414390673057845},{"$f":"IF(J$8=\"d\",1,-1)*IF(J$7=\"c\",call_wycena($A35, J$6,J$3, J$4,J$5),put_wycena($A35, J$6,J$3, J$4,J$5))","v":-2.5325626243329804},{"$f":"IF(J$8=\"d\",1,-1)*(IF(J$7=\"c\",MAX($A35-J$6,0),MAX(J$6-$A35,0))-J$11*((1+J$3)^J$5))","v":9.0414390673057845},{"$f":"IF(L$8=\"d\",1,-1)*IF(L$7=\"c\",call_wycena($A35, L$6,L$3, L$4,L$5),put_wycena($A35, L$6,L$3, L$4,L$5))","v":-2.5325626243329804},{"$f":"IF(L$8=\"d\",1,-1)*(IF(L$7=\"c\",MAX($A35-L$6,0),MAX(L$6-$A35,0))-L$11*((1+L$3)^L$5))","v":9.0414390673057845},null,16.632189674269995,-6.4541207794610971]
[81.5,{"$f":"IF(B$8=\"d\",1,-1)*IF(B$7=\"c\",call_wycena($A36, B$6,B$3, B$4,B$5),put_wycena($A36, B$6,B$3, B$4,B$5))","v":13.824903234150206},2.0873182878446874,{"$f":"IF(D$8=\"d\",1,-1)*IF(D$7=\"c\",call_wycena($A36, D$6,D$3, D$4,D$5),put_wycena($A36, D$6,D$3, D$4,D$5))","v":2.6394842859945058},-9.0414390673057845,{"$f":"IF(F$8=\"d\",1,-1)*IF(F$7=\"c\",call_wycena($A36, F$6,F$3, F$4,F$5),put_wycena($A36, F$6,F$3, F$4,F$5))","v":8.0698745627344302},{"$f":"IF(F$8=\"d\",1,-1)*(IF(F$7=\"c\",MAX($A36-F$6,0),MAX(F$6-$A36,0))-F$11*((1+F$3)^F$5))","v":-3.1763179780037953},{"$f":"IF(H$8=\"d\",1,-1)*IF(H$7=\"c\",call_wycena($A36, H$6,H$3, H$4,H$5),put_wycena($A36, H$6,H$3, H$4,H$5))","v":-2.6394842859945058},{"$f":"IF(H$8=\"d\",1,-1)*(IF(H$7=\"c\",MAX($A36-H$6,0),MAX(H$6-$A36,0))-H$11*((1+H$3)^H$5))","v":9.0414390673057845},{"$f":"IF(J$8=\"d\",1,-1)*IF(J$7=\"c\",call_wycena($A36, J$6,J$3, J$4,J$5),put_wycena($A36, J$6,J$3, J$4,J$5))","v":-2.6394842859945058},{"$f":"IF(J$8=\"d\",1,-1)*(IF(J$7=\"c\",MAX($A36-J$6,0),MAX(J$6-$A36,0))-J$11*((1+J$3)^J$5))","v":9.0414390673057845},{"$f":"IF(L$8=\"d\",1,-1)*IF(L$7=\"c\",call_wycena($A36, L$6,L$3, L$4,L$5),put_wycena($A36, L$6,L$3, L$4,L$5))","v":-2.6394842859945058},{"$f":"IF(L$8=\"d\",1,-1)*(IF(L$7=\"c\",MAX($A36-L$6,0),MAX(L$6-$A36,0))-L$11*((1+L$3)^L$5))","v":9.0414390673057845},null,16.464387520144712,-6.9541207794610971]
[82,{"$f":"IF(B$8=\"d\",1,-1)*IF(B$7=\"c\",call_wycena($A37, B$6,B$3, B$4,B$5),put_wycena($A37, B$6,B$3, B$4,B$5))","v":13.554232023594679},1.5873182878446874,{"$f":"IF(D$8=\"d\",1,-1)*IF(D$7=\"c\",call_wycena($A37, D$6,D$3, D$4,D$5),put_wycena($A37, D$6,D$3, D$4,D$5))","v":2.7494082367343058},-9.0414390673057845,{"$f":"IF(F$8=\"d\",1,-1)*IF(F$7=\"c\",call_wycena($A37, F$6,F$3, F$4,F$5),put_wycena($A37, F$6,F$3, F$4,F$5))","v":7.8766884777203217},{"$f":"IF(F$8=\"d\",1,-1)*(IF(F$7=\"c\",MAX($A37-F$6,0),MAX(F$6-$A37,0))-F$11*((1+F$3)^F$5))","v":-3.1763179780037953},{"$f":"IF(H$8=\"d\",1,-1)*IF(H$7=\"c\",call_wycena($A37, H$6,H$3, H$4,H$5),put_wycena($A37, H$6,H$3, H$4,H$5))","v":-2.7494082367343058},{"$f":"IF(H$8=\"d\",1,-1)*(IF(H$7=\"c\",MAX($A37-H$6,0),MAX(H$6-$A37,0))-H$11*((1+H$3)^H$5))","v":9.0414390673057845},{"$f":"IF(J$8=\"d\",1,-1)*IF(J$7=\"c\",call_wycena($A37, J$6,J$3, J$4,J$5),put_wycena($A37, J$6,J$3, J$4,J$5))","v":-2.7494082367343058},{"$f":"IF(J$8=\"d\",1,-1)*(IF(J$7=\"c\",MAX($A37-J$6,0),MAX(J$6-$A37,0))-J$11*((1+J$3)^J$5))","v":9.0414390673057845},{"$f":"IF(L$8=\"d\",1,-1)*IF(L$7=\"c\",call_wycena($A37, L$6,L$3, L$4,L$5),put_wycena($A37, L$6,L$3, L$4,L$5))","v":-2.7494082367343058},{"$f":"IF(L$8=\"d\",1,-1)*(IF(L$7=\"c\",MAX($A37-L$6,0),MAX(L$6-$A37,0))-L$11*((1+L$3)^L$5))","v":9.0414390673057845},null,16.303640260328983,-7.4541207794610971]
[82.5,{"$f":"IF(B$8=\"d\",1,-1)*IF(B$7=\"c\",call_wycena($A38, B$6,B$3, B$4,B$5),put_wycena($A38, B$6,B$3, B$4,B$5))","v":13.287597246035354},1.0873182878446874,{"$f":"IF(D$8=\"d\",1,-1)*IF(D$7=\"c\",call_wycena($A38, D$6,D$3, D$4,D$5),put_wycena($A38, D$6,D$3, D$4,D$5))","v":2.8623635515838721},-9.0414390673057845,{"$f":"IF(F$8=\"d\",1,-1)*IF(F$7=\"c\",call_wycena($A38, F$6,F$3, F$4,F$5),put_wycena($A38, F$6,F$3, F$4,F$5))","v":7.6873794130811923},{"$f":"IF(F$8=\"d\",1,-1)*(IF(F$7=\"c\",MAX($A38-F$6,0),MAX(F$6-$A38,0))-F$11*((1+F$3)^F$5))","v":-3.1763179780037953},{"$f":"IF(H$8=\"d\",1,-1)*IF(H$7=\"c\",call_wycena($A38, H$6,H$3, H$4,H$5),put_wycena($A38, H$6,H$3, H$4,H$5))","v":-2.8623635515838721},{"$f":"IF(H$8=\"d\",1,-1)*(IF(H$7=\"c\",MAX($A38-H$6,0),MAX(H$6-$A38,0))-H$11*((1+H$3)^H$5))","v":9.0414390673057845},{"$f":"IF(J$8=\"d\",1,-1)*IF(J$7=\"c\",call_wycena($A38, J$6,J$3, J$4,J$5),put_wycena($A38, J$6,J$3, J$4,J$5))","v":-2.8623635515838721},{"$f":"IF(J$8=\"d\",1,-1)*(IF(J$7=\"c\",MAX($A38-J$6,0),MAX(J$6-$A38,0))-J$11*((1+J$3)^J$5))","v":9.0414390673057845},{"$f":"IF(L$8=\"d\",1,-1)*IF(L$7=\"c\",call_wycena($A38, L$6,L$3, L$4,L$5),put_wycena($A38, L$6,L$3, L$4,L$5))","v":-2.8623635515838721},{"$f":"IF(L$8=\"d\",1,-1)*(IF(L$7=\"c\",MAX($A38-L$6,0),MAX(L$6-$A38,0))-L$11*((1+L$3)^L$5))","v":9.0414390673057845},null,16.149960797619226,-7.9541207794610971]
[83,{"$f":"IF(B$8=\"d\",1,-1)*IF(B$7=\"c\",call_wycena($A39, B$6,B$3, B$4,B$5),put_wycena($A39, B$6,B$3, B$4,B$5))","v":13.024981236016934},0.58731828784468743,{"$f":"IF(D$8=\"d\",1,-1)*IF(D$7=\"c\",call_wycena($A39, D$6,D$3, D$4,D$5),put_wycena($A39, D$6,D$3, D$4,D$5))","v":2.978378147664543},-9.0414390673057845,{"$f":"IF(F$8=\"d\",1,-1)*IF(F$7=\"c\",call_wycena($A39, F$6,F$3, F$4,F$5),put_wycena($A39, F$6,F$3, F$4,F$5))","v":7.5018998150175733},{"$f":"IF(F$8=\"d\",1,-1)*(IF(F$7=\"c\",MAX($A39-F$6,0),MAX(F$6-$A39,0))-F$11*((1+F$3)^F$5))","v":-3.1763179780037953},{"$f":"IF(H$8=\"d\",1,-1)*IF(H$7=\"c\",call_wycena($A39, H$6,H$3, H$4,H$5),put_wycena($A39, H$6,H$3, H$4,H$5))","v":-2.978378147664543},{"$f":"IF(H$8=\"d\",1,-1)*(IF(H$7=\"c\",MAX($A39-H$6,0),MAX(H$6-$A39,0))-H$11*((1+H$3)^H$5))","v":9.0414390673057845},{"$f":"IF(J$8=\"d\",1,-1)*IF(J$7=\"c\",call_wycena($A39, J$6,J$3, J$4,J$5),put_wycena($A39, J$6,J$3, J$4,J$5))","v":-2.978378147664543},{"$f":"IF(J$8=\"d\",1,-1)*(IF(J$7=\"c\",MAX($A39-J$6,0),MAX(J$6-$A39,0))-J$11*((1+J$3)^J$5))","v":9.0414390673057845},{"$f":"IF(L$8=\"d\",1,-1)*IF(L$7=\"c\",call_wycena($A39, L$6,L$3, L$4,L$5),put_wycena($A39, L$6,L$3, L$4,L$5))","v":-2.978378147664543},{"$f":"IF(L$8=\"d\",1,-1)*(IF(L$7=\"c\",MAX($A39-L$6,0),MAX(L$6-$A39,0))-L$11*((1+L$3)^L$5))","v":9.0414390673057845},null,16.003359383681477,-8.4541207794610962]
[83.5,{"$f":"IF(B$8=\"d\",1,-1)*IF(B$7=\"c\",call_wycena($A40, B$6,B$3, B$4,B$5),put_wycena($A40, B$6,B$3, B$4,B$5))","v":12.766364883710899},8.7318287844687426E-2,{"$f":"IF(D$8=\"d\",1,-1)*IF(D$7=\"c\",call_wycena($A40, D$6,D$3, D$4,D$5),put_wycena($A40, D$6,D$3, D$4,D$5))","v":3.0974787723400325},-9.0414390673057845,{"$f":"IF(F$8=\"d\",1,-1)*IF(F$7=\"c\",call_wycena($A40, F$6,F$3, F$4,F$5),put_wycena($A40, F$6,F$3, F$4,F$5))","v":7.3202014561980988},{"$f":"IF(F$8=\"d\",1,-1)*(IF(F$7=\"c\",MAX($A40-F$6,0),MAX(F$6-$A40,0))-F$11*((1+F$3)^F$5))","v":-3.1763179780037953},{"$f":"IF(H$8=\"d\",1,-1)*IF(H$7=\"c\",call_wycena($A40, H$6,H$3, H$4,H$5),put_wycena($A40, H$6,H$3, H$4,H$5))","v":-3.0974787723400325},{"$f":"IF(H$8=\"d\",1,-1)*(IF(H$7=\"c\",MAX($A40-H$6,0),MAX(H$6-$A40,0))-H$11*((1+H$3)^H$5))","v":9.0414390673057845},{"$f":"IF(J$8=\"d\",1,-1)*IF(J$7=\"c\",call_wycena($A40, J$6,J$3, J$4,J$5),put_wycena($A40, J$6,J$3, J$4,J$5))","v":-3.0974787723400325},{"$f":"IF(J$8=\"d\",1,-1)*(IF(J$7=\"c\",MAX($A40-J$6,0),MAX(J$6-$A40,0))-J$11*((1+J$3)^J$5))","v":9.0414390673057845},{"$f":"IF(L$8=\"d\",1,-1)*IF(L$7=\"c\",call_wycena($A40, L$6,L$3, L$4,L$5),put_wycena($A40, L$6,L$3, L$4,L$5))","v":-3.0974787723400325},{"$f":"IF(L$8=\"d\",1,-1)*(IF(L$7=\"c\",MAX($A40-L$6,0),MAX(L$6-$A40,0))-L$11*((1+L$3)^L$5))","v":9.0414390673057845},null,15.863843656050932,-8.9541207794610962]
[84,{"$f":"IF(B$8=\"d\",1,-1)*IF(B$7=\"c\",call_wycena($A41, B$6,B$3, B$4,B$5),put_wycena($A41, B$6,B$3, B$4,B$5))","v":12.511727684157876},-0.41268171215531257,{"$f":"IF(D$8=\"d\",1,-1)*IF(D$7=\"c\",call_wycena($A41, D$6,D$3, D$4,D$5),put_wycena($A41, D$6,D$3, D$4,D$5))","v":3.2196909930133479},-9.0414390673057845,{"$f":"IF(F$8=\"d\",1,-1)*IF(F$7=\"c\",call_wycena($A41, F$6,F$3, F$4,F$5),put_wycena($A41, F$6,F$3, F$4,F$5))","v":7.1422355000804423},{"$f":"IF(F$8=\"d\",1,-1)*(IF(F$7=\"c\",MAX($A41-F$6,0),MAX(F$6-$A41,0))-F$11*((1+F$3)^F$5))","v":-3.1763179780037953},{"$f":"IF(H$8=\"d\",1,-1)*IF(H$7=\"c\",call_wycena($A41, H$6,H$3, H$4,H$5),put_wycena($A41, H$6,H$3, H$4,H$5))","v":-3.2196909930133479},{"$f":"IF(H$8=\"d\",1,-1)*(IF(H$7=\"c\",MAX($A41-H$6,0),MAX(H$6-$A41,0))-H$11*((1+H$3)^H$5))","v":9.0414390673057845},{"$f":"IF(J$8=\"d\",1,-1)*IF(J$7=\"c\",call_wycena($A41, J$6,J$3, J$4,J$5),put_wycena($A41, J$6,J$3, J$4,J$5))","v":-3.2196909930133479},{"$f":"IF(J$8=\"d\",1,-1)*(IF(J$7=\"c\",MAX($A41-J$6,0),MAX(J$6-$A41,0))-J$11*((1+J$3)^J$5))","v":9.0414390673057845},{"$f":"IF(L$8=\"d\",1,-1)*IF(L$7=\"c\",call_wycena($A41, L$6,L$3, L$4,L$5),put_wycena($A41, L$6,L$3, L$4,L$5))","v":-3.2196909930133479},{"$f":"IF(L$8=\"d\",1,-1)*(IF(L$7=\"c\",MAX($A41-L$6,0),MAX(L$6-$A41,0))-L$11*((1+L$3)^L$5))","v":9.0414390673057845},null,15.731418677171224,-9.4541207794610962]
[84.5,{"$f":"IF(B$8=\"d\",1,-1)*IF(B$7=\"c\",call_wycena($A42, B$6,B$3, B$4,B$5),put_wycena($A42, B$6,B$3, B$4,B$5))","v":12.261047786799523},-0.91268171215531257,{"$f":"IF(D$8=\"d\",1,-1)*IF(D$7=\"c\",call_wycena($A42, D$6,D$3, D$4,D$5),put_wycena($A42, D$6,D$3, D$4,D$5))","v":3.3450391885414454},-9.0414390673057845,{"$f":"IF(F$8=\"d\",1,-1)*IF(F$7=\"c\",call_wycena($A42, F$6,F$3, F$4,F$5),put_wycena($A42, F$6,F$3, F$4,F$5))","v":6.9679525635433279},{"$f":"IF(F$8=\"d\",1,-1)*(IF(F$7=\"c\",MAX($A42-F$6,0),MAX(F$6-$A42,0))-F$11*((1+F$3)^F$5))","v":-3.1763179780037953},{"$f":"IF(H$8=\"d\",1,-1)*IF(H$7=\"c\",call_wycena($A42, H$6,H$3, H$4,H$5),put_wycena($A42, H$6,H$3, H$4,H$5))","v":-3.3450391885414454},{"$f":"IF(H$8=\"d\",1,-1)*(IF(H$7=\"c\",MAX($A42-H$6,0),MAX(H$6-$A42,0))-H$11*((1+H$3)^H$5))","v":9.0414390673057845},{"$f":"IF(J$8=\"d\",1,-1)*IF(J$7=\"c\",call_wycena($A42, J$6,J$3, J$4,J$5),put_wycena($A42, J$6,J$3, J$4,J$5))","v":-3.3450391885414454},{"$f":"IF(J$8=\"d\",1,-1)*(IF(J$7=\"c\",MAX($A42-J$6,0),MAX(J$6-$A42,0))-J$11*((1+J$3)^J$5))","v":9.0414390673057845},{"$f":"IF(L$8=\"d\",1,-1)*IF(L$7=\"c\",call_wycena($A42, L$6,L$3, L$4,L$5),put_wycena($A42, L$6,L$3, L$4,L$5))","v":-3.3450391885414454},{"$f":"IF(L$8=\"d\",1,-1)*(IF(L$7=\"c\",MAX($A42-L$6,0),MAX(L$6-$A42,0))-L$11*((1+L$3)^L$5))","v":9.0414390673057845},null,15.606086975340968,-9.9541207794610962]
[85,{"$f":"IF(B$8=\"d\",1,-1)*IF(B$7=\"c\",call_wycena($A43, B$6,B$3, B$4,B$5),put_wycena($A43, B$6,B$3, B$4,B$5))","v":12.014302045197837},-1.4126817121553126,{"$f":"IF(D$8=\"d\",1,-1)*IF(D$7=\"c\",call_wycena($A43, D$6,D$3, D$4,D$5),put_wycena($A43, D$6,D$3, D$4,D$5))","v":3.473546542237365},-9.0414390673057845,{"$f":"IF(F$8=\"d\",1,-1)*IF(F$7=\"c\",call_wycena($A43, F$6,F$3, F$4,F$5),put_wycena($A43, F$6,F$3, F$4,F$5))","v":6.797302777792126},{"$f":"IF(F$8=\"d\",1,-1)*(IF(F$7=\"c\",MAX($A43-F$6,0),MAX(F$6-$A43,0))-F$11*((1+F$3)^F$5))","v":-3.1763179780037953},{"$f":"IF(H$8=\"d\",1,-1)*IF(H$7=\"c\",call_wycena($A43, H$6,H$3, H$4,H$5),put_wycena($A43, H$6,H$3, H$4,H$5))","v":-3.473546542237365},{"$f":"IF(H$8=\"d\",1,-1)*(IF(H$7=\"c\",MAX($A43-H$6,0),MAX(H$6-$A43,0))-H$11*((1+H$3)^H$5))","v":9.0414390673057845},{"$f":"IF(J$8=\"d\",1,-1)*IF(J$7=\"c\",call_wycena($A43, J$6,J$3, J$4,J$5),put_wycena($A43, J$6,J$3, J$4,J$5))","v":-3.473546542237365},{"$f":"IF(J$8=\"d\",1,-1)*(IF(J$7=\"c\",MAX($A43-J$6,0),MAX(J$6-$A43,0))-J$11*((1+J$3)^J$5))","v":9.0414390673057845},{"$f":"IF(L$8=\"d\",1,-1)*IF(L$7=\"c\",call_wycena($A43, L$6,L$3, L$4,L$5),put_wycena($A43, L$6,L$3, L$4,L$5))","v":-3.473546542237365},{"$f":"IF(L$8=\"d\",1,-1)*(IF(L$7=\"c\",MAX($A43-L$6,0),MAX(L$6-$A43,0))-L$11*((1+L$3)^L$5))","v":9.0414390673057845},null,15.487848587435202,-10.454120779461096]
[85.5,{"$f":"IF(B$8=\"d\",1,-1)*IF(B$7=\"c\",call_wycena($A44, B$6,B$3, B$4,B$5),put_wycena($A44, B$6,B$3, B$4,B$5))","v":11.771466066845072},-1.9126817121553126,{"$f":"IF(D$8=\"d\",1,-1)*IF(D$7=\"c\",call_wycena($A44, D$6,D$3, D$4,D$5),put_wycena($A44, D$6,D$3, D$4,D$5))","v":3.605235036427338},-9.0414390673057845,{"$f":"IF(F$8=\"d\",1,-1)*IF(F$7=\"c\",call_wycena($A44, F$6,F$3, F$4,F$5),put_wycena($A44, F$6,F$3, F$4,F$5))","v":6.6302358475060323},{"$f":"IF(F$8=\"d\",1,-1)*(IF(F$7=\"c\",MAX($A44-F$6,0),MAX(F$6-$A44,0))-F$11*((1+F$3)^F$5))","v":-3.1763179780037953},{"$f":"IF(H$8=\"d\",1,-1)*IF(H$7=\"c\",call_wycena($A44, H$6,H$3, H$4,H$5),put_wycena($A44, H$6,H$3, H$4,H$5))","v":-3.605235036427338},{"$f":"IF(H$8=\"d\",1,-1)*(IF(H$7=\"c\",MAX($A44-H$6,0),MAX(H$6-$A44,0))-H$11*((1+H$3)^H$5))","v":9.0414390673057845},{"$f":"IF(J$8=\"d\",1,-1)*IF(J$7=\"c\",call_wycena($A44, J$6,J$3, J$4,J$5),put_wycena($A44, J$6,J$3, J$4,J$5))","v":-3.605235036427338},{"$f":"IF(J$8=\"d\",1,-1)*(IF(J$7=\"c\",MAX($A44-J$6,0),MAX(J$6-$A44,0))-J$11*((1+J$3)^J$5))","v":9.0414390673057845},{"$f":"IF(L$8=\"d\",1,-1)*IF(L$7=\"c\",call_wycena($A44, L$6,L$3, L$4,L$5),put_wycena($A44, L$6,L$3, L$4,L$5))","v":-3.605235036427338},{"$f":"IF(L$8=\"d\",1,-1)*(IF(L$7=\"c\",MAX($A44-L$6,0),MAX(L$6-$A44,0))-L$11*((1+L$3)^L$5))","v":9.0414390673057845},null,15.37670110327241,-10.954120779461096]
[86,{"$f":"IF(B$8=\"d\",1,-1)*IF(B$7=\"c\",call_wycena($A45, B$6,B$3, B$4,B$5),put_wycena($A45, B$6,B$3, B$4,B$5))","v":11.532514262971624},{"$f":"IF(B$8=\"d\",1,-1)*(IF(B$7=\"c\",MAX($A45-B$6,0),MAX(B$6-$A45,0))-B$11*((1+B$3)^B$5))","v":-2.4126817121553126},{"$f":"IF(D$8=\"d\",1,-1)*IF(D$7=\"c\",call_wycena($A45, D$6,D$3, D$4,D$5),put_wycena($A45, D$6,D$3, D$4,D$5))","v":3.7401254485291879},{"$f":"IF(D$8=\"d\",1,-1)*(IF(D$7=\"c\",MAX($A45-D$6,0),MAX(D$6-$A45,0))-D$11*((1+D$3)^D$5))","v":-9.0414390673057845},{"$f":"IF(F$8=\"d\",1,-1)*IF(F$7=\"c\",call_wycena($A45, F$6,F$3, F$4,F$5),put_wycena($A45, F$6,F$3, F$4,F$5))","v":6.4667011082016721},{"$f":"IF(F$8=\"d\",1,-1)*(IF(F$7=\"c\",MAX($A45-F$6,0),MAX(F$6-$A45,0))-F$11*((1+F$3)^F$5))","v":-3.1763179780037953},{"$f":"IF(H$8=\"d\",1,-1)*IF(H$7=\"c\",call_wycena($A45, H$6,H$3, H$4,H$5),put_wycena($A45, H$6,H$3, H$4,H$5))","v":-3.7401254485291879},{"$f":"IF(H$8=\"d\",1,-1)*(IF(H$7=\"c\",MAX($A45-H$6,0),MAX(H$6-$A45,0))-H$11*((1+H$3)^H$5))","v":9.0414390673057845},{"$f":"IF(J$8=\"d\",1,-1)*IF(J$7=\"c\",call_wycena($A45, J$6,J$3, J$4,J$5),put_wycena($A45, J$6,J$3, J$4,J$5))","v":-3.7401254485291879},{"$f":"IF(J$8=\"d\",1,-1)*(IF(J$7=\"c\",MAX($A45-J$6,0),MAX(J$6-$A45,0))-J$11*((1+J$3)^J$5))","v":9.0414390673057845},{"$f":"IF(L$8=\"d\",1,-1)*IF(L$7=\"c\",call_wycena($A45, L$6,L$3, L$4,L$5),put_wycena($A45, L$6,L$3, L$4,L$5))","v":-3.7401254485291879},{"$f":"IF(L$8=\"d\",1,-1)*(IF(L$7=\"c\",MAX($A45-L$6,0),MAX(L$6-$A45,0))-L$11*((1+L$3)^L$5))","v":9.0414390673057845},null,15.272639711500812,-11.454120779461096]
[86.5,{"$f":"IF(B$8=\"d\",1,-1)*IF(B$7=\"c\",call_wycena($A46, B$6,B$3, B$4,B$5),put_wycena($A46, B$6,B$3, B$4,B$5))","v":11.297419898264209},-2.9126817121553126,{"$f":"IF(D$8=\"d\",1,-1)*IF(D$7=\"c\",call_wycena($A46, D$6,D$3, D$4,D$5),put_wycena($A46, D$6,D$3, D$4,D$5))","v":3.87823734861486},-9.0414390673057845,{"$f":"IF(F$8=\"d\",1,-1)*IF(F$7=\"c\",call_wycena($A46, F$6,F$3, F$4,F$5),put_wycena($A46, F$6,F$3, F$4,F$5))","v":6.3066475817933529},{"$f":"IF(F$8=\"d\",1,-1)*(IF(F$7=\"c\",MAX($A46-F$6,0),MAX(F$6-$A46,0))-F$11*((1+F$3)^F$5))","v":-3.1763179780037953},{"$f":"IF(H$8=\"d\",1,-1)*IF(H$7=\"c\",call_wycena($A46, H$6,H$3, H$4,H$5),put_wycena($A46, H$6,H$3, H$4,H$5))","v":-3.87823734861486},{"$f":"IF(H$8=\"d\",1,-1)*(IF(H$7=\"c\",MAX($A46-H$6,0),MAX(H$6-$A46,0))-H$11*((1+H$3)^H$5))","v":9.0414390673057845},{"$f":"IF(J$8=\"d\",1,-1)*IF(J$7=\"c\",call_wycena($A46, J$6,J$3, J$4,J$5),put_wycena($A46, J$6,J$3, J$4,J$5))","v":-3.87823734861486},{"$f":"IF(J$8=\"d\",1,-1)*(IF(J$7=\"c\",MAX($A46-J$6,0),MAX(J$6-$A46,0))-J$11*((1+J$3)^J$5))","v":9.0414390673057845},{"$f":"IF(L$8=\"d\",1,-1)*IF(L$7=\"c\",call_wycena($A46, L$6,L$3, L$4,L$5),put_wycena($A46, L$6,L$3, L$4,L$5))","v":-3.87823734861486},{"$f":"IF(L$8=\"d\",1,-1)*(IF(L$7=\"c\",MAX($A46-L$6,0),MAX(L$6-$A46,0))-L$11*((1+L$3)^L$5))","v":9.0414390673057845},null,15.175657246879069,-11.954120779461096]
[87,{"$f":"IF(B$8=\"d\",1,-1)*IF(B$7=\"c\",call_wycena($A47, B$6,B$3, B$4,B$5),put_wycena($A47, B$6,B$3, B$4,B$5))","v":11.066155140410658},-3.4126817121553126,{"$f":"IF(D$8=\"d\",1,-1)*IF(D$7=\"c\",call_wycena($A47, D$6,D$3, D$4,D$5),put_wycena($A47, D$6,D$3, D$4,D$5))","v":4.0195890984201057},-9.0414390673057845,{"$f":"IF(F$8=\"d\",1,-1)*IF(F$7=\"c\",call_wycena($A47, F$6,F$3, F$4,F$5),put_wycena($A47, F$6,F$3, F$4,F$5))","v":6.1500240303354659},{"$f":"IF(F$8=\"d\",1,-1)*(IF(F$7=\"c\",MAX($A47-F$6,0),MAX(F$6-$A47,0))-F$11*((1+F$3)^F$5))","v":-3.1763179780037953},{"$f":"IF(H$8=\"d\",1,-1)*IF(H$7=\"c\",call_wycena($A47, H$6,H$3, H$4,H$5),put_wycena($A47, H$6,H$3, H$4,H$5))","v":-4.0195890984201057},{"$f":"IF(H$8=\"d\",1,-1)*(IF(H$7=\"c\",MAX($A47-H$6,0),MAX(H$6-$A47,0))-H$11*((1+H$3)^H$5))","v":9.0414390673057845},{"$f":"IF(J$8=\"d\",1,-1)*IF(J$7=\"c\",call_wycena($A47, J$6,J$3, J$4,J$5),put_wycena($A47, J$6,J$3, J$4,J$5))","v":-4.0195890984201057},{"$f":"IF(J$8=\"d\",1,-1)*(IF(J$7=\"c\",MAX($A47-J$6,0),MAX(J$6-$A47,0))-J$11*((1+J$3)^J$5))","v":9.0414390673057845},{"$f":"IF(L$8=\"d\",1,-1)*IF(L$7=\"c\",call_wycena($A47, L$6,L$3, L$4,L$5),put_wycena($A47, L$6,L$3, L$4,L$5))","v":-4.0195890984201057},{"$f":"IF(L$8=\"d\",1,-1)*(IF(L$7=\"c\",MAX($A47-L$6,0),MAX(L$6-$A47,0))-L$11*((1+L$3)^L$5))","v":9.0414390673057845},null,15.085744238830763,-12.454120779461096]
[87.5,{"$f":"IF(B$8=\"d\",1,-1)*IF(B$7=\"c\",call_wycena($A48, B$6,B$3, B$4,B$5),put_wycena($A48, B$6,B$3, B$4,B$5))","v":10.83869110939294},-3.9126817121553126,{"$f":"IF(D$8=\"d\",1,-1)*IF(D$7=\"c\",call_wycena($A48, D$6,D$3, D$4,D$5),put_wycena($A48, D$6,D$3, D$4,D$5))","v":4.164197851760683},-9.0414390673057845,{"$f":"IF(F$8=\"d\",1,-1)*IF(F$7=\"c\",call_wycena($A48, F$6,F$3, F$4,F$5),put_wycena($A48, F$6,F$3, F$4,F$5))","v":5.9967790079381231},{"$f":"IF(F$8=\"d\",1,-1)*(IF(F$7=\"c\",MAX($A48-F$6,0),MAX(F$6-$A48,0))-F$11*((1+F$3)^F$5))","v":-3.1763179780037953},{"$f":"IF(H$8=\"d\",1,-1)*IF(H$7=\"c\",call_wycena($A48, H$6,H$3, H$4,H$5),put_wycena($A48, H$6,H$3, H$4,H$5))","v":-4.164197851760683},{"$f":"IF(H$8=\"d\",1,-1)*(IF(H$7=\"c\",MAX($A48-H$6,0),MAX(H$6-$A48,0))-H$11*((1+H$3)^H$5))","v":9.0414390673057845},{"$f":"IF(J$8=\"d\",1,-1)*IF(J$7=\"c\",call_wycena($A48, J$6,J$3, J$4,J$5),put_wycena($A48, J$6,J$3, J$4,J$5))","v":-4.164197851760683},{"$f":"IF(J$8=\"d\",1,-1)*(IF(J$7=\"c\",MAX($A48-J$6,0),MAX(J$6-$A48,0))-J$11*((1+J$3)^J$5))","v":9.0414390673057845},{"$f":"IF(L$8=\"d\",1,-1)*IF(L$7=\"c\",call_wycena($A48, L$6,L$3, L$4,L$5),put_wycena($A48, L$6,L$3, L$4,L$5))","v":-4.164197851760683},{"$f":"IF(L$8=\"d\",1,-1)*(IF(L$7=\"c\",MAX($A48-L$6,0),MAX(L$6-$A48,0))-L$11*((1+L$3)^L$5))","v":9.0414390673057845},null,15.002888961153623,-12.954120779461096]
[88,{"$f":"IF(B$8=\"d\",1,-1)*IF(B$7=\"c\",call_wycena($A49, B$6,B$3, B$4,B$5),put_wycena($A49, B$6,B$3, B$4,B$5))","v":10.614997926453981},-4.4126817121553126,{"$f":"IF(D$8=\"d\",1,-1)*IF(D$7=\"c\",call_wycena($A49, D$6,D$3, D$4,D$5),put_wycena($A49, D$6,D$3, D$4,D$5))","v":4.3120795563147531},-9.0414390673057845,{"$f":"IF(F$8=\"d\",1,-1)*IF(F$7=\"c\",call_wycena($A49, F$6,F$3, F$4,F$5),put_wycena($A49, F$6,F$3, F$4,F$5))","v":5.8468609108513512},{"$f":"IF(F$8=\"d\",1,-1)*(IF(F$7=\"c\",MAX($A49-F$6,0),MAX(F$6-$A49,0))-F$11*((1+F$3)^F$5))","v":-3.1763179780037953},{"$f":"IF(H$8=\"d\",1,-1)*IF(H$7=\"c\",call_wycena($A49, H$6,H$3, H$4,H$5),put_wycena($A49, H$6,H$3, H$4,H$5))","v":-4.3120795563147531},{"$f":"IF(H$8=\"d\",1,-1)*(IF(H$7=\"c\",MAX($A49-H$6,0),MAX(H$6-$A49,0))-H$11*((1+H$3)^H$5))","v":9.0414390673057845},{"$f":"IF(J$8=\"d\",1,-1)*IF(J$7=\"c\",call_wycena($A49, J$6,J$3, J$4,J$5),put_wycena($A49, J$6,J$3, J$4,J$5))","v":-4.3120795563147531},{"$f":"IF(J$8=\"d\",1,-1)*(IF(J$7=\"c\",MAX($A49-J$6,0),MAX(J$6-$A49,0))-J$11*((1+J$3)^J$5))","v":9.0414390673057845},{"$f":"IF(L$8=\"d\",1,-1)*IF(L$7=\"c\",call_wycena($A49, L$6,L$3, L$4,L$5),put_wycena($A49, L$6,L$3, L$4,L$5))","v":-4.3120795563147531},{"$f":"IF(L$8=\"d\",1,-1)*(IF(L$7=\"c\",MAX($A49-L$6,0),MAX(L$6-$A49,0))-L$11*((1+L$3)^L$5))","v":9.0414390673057845},null,14.927077482768734,-13.454120779461096]
[88.5,{"$f":"IF(B$8=\"d\",1,-1)*IF(B$7=\"c\",call_wycena($A50, B$6,B$3, B$4,B$5),put_wycena($A50, B$6,B$3, B$4,B$5))","v":10.395044762668341},-4.9126817121553126,{"$f":"IF(D$8=\"d\",1,-1)*IF(D$7=\"c\",call_wycena($A50, D$6,D$3, D$4,D$5),put_wycena($A50, D$6,D$3, D$4,D$5))","v":4.463248956729192},-9.0414390673057845,{"$f":"IF(F$8=\"d\",1,-1)*IF(F$7=\"c\",call_wycena($A50, F$6,F$3, F$4,F$5),put_wycena($A50, F$6,F$3, F$4,F$5))","v":5.7002180257181152},{"$f":"IF(F$8=\"d\",1,-1)*(IF(F$7=\"c\",MAX($A50-F$6,0),MAX(F$6-$A50,0))-F$11*((1+F$3)^F$5))","v":-3.1763179780037953},{"$f":"IF(H$8=\"d\",1,-1)*IF(H$7=\"c\",call_wycena($A50, H$6,H$3, H$4,H$5),put_wycena($A50, H$6,H$3, H$4,H$5))","v":-4.463248956729192},{"$f":"IF(H$8=\"d\",1,-1)*(IF(H$7=\"c\",MAX($A50-H$6,0),MAX(H$6-$A50,0))-H$11*((1+H$3)^H$5))","v":9.0414390673057845},{"$f":"IF(J$8=\"d\",1,-1)*IF(J$7=\"c\",call_wycena($A50, J$6,J$3, J$4,J$5),put_wycena($A50, J$6,J$3, J$4,J$5))","v":-4.463248956729192},{"$f":"IF(J$8=\"d\",1,-1)*(IF(J$7=\"c\",MAX($A50-J$6,0),MAX(J$6-$A50,0))-J$11*((1+J$3)^J$5))","v":9.0414390673057845},{"$f":"IF(L$8=\"d\",1,-1)*IF(L$7=\"c\",call_wycena($A50, L$6,L$3, L$4,L$5),put_wycena($A50, L$6,L$3, L$4,L$5))","v":-4.463248956729192},{"$f":"IF(L$8=\"d\",1,-1)*(IF(L$7=\"c\",MAX($A50-L$6,0),MAX(L$6-$A50,0))-L$11*((1+L$3)^L$5))","v":9.0414390673057845},null,14.858293719397533,-13.954120779461096]
[89,{"$f":"IF(B$8=\"d\",1,-1)*IF(B$7=\"c\",call_wycena($A51, B$6,B$3, B$4,B$5),put_wycena($A51, B$6,B$3, B$4,B$5))","v":10.178799887051511},-5.4126817121553126,{"$f":"IF(D$8=\"d\",1,-1)*IF(D$7=\"c\",call_wycena($A51, D$6,D$3, D$4,D$5),put_wycena($A51, D$6,D$3, D$4,D$5))","v":4.6177195990060547},-9.0414390673057845,{"$f":"IF(F$8=\"d\",1,-1)*IF(F$7=\"c\",call_wycena($A51, F$6,F$3, F$4,F$5),put_wycena($A51, F$6,F$3, F$4,F$5))","v":5.5567985760003822},{"$f":"IF(F$8=\"d\",1,-1)*(IF(F$7=\"c\",MAX($A51-F$6,0),MAX(F$6-$A51,0))-F$11*((1+F$3)^F$5))","v":-3.1763179780037953},{"$f":"IF(H$8=\"d\",1,-1)*IF(H$7=\"c\",call_wycena($A51, H$6,H$3, H$4,H$5),put_wycena($A51, H$6,H$3, H$4,H$5))","v":-4.6177195990060547},{"$f":"IF(H$8=\"d\",1,-1)*(IF(H$7=\"c\",MAX($A51-H$6,0),MAX(H$6-$A51,0))-H$11*((1+H$3)^H$5))","v":9.0414390673057845},{"$f":"IF(J$8=\"d\",1,-1)*IF(J$7=\"c\",call_wycena($A51, J$6,J$3, J$4,J$5),put_wycena($A51, J$6,J$3, J$4,J$5))","v":-4.6177195990060547},{"$f":"IF(J$8=\"d\",1,-1)*(IF(J$7=\"c\",MAX($A51-J$6,0),MAX(J$6-$A51,0))-J$11*((1+J$3)^J$5))","v":9.0414390673057845},{"$f":"IF(L$8=\"d\",1,-1)*IF(L$7=\"c\",call_wycena($A51, L$6,L$3, L$4,L$5),put_wycena($A51, L$6,L$3, L$4,L$5))","v":-4.6177195990060547},{"$f":"IF(L$8=\"d\",1,-1)*(IF(L$7=\"c\",MAX($A51-L$6,0),MAX(L$6-$A51,0))-L$11*((1+L$3)^L$5))","v":9.0414390673057845},null,14.796519486057566,-14.454120779461096]
[89.5,{"$f":"IF(B$8=\"d\",1,-1)*IF(B$7=\"c\",call_wycena($A52, B$6,B$3, B$4,B$5),put_wycena($A52, B$6,B$3, B$4,B$5))","v":9.9662307141464055},-5.9126817121553126,{"$f":"IF(D$8=\"d\",1,-1)*IF(D$7=\"c\",call_wycena($A52, D$6,D$3, D$4,D$5),put_wycena($A52, D$6,D$3, D$4,D$5))","v":4.7755038361255622},-9.0414390673057845,{"$f":"IF(F$8=\"d\",1,-1)*IF(F$7=\"c\",call_wycena($A52, F$6,F$3, F$4,F$5),put_wycena($A52, F$6,F$3, F$4,F$5))","v":5.4165507665863899},{"$f":"IF(F$8=\"d\",1,-1)*(IF(F$7=\"c\",MAX($A52-F$6,0),MAX(F$6-$A52,0))-F$11*((1+F$3)^F$5))","v":-3.1763179780037953},{"$f":"IF(H$8=\"d\",1,-1)*IF(H$7=\"c\",call_wycena($A52, H$6,H$3, H$4,H$5),put_wycena($A52, H$6,H$3, H$4,H$5))","v":-4.7755038361255622},{"$f":"IF(H$8=\"d\",1,-1)*(IF(H$7=\"c\",MAX($A52-H$6,0),MAX(H$6-$A52,0))-H$11*((1+H$3)^H$5))","v":9.0414390673057845},{"$f":"IF(J$8=\"d\",1,-1)*IF(J$7=\"c\",call_wycena($A52, J$6,J$3, J$4,J$5),put_wycena($A52, J$6,J$3, J$4,J$5))","v":-4.7755038361255622},{"$f":"IF(J$8=\"d\",1,-1)*(IF(J$7=\"c\",MAX($A52-J$6,0),MAX(J$6-$A52,0))-J$11*((1+J$3)^J$5))","v":9.0414390673057845},{"$f":"IF(L$8=\"d\",1,-1)*IF(L$7=\"c\",call_wycena($A52, L$6,L$3, L$4,L$5),put_wycena($A52, L$6,L$3, L$4,L$5))","v":-4.7755038361255622},{"$f":"IF(L$8=\"d\",1,-1)*(IF(L$7=\"c\",MAX($A52-L$6,0),MAX(L$6-$A52,0))-L$11*((1+L$3)^L$5))","v":9.0414390673057845},null,14.741734550271968,-14.954120779461096]
[90,{"$f":"IF(B$8=\"d\",1,-1)*IF(B$7=\"c\",call_wycena($A53, B$6,B$3, B$4,B$5),put_wycena($A53, B$6,B$3, B$4,B$5))","v":9.7573038510302439},-6.4126817121553126,{"$f":"IF(D$8=\"d\",1,-1)*IF(D$7=\"c\",call_wycena($A53, D$6,D$3, D$4,D$5),put_wycena($A53, D$6,D$3, D$4,D$5))","v":4.9366128348603198},-9.0414390673057845,{"$f":"IF(F$8=\"d\",1,-1)*IF(F$7=\"c\",call_wycena($A53, F$6,F$3, F$4,F$5),put_wycena($A53, F$6,F$3, F$4,F$5))","v":5.2794228265910981},{"$f":"IF(F$8=\"d\",1,-1)*(IF(F$7=\"c\",MAX($A53-F$6,0),MAX(F$6-$A53,0))-F$11*((1+F$3)^F$5))","v":-3.1763179780037953},{"$f":"IF(H$8=\"d\",1,-1)*IF(H$7=\"c\",call_wycena($A53, H$6,H$3, H$4,H$5),put_wycena($A53, H$6,H$3, H$4,H$5))","v":-4.9366128348603198},{"$f":"IF(H$8=\"d\",1,-1)*(IF(H$7=\"c\",MAX($A53-H$6,0),MAX(H$6-$A53,0))-H$11*((1+H$3)^H$5))","v":9.0414390673057845},{"$f":"IF(J$8=\"d\",1,-1)*IF(J$7=\"c\",call_wycena($A53, J$6,J$3, J$4,J$5),put_wycena($A53, J$6,J$3, J$4,J$5))","v":-4.9366128348603198},{"$f":"IF(J$8=\"d\",1,-1)*(IF(J$7=\"c\",MAX($A53-J$6,0),MAX(J$6-$A53,0))-J$11*((1+J$3)^J$5))","v":9.0414390673057845},{"$f":"IF(L$8=\"d\",1,-1)*IF(L$7=\"c\",call_wycena($A53, L$6,L$3, L$4,L$5),put_wycena($A53, L$6,L$3, L$4,L$5))","v":-4.9366128348603198},{"$f":"IF(L$8=\"d\",1,-1)*(IF(L$7=\"c\",MAX($A53-L$6,0),MAX(L$6-$A53,0))-L$11*((1+L$3)^L$5))","v":9.0414390673057845},null,14.693916685890564,-15.454120779461096]
[90.5,{"$f":"IF(B$8=\"d\",1,-1)*IF(B$7=\"c\",call_wycena($A54, B$6,B$3, B$4,B$5),put_wycena($A54, B$6,B$3, B$4,B$5))","v":9.5519851436888317},-6.4126817121553126,{"$f":"IF(D$8=\"d\",1,-1)*IF(D$7=\"c\",call_wycena($A54, D$6,D$3, D$4,D$5),put_wycena($A54, D$6,D$3, D$4,D$5))","v":5.1010565837350441},-9.0414390673057845,{"$f":"IF(F$8=\"d\",1,-1)*IF(F$7=\"c\",call_wycena($A54, F$6,F$3, F$4,F$5),put_wycena($A54, F$6,F$3, F$4,F$5))","v":5.1453630503648036},{"$f":"IF(F$8=\"d\",1,-1)*(IF(F$7=\"c\",MAX($A54-F$6,0),MAX(F$6-$A54,0))-F$11*((1+F$3)^F$5))","v":-3.1763179780037953},{"$f":"IF(H$8=\"d\",1,-1)*IF(H$7=\"c\",call_wycena($A54, H$6,H$3, H$4,H$5),put_wycena($A54, H$6,H$3, H$4,H$5))","v":-5.1010565837350441},{"$f":"IF(H$8=\"d\",1,-1)*(IF(H$7=\"c\",MAX($A54-H$6,0),MAX(H$6-$A54,0))-H$11*((1+H$3)^H$5))","v":9.0414390673057845},{"$f":"IF(J$8=\"d\",1,-1)*IF(J$7=\"c\",call_wycena($A54, J$6,J$3, J$4,J$5),put_wycena($A54, J$6,J$3, J$4,J$5))","v":-5.1010565837350441},{"$f":"IF(J$8=\"d\",1,-1)*(IF(J$7=\"c\",MAX($A54-J$6,0),MAX(J$6-$A54,0))-J$11*((1+J$3)^J$5))","v":9.0414390673057845},{"$f":"IF(L$8=\"d\",1,-1)*IF(L$7=\"c\",call_wycena($A54, L$6,L$3, L$4,L$5),put_wycena($A54, L$6,L$3, L$4,L$5))","v":-5.1010565837350441},{"$f":"IF(L$8=\"d\",1,-1)*(IF(L$7=\"c\",MAX($A54-L$6,0),MAX(L$6-$A54,0))-L$11*((1+L$3)^L$5))","v":9.0414390673057845},null,14.653041727423876,-15.454120779461096]
[91,{"$f":"IF(B$8=\"d\",1,-1)*IF(B$7=\"c\",call_wycena($A55, B$6,B$3, B$4,B$5),put_wycena($A55, B$6,B$3, B$4,B$5))","v":9.350239722709361},-6.4126817121553126,{"$f":"IF(D$8=\"d\",1,-1)*IF(D$7=\"c\",call_wycena($A55, D$6,D$3, D$4,D$5),put_wycena($A55, D$6,D$3, D$4,D$5))","v":5.2688439020862106},-9.0414390673057845,{"$f":"IF(F$8=\"d\",1,-1)*IF(F$7=\"c\",call_wycena($A55, F$6,F$3, F$4,F$5),put_wycena($A55, F$6,F$3, F$4,F$5))","v":5.0143198367283048},{"$f":"IF(F$8=\"d\",1,-1)*(IF(F$7=\"c\",MAX($A55-F$6,0),MAX(F$6-$A55,0))-F$11*((1+F$3)^F$5))","v":-3.1763179780037953},{"$f":"IF(H$8=\"d\",1,-1)*IF(H$7=\"c\",call_wycena($A55, H$6,H$3, H$4,H$5),put_wycena($A55, H$6,H$3, H$4,H$5))","v":-5.2688439020862106},{"$f":"IF(H$8=\"d\",1,-1)*(IF(H$7=\"c\",MAX($A55-H$6,0),MAX(H$6-$A55,0))-H$11*((1+H$3)^H$5))","v":9.0414390673057845},{"$f":"IF(J$8=\"d\",1,-1)*IF(J$7=\"c\",call_wycena($A55, J$6,J$3, J$4,J$5),put_wycena($A55, J$6,J$3, J$4,J$5))","v":-5.2688439020862106},{"$f":"IF(J$8=\"d\",1,-1)*(IF(J$7=\"c\",MAX($A55-J$6,0),MAX(J$6-$A55,0))-J$11*((1+J$3)^J$5))","v":9.0414390673057845},{"$f":"IF(L$8=\"d\",1,-1)*IF(L$7=\"c\",call_wycena($A55, L$6,L$3, L$4,L$5),put_wycena($A55, L$6,L$3, L$4,L$5))","v":-5.2688439020862106},{"$f":"IF(L$8=\"d\",1,-1)*(IF(L$7=\"c\",MAX($A55-L$6,0),MAX(L$6-$A55,0))-L$11*((1+L$3)^L$5))","v":9.0414390673057845},null,14.619083624795572,-15.454120779461096]
[91.5,{"$f":"IF(B$8=\"d\",1,-1)*IF(B$7=\"c\",call_wycena($A56, B$6,B$3, B$4,B$5),put_wycena($A56, B$6,B$3, B$4,B$5))","v":9.1520320482467596},-6.4126817121553126,{"$f":"IF(D$8=\"d\",1,-1)*IF(D$7=\"c\",call_wycena($A56, D$6,D$3, D$4,D$5),put_wycena($A56, D$6,D$3, D$4,D$5))","v":5.4399824501746572},-9.0414390673057845,{"$f":"IF(F$8=\"d\",1,-1)*IF(F$7=\"c\",call_wycena($A56, F$6,F$3, F$4,F$5),put_wycena($A56, F$6,F$3, F$4,F$5))","v":4.8862417264558964},{"$f":"IF(F$8=\"d\",1,-1)*(IF(F$7=\"c\",MAX($A56-F$6,0),MAX(F$6-$A56,0))-F$11*((1+F$3)^F$5))","v":-3.1763179780037953},{"$f":"IF(H$8=\"d\",1,-1)*IF(H$7=\"c\",call_wycena($A56, H$6,H$3, H$4,H$5),put_wycena($A56, H$6,H$3, H$4,H$5))","v":-5.4399824501746572},{"$f":"IF(H$8=\"d\",1,-1)*(IF(H$7=\"c\",MAX($A56-H$6,0),MAX(H$6-$A56,0))-H$11*((1+H$3)^H$5))","v":9.0414390673057845},{"$f":"IF(J$8=\"d\",1,-1)*IF(J$7=\"c\",call_wycena($A56, J$6,J$3, J$4,J$5),put_wycena($A56, J$6,J$3, J$4,J$5))","v":-5.4399824501746572},{"$f":"IF(J$8=\"d\",1,-1)*(IF(J$7=\"c\",MAX($A56-J$6,0),MAX(J$6-$A56,0))-J$11*((1+J$3)^J$5))","v":9.0414390673057845},{"$f":"IF(L$8=\"d\",1,-1)*IF(L$7=\"c\",call_wycena($A56, L$6,L$3, L$4,L$5),put_wycena($A56, L$6,L$3, L$4,L$5))","v":-5.4399824501746572},{"$f":"IF(L$8=\"d\",1,-1)*(IF(L$7=\"c\",MAX($A56-L$6,0),MAX(L$6-$A56,0))-L$11*((1+L$3)^L$5))","v":9.0414390673057845},null,14.592014498421417,-15.454120779461096]
[92,{"$f":"IF(B$8=\"d\",1,-1)*IF(B$7=\"c\",call_wycena($A57, B$6,B$3, B$4,B$5),put_wycena($A57, B$6,B$3, B$4,B$5))","v":8.9573259542224761},-6.4126817121553126,{"$f":"IF(D$8=\"d\",1,-1)*IF(D$7=\"c\",call_wycena($A57, D$6,D$3, D$4,D$5),put_wycena($A57, D$6,D$3, D$4,D$5))","v":5.6144787403046656},-9.0414390673057845,{"$f":"IF(F$8=\"d\",1,-1)*IF(F$7=\"c\",call_wycena($A57, F$6,F$3, F$4,F$5),put_wycena($A57, F$6,F$3, F$4,F$5))","v":4.7610774380293677},{"$f":"IF(F$8=\"d\",1,-1)*(IF(F$7=\"c\",MAX($A57-F$6,0),MAX(F$6-$A57,0))-F$11*((1+F$3)^F$5))","v":-3.1763179780037953},{"$f":"IF(H$8=\"d\",1,-1)*IF(H$7=\"c\",call_wycena($A57, H$6,H$3, H$4,H$5),put_wycena($A57, H$6,H$3, H$4,H$5))","v":-5.6144787403046656},{"$f":"IF(H$8=\"d\",1,-1)*(IF(H$7=\"c\",MAX($A57-H$6,0),MAX(H$6-$A57,0))-H$11*((1+H$3)^H$5))","v":9.0414390673057845},{"$f":"IF(J$8=\"d\",1,-1)*IF(J$7=\"c\",call_wycena($A57, J$6,J$3, J$4,J$5),put_wycena($A57, J$6,J$3, J$4,J$5))","v":-5.6144787403046656},{"$f":"IF(J$8=\"d\",1,-1)*(IF(J$7=\"c\",MAX($A57-J$6,0),MAX(J$6-$A57,0))-J$11*((1+J$3)^J$5))","v":9.0414390673057845},{"$f":"IF(L$8=\"d\",1,-1)*IF(L$7=\"c\",call_wycena($A57, L$6,L$3, L$4,L$5),put_wycena($A57, L$6,L$3, L$4,L$5))","v":-5.6144787403046656},{"$f":"IF(L$8=\"d\",1,-1)*(IF(L$7=\"c\",MAX($A57-L$6,0),MAX(L$6-$A57,0))-L$11*((1+L$3)^L$5))","v":9.0414390673057845},null,14.571804694527142,-15.454120779461096]
[92.5,{"$f":"IF(B$8=\"d\",1,-1)*IF(B$7=\"c\",call_wycena($A58, B$6,B$3, B$4,B$5),put_wycena($A58, B$6,B$3, B$4,B$5))","v":8.7660846917178787},-6.4126817121553126,{"$f":"IF(D$8=\"d\",1,-1)*IF(D$7=\"c\",call_wycena($A58, D$6,D$3, D$4,D$5),put_wycena($A58, D$6,D$3, D$4,D$5))","v":5.7923381489030099},-9.0414390673057845,{"$f":"IF(F$8=\"d\",1,-1)*IF(F$7=\"c\",call_wycena($A58, F$6,F$3, F$4,F$5),put_wycena($A58, F$6,F$3, F$4,F$5))","v":4.6387759016898897},{"$f":"IF(F$8=\"d\",1,-1)*(IF(F$7=\"c\",MAX($A58-F$6,0),MAX(F$6-$A58,0))-F$11*((1+F$3)^F$5))","v":-3.1763179780037953},{"$f":"IF(H$8=\"d\",1,-1)*IF(H$7=\"c\",call_wycena($A58, H$6,H$3, H$4,H$5),put_wycena($A58, H$6,H$3, H$4,H$5))","v":-5.7923381489030099},{"$f":"IF(H$8=\"d\",1,-1)*(IF(H$7=\"c\",MAX($A58-H$6,0),MAX(H$6-$A58,0))-H$11*((1+H$3)^H$5))","v":9.0414390673057845},{"$f":"IF(J$8=\"d\",1,-1)*IF(J$7=\"c\",call_wycena($A58, J$6,J$3, J$4,J$5),put_wycena($A58, J$6,J$3, J$4,J$5))","v":-5.7923381489030099},{"$f":"IF(J$8=\"d\",1,-1)*(IF(J$7=\"c\",MAX($A58-J$6,0),MAX(J$6-$A58,0))-J$11*((1+J$3)^J$5))","v":9.0414390673057845},{"$f":"IF(L$8=\"d\",1,-1)*IF(L$7=\"c\",call_wycena($A58, L$6,L$3, L$4,L$5),put_wycena($A58, L$6,L$3, L$4,L$5))","v":-5.7923381489030099},{"$f":"IF(L$8=\"d\",1,-1)*(IF(L$7=\"c\",MAX($A58-L$6,0),MAX(L$6-$A58,0))-L$11*((1+L$3)^L$5))","v":9.0414390673057845},null,14.558422840620889,-15.454120779461096]
[93,{"$f":"IF(B$8=\"d\",1,-1)*IF(B$7=\"c\",call_wycena($A59, B$6,B$3, B$4,B$5),put_wycena($A59, B$6,B$3, B$4,B$5))","v":8.5782709715285392},-6.4126817121553126,{"$f":"IF(D$8=\"d\",1,-1)*IF(D$7=\"c\",call_wycena($A59, D$6,D$3, D$4,D$5),put_wycena($A59, D$6,D$3, D$4,D$5))","v":5.9735649295108431},-9.0414390673057845,{"$f":"IF(F$8=\"d\",1,-1)*IF(F$7=\"c\",call_wycena($A59, F$6,F$3, F$4,F$5),put_wycena($A59, F$6,F$3, F$4,F$5))","v":4.5192862918152983},{"$f":"IF(F$8=\"d\",1,-1)*(IF(F$7=\"c\",MAX($A59-F$6,0),MAX(F$6-$A59,0))-F$11*((1+F$3)^F$5))","v":-3.1763179780037953},{"$f":"IF(H$8=\"d\",1,-1)*IF(H$7=\"c\",call_wycena($A59, H$6,H$3, H$4,H$5),put_wycena($A59, H$6,H$3, H$4,H$5))","v":-5.9735649295108431},{"$f":"IF(H$8=\"d\",1,-1)*(IF(H$7=\"c\",MAX($A59-H$6,0),MAX(H$6-$A59,0))-H$11*((1+H$3)^H$5))","v":9.0414390673057845},{"$f":"IF(J$8=\"d\",1,-1)*IF(J$7=\"c\",call_wycena($A59, J$6,J$3, J$4,J$5),put_wycena($A59, J$6,J$3, J$4,J$5))","v":-5.9735649295108431},{"$f":"IF(J$8=\"d\",1,-1)*(IF(J$7=\"c\",MAX($A59-J$6,0),MAX(J$6-$A59,0))-J$11*((1+J$3)^J$5))","v":9.0414390673057845},{"$f":"IF(L$8=\"d\",1,-1)*IF(L$7=\"c\",call_wycena($A59, L$6,L$3, L$4,L$5),put_wycena($A59, L$6,L$3, L$4,L$5))","v":-5.9735649295108431},{"$f":"IF(L$8=\"d\",1,-1)*(IF(L$7=\"c\",MAX($A59-L$6,0),MAX(L$6-$A59,0))-L$11*((1+L$3)^L$5))","v":9.0414390673057845},null,14.551835901039382,-15.454120779461096]
[93.5,{"$f":"IF(B$8=\"d\",1,-1)*IF(B$7=\"c\",call_wycena($A60, B$6,B$3, B$4,B$5),put_wycena($A60, B$6,B$3, B$4,B$5))","v":8.3938470058486914},-6.4126817121553126,{"$f":"IF(D$8=\"d\",1,-1)*IF(D$7=\"c\",call_wycena($A60, D$6,D$3, D$4,D$5),put_wycena($A60, D$6,D$3, D$4,D$5))","v":6.1581622266420837},-9.0414390673057845,{"$f":"IF(F$8=\"d\",1,-1)*IF(F$7=\"c\",call_wycena($A60, F$6,F$3, F$4,F$5),put_wycena($A60, F$6,F$3, F$4,F$5))","v":4.4025580576533656},{"$f":"IF(F$8=\"d\",1,-1)*(IF(F$7=\"c\",MAX($A60-F$6,0),MAX(F$6-$A60,0))-F$11*((1+F$3)^F$5))","v":-3.1763179780037953},{"$f":"IF(H$8=\"d\",1,-1)*IF(H$7=\"c\",call_wycena($A60, H$6,H$3, H$4,H$5),put_wycena($A60, H$6,H$3, H$4,H$5))","v":-6.1581622266420837},{"$f":"IF(H$8=\"d\",1,-1)*(IF(H$7=\"c\",MAX($A60-H$6,0),MAX(H$6-$A60,0))-H$11*((1+H$3)^H$5))","v":9.0414390673057845},{"$f":"IF(J$8=\"d\",1,-1)*IF(J$7=\"c\",call_wycena($A60, J$6,J$3, J$4,J$5),put_wycena($A60, J$6,J$3, J$4,J$5))","v":-6.1581622266420837},{"$f":"IF(J$8=\"d\",1,-1)*(IF(J$7=\"c\",MAX($A60-J$6,0),MAX(J$6-$A60,0))-J$11*((1+J$3)^J$5))","v":9.0414390673057845},{"$f":"IF(L$8=\"d\",1,-1)*IF(L$7=\"c\",call_wycena($A60, L$6,L$3, L$4,L$5),put_wycena($A60, L$6,L$3, L$4,L$5))","v":-6.1581622266420837},{"$f":"IF(L$8=\"d\",1,-1)*(IF(L$7=\"c\",MAX($A60-L$6,0),MAX(L$6-$A60,0))-L$11*((1+L$3)^L$5))","v":9.0414390673057845},null,14.552009232490775,-15.454120779461096]
[94,{"$f":"IF(B$8=\"d\",1,-1)*IF(B$7=\"c\",call_wycena($A61, B$6,B$3, B$4,B$5),put_wycena($A61, B$6,B$3, B$4,B$5))","v":8.2127745490585653},-6.4126817121553126,{"$f":"IF(D$8=\"d\",1,-1)*IF(D$7=\"c\",call_wycena($A61, D$6,D$3, D$4,D$5),put_wycena($A61, D$6,D$3, D$4,D$5))","v":6.3461320904616265},-9.0414390673057845,{"$f":"IF(F$8=\"d\",1,-1)*IF(F$7=\"c\",call_wycena($A61, F$6,F$3, F$4,F$5),put_wycena($A61, F$6,F$3, F$4,F$5))","v":4.2885409524426308},{"$f":"IF(F$8=\"d\",1,-1)*(IF(F$7=\"c\",MAX($A61-F$6,0),MAX(F$6-$A61,0))-F$11*((1+F$3)^F$5))","v":-3.1763179780037953},{"$f":"IF(H$8=\"d\",1,-1)*IF(H$7=\"c\",call_wycena($A61, H$6,H$3, H$4,H$5),put_wycena($A61, H$6,H$3, H$4,H$5))","v":-6.3461320904616265},{"$f":"IF(H$8=\"d\",1,-1)*(IF(H$7=\"c\",MAX($A61-H$6,0),MAX(H$6-$A61,0))-H$11*((1+H$3)^H$5))","v":9.0414390673057845},{"$f":"IF(J$8=\"d\",1,-1)*IF(J$7=\"c\",call_wycena($A61, J$6,J$3, J$4,J$5),put_wycena($A61, J$6,J$3, J$4,J$5))","v":-6.3461320904616265},{"$f":"IF(J$8=\"d\",1,-1)*(IF(J$7=\"c\",MAX($A61-J$6,0),MAX(J$6-$A61,0))-J$11*((1+J$3)^J$5))","v":9.0414390673057845},{"$f":"IF(L$8=\"d\",1,-1)*IF(L$7=\"c\",call_wycena($A61, L$6,L$3, L$4,L$5),put_wycena($A61, L$6,L$3, L$4,L$5))","v":-6.3461320904616265},{"$f":"IF(L$8=\"d\",1,-1)*(IF(L$7=\"c\",MAX($A61-L$6,0),MAX(L$6-$A61,0))-L$11*((1+L$3)^L$5))","v":9.0414390673057845},null,14.558906639520192,-15.454120779461096]
[94.5,{"$f":"IF(B$8=\"d\",1,-1)*IF(B$7=\"c\",call_wycena($A62, B$6,B$3, B$4,B$5),put_wycena($A62, B$6,B$3, B$4,B$5))","v":8.0350149375904962},-6.4126817121553126,{"$f":"IF(D$8=\"d\",1,-1)*IF(D$7=\"c\",call_wycena($A62, D$6,D$3, D$4,D$5),put_wycena($A62, D$6,D$3, D$4,D$5))","v":6.5374754922375509},-9.0414390673057845,{"$f":"IF(F$8=\"d\",1,-1)*IF(F$7=\"c\",call_wycena($A62, F$6,F$3, F$4,F$5),put_wycena($A62, F$6,F$3, F$4,F$5))","v":4.1771850609543577},{"$f":"IF(F$8=\"d\",1,-1)*(IF(F$7=\"c\",MAX($A62-F$6,0),MAX(F$6-$A62,0))-F$11*((1+F$3)^F$5))","v":-3.1763179780037953},{"$f":"IF(H$8=\"d\",1,-1)*IF(H$7=\"c\",call_wycena($A62, H$6,H$3, H$4,H$5),put_wycena($A62, H$6,H$3, H$4,H$5))","v":-6.5374754922375509},{"$f":"IF(H$8=\"d\",1,-1)*(IF(H$7=\"c\",MAX($A62-H$6,0),MAX(H$6-$A62,0))-H$11*((1+H$3)^H$5))","v":9.0414390673057845},{"$f":"IF(J$8=\"d\",1,-1)*IF(J$7=\"c\",call_wycena($A62, J$6,J$3, J$4,J$5),put_wycena($A62, J$6,J$3, J$4,J$5))","v":-6.5374754922375509},{"$f":"IF(J$8=\"d\",1,-1)*(IF(J$7=\"c\",MAX($A62-J$6,0),MAX(J$6-$A62,0))-J$11*((1+J$3)^J$5))","v":9.0414390673057845},{"$f":"IF(L$8=\"d\",1,-1)*IF(L$7=\"c\",call_wycena($A62, L$6,L$3, L$4,L$5),put_wycena($A62, L$6,L$3, L$4,L$5))","v":-6.5374754922375509},{"$f":"IF(L$8=\"d\",1,-1)*(IF(L$7=\"c\",MAX($A62-L$6,0),MAX(L$6-$A62,0))-L$11*((1+L$3)^L$5))","v":9.0414390673057845},null,14.572490429828047,-15.454120779461096]
[95,{"$f":"IF(B$8=\"d\",1,-1)*IF(B$7=\"c\",call_wycena($A63, B$6,B$3, B$4,B$5),put_wycena($A63, B$6,B$3, B$4,B$5))","v":7.8605291288526828},-6.4126817121553126,{"$f":"IF(D$8=\"d\",1,-1)*IF(D$7=\"c\",call_wycena($A63, D$6,D$3, D$4,D$5),put_wycena($A63, D$6,D$3, D$4,D$5))","v":6.7321923405213937},-9.0414390673057845,{"$f":"IF(F$8=\"d\",1,-1)*IF(F$7=\"c\",call_wycena($A63, F$6,F$3, F$4,F$5),put_wycena($A63, F$6,F$3, F$4,F$5))","v":4.0684408254903666},{"$f":"IF(F$8=\"d\",1,-1)*(IF(F$7=\"c\",MAX($A63-F$6,0),MAX(F$6-$A63,0))-F$11*((1+F$3)^F$5))","v":-3.1763179780037953},{"$f":"IF(H$8=\"d\",1,-1)*IF(H$7=\"c\",call_wycena($A63, H$6,H$3, H$4,H$5),put_wycena($A63, H$6,H$3, H$4,H$5))","v":-6.7321923405213937},{"$f":"IF(H$8=\"d\",1,-1)*(IF(H$7=\"c\",MAX($A63-H$6,0),MAX(H$6-$A63,0))-H$11*((1+H$3)^H$5))","v":9.0414390673057845},{"$f":"IF(J$8=\"d\",1,-1)*IF(J$7=\"c\",call_wycena($A63, J$6,J$3, J$4,J$5),put_wycena($A63, J$6,J$3, J$4,J$5))","v":-6.7321923405213937},{"$f":"IF(J$8=\"d\",1,-1)*(IF(J$7=\"c\",MAX($A63-J$6,0),MAX(J$6-$A63,0))-J$11*((1+J$3)^J$5))","v":9.0414390673057845},{"$f":"IF(L$8=\"d\",1,-1)*IF(L$7=\"c\",call_wycena($A63, L$6,L$3, L$4,L$5),put_wycena($A63, L$6,L$3, L$4,L$5))","v":-6.7321923405213937},{"$f":"IF(L$8=\"d\",1,-1)*(IF(L$7=\"c\",MAX($A63-L$6,0),MAX(L$6-$A63,0))-L$11*((1+L$3)^L$5))","v":9.0414390673057845},null,14.592721469374077,-15.454120779461096]
[95.5,{"$f":"IF(B$8=\"d\",1,-1)*IF(B$7=\"c\",call_wycena($A64, B$6,B$3, B$4,B$5),put_wycena($A64, B$6,B$3, B$4,B$5))","v":7.6892777391926259},-6.4126817121553126,{"$f":"IF(D$8=\"d\",1,-1)*IF(D$7=\"c\",call_wycena($A64, D$6,D$3, D$4,D$5),put_wycena($A64, D$6,D$3, D$4,D$5))","v":6.9302814980114071},-9.0414390673057845,{"$f":"IF(F$8=\"d\",1,-1)*IF(F$7=\"c\",call_wycena($A64, F$6,F$3, F$4,F$5),put_wycena($A64, F$6,F$3, F$4,F$5))","v":3.9622590703724647},{"$f":"IF(F$8=\"d\",1,-1)*(IF(F$7=\"c\",MAX($A64-F$6,0),MAX(F$6-$A64,0))-F$11*((1+F$3)^F$5))","v":-3.1763179780037953},{"$f":"IF(H$8=\"d\",1,-1)*IF(H$7=\"c\",call_wycena($A64, H$6,H$3, H$4,H$5),put_wycena($A64, H$6,H$3, H$4,H$5))","v":-6.9302814980114071},{"$f":"IF(H$8=\"d\",1,-1)*(IF(H$7=\"c\",MAX($A64-H$6,0),MAX(H$6-$A64,0))-H$11*((1+H$3)^H$5))","v":9.0414390673057845},{"$f":"IF(J$8=\"d\",1,-1)*IF(J$7=\"c\",call_wycena($A64, J$6,J$3, J$4,J$5),put_wycena($A64, J$6,J$3, J$4,J$5))","v":-6.9302814980114071},{"$f":"IF(J$8=\"d\",1,-1)*(IF(J$7=\"c\",MAX($A64-J$6,0),MAX(J$6-$A64,0))-J$11*((1+J$3)^J$5))","v":9.0414390673057845},{"$f":"IF(L$8=\"d\",1,-1)*IF(L$7=\"c\",call_wycena($A64, L$6,L$3, L$4,L$5),put_wycena($A64, L$6,L$3, L$4,L$5))","v":-6.9302814980114071},{"$f":"IF(L$8=\"d\",1,-1)*(IF(L$7=\"c\",MAX($A64-L$6,0),MAX(L$6-$A64,0))-L$11*((1+L$3)^L$5))","v":9.0414390673057845},null,14.619559237204033,-15.454120779461096]
[96,{"$f":"IF(B$8=\"d\",1,-1)*IF(B$7=\"c\",call_wycena($A65, B$6,B$3, B$4,B$5),put_wycena($A65, B$6,B$3, B$4,B$5))","v":7.5212210808845441},-6.4126817121553126,{"$f":"IF(D$8=\"d\",1,-1)*IF(D$7=\"c\",call_wycena($A65, D$6,D$3, D$4,D$5),put_wycena($A65, D$6,D$3, D$4,D$5))","v":7.1317407990540183},-9.0414390673057845,{"$f":"IF(F$8=\"d\",1,-1)*IF(F$7=\"c\",call_wycena($A65, F$6,F$3, F$4,F$5),put_wycena($A65, F$6,F$3, F$4,F$5))","v":3.8585910249604183},{"$f":"IF(F$8=\"d\",1,-1)*(IF(F$7=\"c\",MAX($A65-F$6,0),MAX(F$6-$A65,0))-F$11*((1+F$3)^F$5))","v":-3.1763179780037953},{"$f":"IF(H$8=\"d\",1,-1)*IF(H$7=\"c\",call_wycena($A65, H$6,H$3, H$4,H$5),put_wycena($A65, H$6,H$3, H$4,H$5))","v":-7.1317407990540183},{"$f":"IF(H$8=\"d\",1,-1)*(IF(H$7=\"c\",MAX($A65-H$6,0),MAX(H$6-$A65,0))-H$11*((1+H$3)^H$5))","v":9.0414390673057845},{"$f":"IF(J$8=\"d\",1,-1)*IF(J$7=\"c\",call_wycena($A65, J$6,J$3, J$4,J$5),put_wycena($A65, J$6,J$3, J$4,J$5))","v":-7.1317407990540183},{"$f":"IF(J$8=\"d\",1,-1)*(IF(J$7=\"c\",MAX($A65-J$6,0),MAX(J$6-$A65,0))-J$11*((1+J$3)^J$5))","v":9.0414390673057845},{"$f":"IF(L$8=\"d\",1,-1)*IF(L$7=\"c\",call_wycena($A65, L$6,L$3, L$4,L$5),put_wycena($A65, L$6,L$3, L$4,L$5))","v":-7.1317407990540183},{"$f":"IF(L$8=\"d\",1,-1)*(IF(L$7=\"c\",MAX($A65-L$6,0),MAX(L$6-$A65,0))-L$11*((1+L$3)^L$5))","v":9.0414390673057845},null,14.652961879938562,-15.454120779461096]
[96.5,{"$f":"IF(B$8=\"d\",1,-1)*IF(B$7=\"c\",call_wycena($A66, B$6,B$3, B$4,B$5),put_wycena($A66, B$6,B$3, B$4,B$5))","v":7.3563191981282721},-6.4126817121553126,{"$f":"IF(D$8=\"d\",1,-1)*IF(D$7=\"c\",call_wycena($A66, D$6,D$3, D$4,D$5),put_wycena($A66, D$6,D$3, D$4,D$5))","v":7.3365670677395443},-9.0414390673057845,{"$f":"IF(F$8=\"d\",1,-1)*IF(F$7=\"c\",call_wycena($A66, F$6,F$3, F$4,F$5),put_wycena($A66, F$6,F$3, F$4,F$5))","v":3.7573883452363113},{"$f":"IF(F$8=\"d\",1,-1)*(IF(F$7=\"c\",MAX($A66-F$6,0),MAX(F$6-$A66,0))-F$11*((1+F$3)^F$5))","v":-3.1763179780037953},{"$f":"IF(H$8=\"d\",1,-1)*IF(H$7=\"c\",call_wycena($A66, H$6,H$3, H$4,H$5),put_wycena($A66, H$6,H$3, H$4,H$5))","v":-7.3365670677395443},{"$f":"IF(H$8=\"d\",1,-1)*(IF(H$7=\"c\",MAX($A66-H$6,0),MAX(H$6-$A66,0))-H$11*((1+H$3)^H$5))","v":9.0414390673057845},{"$f":"IF(J$8=\"d\",1,-1)*IF(J$7=\"c\",call_wycena($A66, J$6,J$3, J$4,J$5),put_wycena($A66, J$6,J$3, J$4,J$5))","v":-7.3365670677395443},{"$f":"IF(J$8=\"d\",1,-1)*(IF(J$7=\"c\",MAX($A66-J$6,0),MAX(J$6-$A66,0))-J$11*((1+J$3)^J$5))","v":9.0414390673057845},{"$f":"IF(L$8=\"d\",1,-1)*IF(L$7=\"c\",call_wycena($A66, L$6,L$3, L$4,L$5),put_wycena($A66, L$6,L$3, L$4,L$5))","v":-7.3365670677395443},{"$f":"IF(L$8=\"d\",1,-1)*(IF(L$7=\"c\",MAX($A66-L$6,0),MAX(L$6-$A66,0))-L$11*((1+L$3)^L$5))","v":9.0414390673057845},null,14.692886265867816,-15.454120779461096]
[97,{"$f":"IF(B$8=\"d\",1,-1)*IF(B$7=\"c\",call_wycena($A67, B$6,B$3, B$4,B$5),put_wycena($A67, B$6,B$3, B$4,B$5))","v":7.1945319020495049},-6.4126817121553126,{"$f":"IF(D$8=\"d\",1,-1)*IF(D$7=\"c\",call_wycena($A67, D$6,D$3, D$4,D$5),put_wycena($A67, D$6,D$3, D$4,D$5))","v":7.5447561365490259},-9.0414390673057845,{"$f":"IF(F$8=\"d\",1,-1)*IF(F$7=\"c\",call_wycena($A67, F$6,F$3, F$4,F$5),put_wycena($A67, F$6,F$3, F$4,F$5))","v":3.6586031339935836},{"$f":"IF(F$8=\"d\",1,-1)*(IF(F$7=\"c\",MAX($A67-F$6,0),MAX(F$6-$A67,0))-F$11*((1+F$3)^F$5))","v":-3.1763179780037953},{"$f":"IF(H$8=\"d\",1,-1)*IF(H$7=\"c\",call_wycena($A67, H$6,H$3, H$4,H$5),put_wycena($A67, H$6,H$3, H$4,H$5))","v":-7.5447561365490259},{"$f":"IF(H$8=\"d\",1,-1)*(IF(H$7=\"c\",MAX($A67-H$6,0),MAX(H$6-$A67,0))-H$11*((1+H$3)^H$5))","v":9.0414390673057845},{"$f":"IF(J$8=\"d\",1,-1)*IF(J$7=\"c\",call_wycena($A67, J$6,J$3, J$4,J$5),put_wycena($A67, J$6,J$3, J$4,J$5))","v":-7.5447561365490259},{"$f":"IF(J$8=\"d\",1,-1)*(IF(J$7=\"c\",MAX($A67-J$6,0),MAX(J$6-$A67,0))-J$11*((1+J$3)^J$5))","v":9.0414390673057845},{"$f":"IF(L$8=\"d\",1,-1)*IF(L$7=\"c\",call_wycena($A67, L$6,L$3, L$4,L$5),put_wycena($A67, L$6,L$3, L$4,L$5))","v":-7.5447561365490259},{"$f":"IF(L$8=\"d\",1,-1)*(IF(L$7=\"c\",MAX($A67-L$6,0),MAX(L$6-$A67,0))-L$11*((1+L$3)^L$5))","v":9.0414390673057845},null,14.739288038598531,-15.454120779461096]
[97.5,{"$f":"IF(B$8=\"d\",1,-1)*IF(B$7=\"c\",call_wycena($A68, B$6,B$3, B$4,B$5),put_wycena($A68, B$6,B$3, B$4,B$5))","v":7.0358188046933066},-6.4126817121553126,{"$f":"IF(D$8=\"d\",1,-1)*IF(D$7=\"c\",call_wycena($A68, D$6,D$3, D$4,D$5),put_wycena($A68, D$6,D$3, D$4,D$5))","v":7.7563028655089923},-9.0414390673057845,{"$f":"IF(F$8=\"d\",1,-1)*IF(F$7=\"c\",call_wycena($A68, F$6,F$3, F$4,F$5),put_wycena($A68, F$6,F$3, F$4,F$5))","v":3.5621879596696182},{"$f":"IF(F$8=\"d\",1,-1)*(IF(F$7=\"c\",MAX($A68-F$6,0),MAX(F$6-$A68,0))-F$11*((1+F$3)^F$5))","v":-3.1763179780037953},{"$f":"IF(H$8=\"d\",1,-1)*IF(H$7=\"c\",call_wycena($A68, H$6,H$3, H$4,H$5),put_wycena($A68, H$6,H$3, H$4,H$5))","v":-7.7563028655089923},{"$f":"IF(H$8=\"d\",1,-1)*(IF(H$7=\"c\",MAX($A68-H$6,0),MAX(H$6-$A68,0))-H$11*((1+H$3)^H$5))","v":9.0414390673057845},{"$f":"IF(J$8=\"d\",1,-1)*IF(J$7=\"c\",call_wycena($A68, J$6,J$3, J$4,J$5),put_wycena($A68, J$6,J$3, J$4,J$5))","v":-7.7563028655089923},{"$f":"IF(J$8=\"d\",1,-1)*(IF(J$7=\"c\",MAX($A68-J$6,0),MAX(J$6-$A68,0))-J$11*((1+J$3)^J$5))","v":9.0414390673057845},{"$f":"IF(L$8=\"d\",1,-1)*IF(L$7=\"c\",call_wycena($A68, L$6,L$3, L$4,L$5),put_wycena($A68, L$6,L$3, L$4,L$5))","v":-7.7563028655089923},{"$f":"IF(L$8=\"d\",1,-1)*(IF(L$7=\"c\",MAX($A68-L$6,0),MAX(L$6-$A68,0))-L$11*((1+L$3)^L$5))","v":9.0414390673057845},null,14.792121670202299,-15.454120779461096]
[98,{"$f":"IF(B$8=\"d\",1,-1)*IF(B$7=\"c\",call_wycena($A69, B$6,B$3, B$4,B$5),put_wycena($A69, B$6,B$3, B$4,B$5))","v":6.8801393520058305},-6.4126817121553126,{"$f":"IF(D$8=\"d\",1,-1)*IF(D$7=\"c\",call_wycena($A69, D$6,D$3, D$4,D$5),put_wycena($A69, D$6,D$3, D$4,D$5))","v":7.9712011618132834},-9.0414390673057845,{"$f":"IF(F$8=\"d\",1,-1)*IF(F$7=\"c\",call_wycena($A69, F$6,F$3, F$4,F$5),put_wycena($A69, F$6,F$3, F$4,F$5))","v":3.4680958738614329},{"$f":"IF(F$8=\"d\",1,-1)*(IF(F$7=\"c\",MAX($A69-F$6,0),MAX(F$6-$A69,0))-F$11*((1+F$3)^F$5))","v":-3.1763179780037953},{"$f":"IF(H$8=\"d\",1,-1)*IF(H$7=\"c\",call_wycena($A69, H$6,H$3, H$4,H$5),put_wycena($A69, H$6,H$3, H$4,H$5))","v":-7.9712011618132834},{"$f":"IF(H$8=\"d\",1,-1)*(IF(H$7=\"c\",MAX($A69-H$6,0),MAX(H$6-$A69,0))-H$11*((1+H$3)^H$5))","v":9.0414390673057845},{"$f":"IF(J$8=\"d\",1,-1)*IF(J$7=\"c\",call_wycena($A69, J$6,J$3, J$4,J$5),put_wycena($A69, J$6,J$3, J$4,J$5))","v":-7.9712011618132834},{"$f":"IF(J$8=\"d\",1,-1)*(IF(J$7=\"c\",MAX($A69-J$6,0),MAX(J$6-$A69,0))-J$11*((1+J$3)^J$5))","v":9.0414390673057845},{"$f":"IF(L$8=\"d\",1,-1)*IF(L$7=\"c\",call_wycena($A69, L$6,L$3, L$4,L$5),put_wycena($A69, L$6,L$3, L$4,L$5))","v":-7.9712011618132834},{"$f":"IF(L$8=\"d\",1,-1)*(IF(L$7=\"c\",MAX($A69-L$6,0),MAX(L$6-$A69,0))-L$11*((1+L$3)^L$5))","v":9.0414390673057845},null,14.851340513819114,-15.454120779461096]
[98.5,{"$f":"IF(B$8=\"d\",1,-1)*IF(B$7=\"c\",call_wycena($A70, B$6,B$3, B$4,B$5),put_wycena($A70, B$6,B$3, B$4,B$5))","v":6.7274528558005322},-6.4126817121553126,{"$f":"IF(D$8=\"d\",1,-1)*IF(D$7=\"c\",call_wycena($A70, D$6,D$3, D$4,D$5),put_wycena($A70, D$6,D$3, D$4,D$5))","v":8.1894439998701714},-9.0414390673057845,{"$f":"IF(F$8=\"d\",1,-1)*IF(F$7=\"c\",call_wycena($A70, F$6,F$3, F$4,F$5),put_wycena($A70, F$6,F$3, F$4,F$5))","v":3.3762804275641756},{"$f":"IF(F$8=\"d\",1,-1)*(IF(F$7=\"c\",MAX($A70-F$6,0),MAX(F$6-$A70,0))-F$11*((1+F$3)^F$5))","v":-3.1763179780037953},{"$f":"IF(H$8=\"d\",1,-1)*IF(H$7=\"c\",call_wycena($A70, H$6,H$3, H$4,H$5),put_wycena($A70, H$6,H$3, H$4,H$5))","v":-8.1894439998701714},{"$f":"IF(H$8=\"d\",1,-1)*(IF(H$7=\"c\",MAX($A70-H$6,0),MAX(H$6-$A70,0))-H$11*((1+H$3)^H$5))","v":9.0414390673057845},{"$f":"IF(J$8=\"d\",1,-1)*IF(J$7=\"c\",call_wycena($A70, J$6,J$3, J$4,J$5),put_wycena($A70, J$6,J$3, J$4,J$5))","v":-8.1894439998701714},{"$f":"IF(J$8=\"d\",1,-1)*(IF(J$7=\"c\",MAX($A70-J$6,0),MAX(J$6-$A70,0))-J$11*((1+J$3)^J$5))","v":9.0414390673057845},{"$f":"IF(L$8=\"d\",1,-1)*IF(L$7=\"c\",call_wycena($A70, L$6,L$3, L$4,L$5),put_wycena($A70, L$6,L$3, L$4,L$5))","v":-8.1894439998701714},{"$f":"IF(L$8=\"d\",1,-1)*(IF(L$7=\"c\",MAX($A70-L$6,0),MAX(L$6-$A70,0))-L$11*((1+L$3)^L$5))","v":9.0414390673057845},null,14.916896855670704,-15.454120779461096]
[99,{"$f":"IF(B$8=\"d\",1,-1)*IF(B$7=\"c\",call_wycena($A71, B$6,B$3, B$4,B$5),put_wycena($A71, B$6,B$3, B$4,B$5))","v":6.5777185247077732},-6.4126817121553126,{"$f":"IF(D$8=\"d\",1,-1)*IF(D$7=\"c\",call_wycena($A71, D$6,D$3, D$4,D$5),put_wycena($A71, D$6,D$3, D$4,D$5))","v":8.4110234417354803},-9.0414390673057845,{"$f":"IF(F$8=\"d\",1,-1)*IF(F$7=\"c\",call_wycena($A71, F$6,F$3, F$4,F$5),put_wycena($A71, F$6,F$3, F$4,F$5))","v":3.2866956861719494},{"$f":"IF(F$8=\"d\",1,-1)*(IF(F$7=\"c\",MAX($A71-F$6,0),MAX(F$6-$A71,0))-F$11*((1+F$3)^F$5))","v":-3.1763179780037953},{"$f":"IF(H$8=\"d\",1,-1)*IF(H$7=\"c\",call_wycena($A71, H$6,H$3, H$4,H$5),put_wycena($A71, H$6,H$3, H$4,H$5))","v":-8.4110234417354803},{"$f":"IF(H$8=\"d\",1,-1)*(IF(H$7=\"c\",MAX($A71-H$6,0),MAX(H$6-$A71,0))-H$11*((1+H$3)^H$5))","v":9.0414390673057845},{"$f":"IF(J$8=\"d\",1,-1)*IF(J$7=\"c\",call_wycena($A71, J$6,J$3, J$4,J$5),put_wycena($A71, J$6,J$3, J$4,J$5))","v":-8.4110234417354803},{"$f":"IF(J$8=\"d\",1,-1)*(IF(J$7=\"c\",MAX($A71-J$6,0),MAX(J$6-$A71,0))-J$11*((1+J$3)^J$5))","v":9.0414390673057845},{"$f":"IF(L$8=\"d\",1,-1)*IF(L$7=\"c\",call_wycena($A71, L$6,L$3, L$4,L$5),put_wycena($A71, L$6,L$3, L$4,L$5))","v":-8.4110234417354803},{"$f":"IF(L$8=\"d\",1,-1)*(IF(L$7=\"c\",MAX($A71-L$6,0),MAX(L$6-$A71,0))-L$11*((1+L$3)^L$5))","v":9.0414390673057845},null,14.988741966443254,-15.454120779461096]
[99.5,{"$f":"IF(B$8=\"d\",1,-1)*IF(B$7=\"c\",call_wycena($A72, B$6,B$3, B$4,B$5),put_wycena($A72, B$6,B$3, B$4,B$5))","v":6.4308954941084799},-6.4126817121553126,{"$f":"IF(D$8=\"d\",1,-1)*IF(D$7=\"c\",call_wycena($A72, D$6,D$3, D$4,D$5),put_wycena($A72, D$6,D$3, D$4,D$5))","v":8.635930657892267},-9.0414390673057845,{"$f":"IF(F$8=\"d\",1,-1)*IF(F$7=\"c\",call_wycena($A72, F$6,F$3, F$4,F$5),put_wycena($A72, F$6,F$3, F$4,F$5))","v":3.1992962432812995},{"$f":"IF(F$8=\"d\",1,-1)*(IF(F$7=\"c\",MAX($A72-F$6,0),MAX(F$6-$A72,0))-F$11*((1+F$3)^F$5))","v":-3.1763179780037953},{"$f":"IF(H$8=\"d\",1,-1)*IF(H$7=\"c\",call_wycena($A72, H$6,H$3, H$4,H$5),put_wycena($A72, H$6,H$3, H$4,H$5))","v":-8.635930657892267},{"$f":"IF(H$8=\"d\",1,-1)*(IF(H$7=\"c\",MAX($A72-H$6,0),MAX(H$6-$A72,0))-H$11*((1+H$3)^H$5))","v":9.0414390673057845},{"$f":"IF(J$8=\"d\",1,-1)*IF(J$7=\"c\",call_wycena($A72, J$6,J$3, J$4,J$5),put_wycena($A72, J$6,J$3, J$4,J$5))","v":-8.635930657892267},{"$f":"IF(J$8=\"d\",1,-1)*(IF(J$7=\"c\",MAX($A72-J$6,0),MAX(J$6-$A72,0))-J$11*((1+J$3)^J$5))","v":9.0414390673057845},{"$f":"IF(L$8=\"d\",1,-1)*IF(L$7=\"c\",call_wycena($A72, L$6,L$3, L$4,L$5),put_wycena($A72, L$6,L$3, L$4,L$5))","v":-8.635930657892267},{"$f":"IF(L$8=\"d\",1,-1)*(IF(L$7=\"c\",MAX($A72-L$6,0),MAX(L$6-$A72,0))-L$11*((1+L$3)^L$5))","v":9.0414390673057845},null,15.066826152000747,-15.454120779461096]
[100,{"$f":"IF(B$8=\"d\",1,-1)*IF(B$7=\"c\",call_wycena($A73, B$6,B$3, B$4,B$5),put_wycena($A73, B$6,B$3, B$4,B$5))","v":6.2869428550542281},-6.4126817121553126,{"$f":"IF(D$8=\"d\",1,-1)*IF(D$7=\"c\",call_wycena($A73, D$6,D$3, D$4,D$5),put_wycena($A73, D$6,D$3, D$4,D$5))","v":8.864155948339004},-9.0414390673057845,{"$f":"IF(F$8=\"d\",1,-1)*IF(F$7=\"c\",call_wycena($A73, F$6,F$3, F$4,F$5),put_wycena($A73, F$6,F$3, F$4,F$5))","v":3.1140372333370543},{"$f":"IF(F$8=\"d\",1,-1)*(IF(F$7=\"c\",MAX($A73-F$6,0),MAX(F$6-$A73,0))-F$11*((1+F$3)^F$5))","v":-3.1763179780037953},{"$f":"IF(H$8=\"d\",1,-1)*IF(H$7=\"c\",call_wycena($A73, H$6,H$3, H$4,H$5),put_wycena($A73, H$6,H$3, H$4,H$5))","v":-8.864155948339004},{"$f":"IF(H$8=\"d\",1,-1)*(IF(H$7=\"c\",MAX($A73-H$6,0),MAX(H$6-$A73,0))-H$11*((1+H$3)^H$5))","v":9.0414390673057845},{"$f":"IF(J$8=\"d\",1,-1)*IF(J$7=\"c\",call_wycena($A73, J$6,J$3, J$4,J$5),put_wycena($A73, J$6,J$3, J$4,J$5))","v":-8.864155948339004},{"$f":"IF(J$8=\"d\",1,-1)*(IF(J$7=\"c\",MAX($A73-J$6,0),MAX(J$6-$A73,0))-J$11*((1+J$3)^J$5))","v":9.0414390673057845},{"$f":"IF(L$8=\"d\",1,-1)*IF(L$7=\"c\",call_wycena($A73, L$6,L$3, L$4,L$5),put_wycena($A73, L$6,L$3, L$4,L$5))","v":-8.864155948339004},{"$f":"IF(L$8=\"d\",1,-1)*(IF(L$7=\"c\",MAX($A73-L$6,0),MAX(L$6-$A73,0))-L$11*((1+L$3)^L$5))","v":9.0414390673057845},null,15.151098803393232,-15.454120779461096]
[100.5,{"$f":"IF(B$8=\"d\",1,-1)*IF(B$7=\"c\",call_wycena($A74, B$6,B$3, B$4,B$5),put_wycena($A74, B$6,B$3, B$4,B$5))","v":6.1458196821779509},-6.4126817121553126,{"$f":"IF(D$8=\"d\",1,-1)*IF(D$7=\"c\",call_wycena($A74, D$6,D$3, D$4,D$5),put_wycena($A74, D$6,D$3, D$4,D$5))","v":9.0956887639496316},-9.0414390673057845,{"$f":"IF(F$8=\"d\",1,-1)*IF(F$7=\"c\",call_wycena($A74, F$6,F$3, F$4,F$5),put_wycena($A74, F$6,F$3, F$4,F$5))","v":3.0308743431602316},{"$f":"IF(F$8=\"d\",1,-1)*(IF(F$7=\"c\",MAX($A74-F$6,0),MAX(F$6-$A74,0))-F$11*((1+F$3)^F$5))","v":-3.1763179780037953},{"$f":"IF(H$8=\"d\",1,-1)*IF(H$7=\"c\",call_wycena($A74, H$6,H$3, H$4,H$5),put_wycena($A74, H$6,H$3, H$4,H$5))","v":-9.0956887639496316},{"$f":"IF(H$8=\"d\",1,-1)*(IF(H$7=\"c\",MAX($A74-H$6,0),MAX(H$6-$A74,0))-H$11*((1+H$3)^H$5))","v":9.0414390673057845},{"$f":"IF(J$8=\"d\",1,-1)*IF(J$7=\"c\",call_wycena($A74, J$6,J$3, J$4,J$5),put_wycena($A74, J$6,J$3, J$4,J$5))","v":-9.0956887639496316},{"$f":"IF(J$8=\"d\",1,-1)*(IF(J$7=\"c\",MAX($A74-J$6,0),MAX(J$6-$A74,0))-J$11*((1+J$3)^J$5))","v":9.0414390673057845},{"$f":"IF(L$8=\"d\",1,-1)*IF(L$7=\"c\",call_wycena($A74, L$6,L$3, L$4,L$5),put_wycena($A74, L$6,L$3, L$4,L$5))","v":-9.0956887639496316},{"$f":"IF(L$8=\"d\",1,-1)*(IF(L$7=\"c\",MAX($A74-L$6,0),MAX(L$6-$A74,0))-L$11*((1+L$3)^L$5))","v":9.0414390673057845},null,15.241508446127582,-15.454120779461096]
[101,{"$f":"IF(B$8=\"d\",1,-1)*IF(B$7=\"c\",call_wycena($A75, B$6,B$3, B$4,B$5),put_wycena($A75, B$6,B$3, B$4,B$5))","v":6.0074850606010557},-6.4126817121553126,{"$f":"IF(D$8=\"d\",1,-1)*IF(D$7=\"c\",call_wycena($A75, D$6,D$3, D$4,D$5),put_wycena($A75, D$6,D$3, D$4,D$5))","v":9.3305177280689691},-9.0414390673057845,{"$f":"IF(F$8=\"d\",1,-1)*IF(F$7=\"c\",call_wycena($A75, F$6,F$3, F$4,F$5),put_wycena($A75, F$6,F$3, F$4,F$5))","v":2.94976382239782},{"$f":"IF(F$8=\"d\",1,-1)*(IF(F$7=\"c\",MAX($A75-F$6,0),MAX(F$6-$A75,0))-F$11*((1+F$3)^F$5))","v":-3.1763179780037953},{"$f":"IF(H$8=\"d\",1,-1)*IF(H$7=\"c\",call_wycena($A75, H$6,H$3, H$4,H$5),put_wycena($A75, H$6,H$3, H$4,H$5))","v":-9.3305177280689691},{"$f":"IF(H$8=\"d\",1,-1)*(IF(H$7=\"c\",MAX($A75-H$6,0),MAX(H$6-$A75,0))-H$11*((1+H$3)^H$5))","v":9.0414390673057845},{"$f":"IF(J$8=\"d\",1,-1)*IF(J$7=\"c\",call_wycena($A75, J$6,J$3, J$4,J$5),put_wycena($A75, J$6,J$3, J$4,J$5))","v":-9.3305177280689691},{"$f":"IF(J$8=\"d\",1,-1)*(IF(J$7=\"c\",MAX($A75-J$6,0),MAX(J$6-$A75,0))-J$11*((1+J$3)^J$5))","v":9.0414390673057845},{"$f":"IF(L$8=\"d\",1,-1)*IF(L$7=\"c\",call_wycena($A75, L$6,L$3, L$4,L$5),put_wycena($A75, L$6,L$3, L$4,L$5))","v":-9.3305177280689691},{"$f":"IF(L$8=\"d\",1,-1)*(IF(L$7=\"c\",MAX($A75-L$6,0),MAX(L$6-$A75,0))-L$11*((1+L$3)^L$5))","v":9.0414390673057845},null,15.338002788670025,-15.454120779461096]
[101.5,{"$f":"IF(B$8=\"d\",1,-1)*IF(B$7=\"c\",call_wycena($A76, B$6,B$3, B$4,B$5),put_wycena($A76, B$6,B$3, B$4,B$5))","v":5.8718981118440006},-6.4126817121553126,{"$f":"IF(D$8=\"d\",1,-1)*IF(D$7=\"c\",call_wycena($A76, D$6,D$3, D$4,D$5),put_wycena($A76, D$6,D$3, D$4,D$5))","v":9.5686306583089049},-9.0414390673057845,{"$f":"IF(F$8=\"d\",1,-1)*IF(F$7=\"c\",call_wycena($A76, F$6,F$3, F$4,F$5),put_wycena($A76, F$6,F$3, F$4,F$5))","v":2.8706624929336311},{"$f":"IF(F$8=\"d\",1,-1)*(IF(F$7=\"c\",MAX($A76-F$6,0),MAX(F$6-$A76,0))-F$11*((1+F$3)^F$5))","v":-3.1763179780037953},{"$f":"IF(H$8=\"d\",1,-1)*IF(H$7=\"c\",call_wycena($A76, H$6,H$3, H$4,H$5),put_wycena($A76, H$6,H$3, H$4,H$5))","v":-9.5686306583089049},{"$f":"IF(H$8=\"d\",1,-1)*(IF(H$7=\"c\",MAX($A76-H$6,0),MAX(H$6-$A76,0))-H$11*((1+H$3)^H$5))","v":9.0414390673057845},{"$f":"IF(J$8=\"d\",1,-1)*IF(J$7=\"c\",call_wycena($A76, J$6,J$3, J$4,J$5),put_wycena($A76, J$6,J$3, J$4,J$5))","v":-9.5686306583089049},{"$f":"IF(J$8=\"d\",1,-1)*(IF(J$7=\"c\",MAX($A76-J$6,0),MAX(J$6-$A76,0))-J$11*((1+J$3)^J$5))","v":9.0414390673057845},{"$f":"IF(L$8=\"d\",1,-1)*IF(L$7=\"c\",call_wycena($A76, L$6,L$3, L$4,L$5),put_wycena($A76, L$6,L$3, L$4,L$5))","v":-9.5686306583089049},{"$f":"IF(L$8=\"d\",1,-1)*(IF(L$7=\"c\",MAX($A76-L$6,0),MAX(L$6-$A76,0))-L$11*((1+L$3)^L$5))","v":9.0414390673057845},null,15.440528770152905,-15.454120779461096]
[102,{"$f":"IF(B$8=\"d\",1,-1)*IF(B$7=\"c\",call_wycena($A77, B$6,B$3, B$4,B$5),put_wycena($A77, B$6,B$3, B$4,B$5))","v":5.7390180187493023},{"$f":"IF(B$8=\"d\",1,-1)*(IF(B$7=\"c\",MAX($A77-B$6,0),MAX(B$6-$A77,0))-B$11*((1+B$3)^B$5))","v":-6.4126817121553126},{"$f":"IF(D$8=\"d\",1,-1)*IF(D$7=\"c\",call_wycena($A77, D$6,D$3, D$4,D$5),put_wycena($A77, D$6,D$3, D$4,D$5))","v":9.8100145885113932},{"$f":"IF(D$8=\"d\",1,-1)*(IF(D$7=\"c\",MAX($A77-D$6,0),MAX(D$6-$A77,0))-D$11*((1+D$3)^D$5))","v":-9.0414390673057845},{"$f":"IF(F$8=\"d\",1,-1)*IF(F$7=\"c\",call_wycena($A77, F$6,F$3, F$4,F$5),put_wycena($A77, F$6,F$3, F$4,F$5))","v":2.7935277572990369},{"$f":"IF(F$8=\"d\",1,-1)*(IF(F$7=\"c\",MAX($A77-F$6,0),MAX(F$6-$A77,0))-F$11*((1+F$3)^F$5))","v":-3.1763179780037953},{"$f":"IF(H$8=\"d\",1,-1)*IF(H$7=\"c\",call_wycena($A77, H$6,H$3, H$4,H$5),put_wycena($A77, H$6,H$3, H$4,H$5))","v":-9.8100145885113932},{"$f":"IF(H$8=\"d\",1,-1)*(IF(H$7=\"c\",MAX($A77-H$6,0),MAX(H$6-$A77,0))-H$11*((1+H$3)^H$5))","v":9.0414390673057845},{"$f":"IF(J$8=\"d\",1,-1)*IF(J$7=\"c\",call_wycena($A77, J$6,J$3, J$4,J$5),put_wycena($A77, J$6,J$3, J$4,J$5))","v":-9.8100145885113932},{"$f":"IF(J$8=\"d\",1,-1)*(IF(J$7=\"c\",MAX($A77-J$6,0),MAX(J$6-$A77,0))-J$11*((1+J$3)^J$5))","v":9.0414390673057845},{"$f":"IF(L$8=\"d\",1,-1)*IF(L$7=\"c\",call_wycena($A77, L$6,L$3, L$4,L$5),put_wycena($A77, L$6,L$3, L$4,L$5))","v":-9.8100145885113932},{"$f":"IF(L$8=\"d\",1,-1)*(IF(L$7=\"c\",MAX($A77-L$6,0),MAX(L$6-$A77,0))-L$11*((1+L$3)^L$5))","v":9.0414390673057845},null,15.549032607260695,-15.454120779461096]
[102.5,{"$f":"IF(B$8=\"d\",1,-1)*IF(B$7=\"c\",call_wycena($A78, B$6,B$3, B$4,B$5),put_wycena($A78, B$6,B$3, B$4,B$5))","v":5.6088040494263929},-6.4126817121553126,{"$f":"IF(D$8=\"d\",1,-1)*IF(D$7=\"c\",call_wycena($A78, D$6,D$3, D$4,D$5),put_wycena($A78, D$6,D$3, D$4,D$5))","v":10.054655790845558},-9.0414390673057845,{"$f":"IF(F$8=\"d\",1,-1)*IF(F$7=\"c\",call_wycena($A78, F$6,F$3, F$4,F$5),put_wycena($A78, F$6,F$3, F$4,F$5))","v":2.7183176061222802},{"$f":"IF(F$8=\"d\",1,-1)*(IF(F$7=\"c\",MAX($A78-F$6,0),MAX(F$6-$A78,0))-F$11*((1+F$3)^F$5))","v":-3.1763179780037953},{"$f":"IF(H$8=\"d\",1,-1)*IF(H$7=\"c\",call_wycena($A78, H$6,H$3, H$4,H$5),put_wycena($A78, H$6,H$3, H$4,H$5))","v":-10.054655790845558},{"$f":"IF(H$8=\"d\",1,-1)*(IF(H$7=\"c\",MAX($A78-H$6,0),MAX(H$6-$A78,0))-H$11*((1+H$3)^H$5))","v":9.0414390673057845},{"$f":"IF(J$8=\"d\",1,-1)*IF(J$7=\"c\",call_wycena($A78, J$6,J$3, J$4,J$5),put_wycena($A78, J$6,J$3, J$4,J$5))","v":-10.054655790845558},{"$f":"IF(J$8=\"d\",1,-1)*(IF(J$7=\"c\",MAX($A78-J$6,0),MAX(J$6-$A78,0))-J$11*((1+J$3)^J$5))","v":9.0414390673057845},{"$f":"IF(L$8=\"d\",1,-1)*IF(L$7=\"c\",call_wycena($A78, L$6,L$3, L$4,L$5),put_wycena($A78, L$6,L$3, L$4,L$5))","v":-10.054655790845558},{"$f":"IF(L$8=\"d\",1,-1)*(IF(L$7=\"c\",MAX($A78-L$6,0),MAX(L$6-$A78,0))-L$11*((1+L$3)^L$5))","v":9.0414390673057845},null,{"$f":"SUMPRODUCT(B$9:M$9,B78:M78)","v":15.663459840271951},{"$f":"SUMPRODUCT(B$10:M$10,B78:M78)","v":-15.454120779461096}]
[{"$f":"A78+0.5","v":103},{"$f":"IF(B$8=\"d\",1,-1)*IF(B$7=\"c\",call_wycena($A79, B$6,B$3, B$4,B$5),put_wycena($A79, B$6,B$3, B$4,B$5))","v":5.4812155802298896},-6.4126817121553126,{"$f":"IF(D$8=\"d\",1,-1)*IF(D$7=\"c\",call_wycena($A79, D$6,D$3, D$4,D$5),put_wycena($A79, D$6,D$3, D$4,D$5))","v":10.302539798007281},-9.0414390673057845,{"$f":"IF(F$8=\"d\",1,-1)*IF(F$7=\"c\",call_wycena($A79, F$6,F$3, F$4,F$5),put_wycena($A79, F$6,F$3, F$4,F$5))","v":2.6449906246545769},{"$f":"IF(F$8=\"d\",1,-1)*(IF(F$7=\"c\",MAX($A79-F$6,0),MAX(F$6-$A79,0))-F$11*((1+F$3)^F$5))","v":-3.1763179780037953},{"$f":"IF(H$8=\"d\",1,-1)*IF(H$7=\"c\",call_wycena($A79, H$6,H$3, H$4,H$5),put_wycena($A79, H$6,H$3, H$4,H$5))","v":-10.302539798007281},{"$f":"IF(H$8=\"d\",1,-1)*(IF(H$7=\"c\",MAX($A79-H$6,0),MAX(H$6-$A79,0))-H$11*((1+H$3)^H$5))","v":9.0414390673057845},{"$f":"IF(J$8=\"d\",1,-1)*IF(J$7=\"c\",call_wycena($A79, J$6,J$3, J$4,J$5),put_wycena($A79, J$6,J$3, J$4,J$5))","v":-10.302539798007281},{"$f":"IF(J$8=\"d\",1,-1)*(IF(J$7=\"c\",MAX($A79-J$6,0),MAX(J$6-$A79,0))-J$11*((1+J$3)^J$5))","v":9.0414390673057845},{"$f":"IF(L$8=\"d\",1,-1)*IF(L$7=\"c\",call_wycena($A79, L$6,L$3, L$4,L$5),put_wycena($A79, L$6,L$3, L$4,L$5))","v":-10.302539798007281},{"$f":"IF(L$8=\"d\",1,-1)*(IF(L$7=\"c\",MAX($A79-L$6,0),MAX(L$6-$A79,0))-L$11*((1+L$3)^L$5))","v":9.0414390673057845},null,15.783755378237171,-15.454120779461096]
[103.5,{"$f":"IF(B$8=\"d\",1,-1)*IF(B$7=\"c\",call_wycena($A80, B$6,B$3, B$4,B$5),put_wycena($A80, B$6,B$3, B$4,B$5))","v":5.3562121177830377},-6.4126817121553126,{"$f":"IF(D$8=\"d\",1,-1)*IF(D$7=\"c\",call_wycena($A80, D$6,D$3, D$4,D$5),put_wycena($A80, D$6,D$3, D$4,D$5))","v":10.55365142549072},-9.0414390673057845,{"$f":"IF(F$8=\"d\",1,-1)*IF(F$7=\"c\",call_wycena($A80, F$6,F$3, F$4,F$5),put_wycena($A80, F$6,F$3, F$4,F$5))","v":2.5735059984101429},{"$f":"IF(F$8=\"d\",1,-1)*(IF(F$7=\"c\",MAX($A80-F$6,0),MAX(F$6-$A80,0))-F$11*((1+F$3)^F$5))","v":-3.1763179780037953},{"$f":"IF(H$8=\"d\",1,-1)*IF(H$7=\"c\",call_wycena($A80, H$6,H$3, H$4,H$5),put_wycena($A80, H$6,H$3, H$4,H$5))","v":-10.55365142549072},{"$f":"IF(H$8=\"d\",1,-1)*(IF(H$7=\"c\",MAX($A80-H$6,0),MAX(H$6-$A80,0))-H$11*((1+H$3)^H$5))","v":9.0414390673057845},{"$f":"IF(J$8=\"d\",1,-1)*IF(J$7=\"c\",call_wycena($A80, J$6,J$3, J$4,J$5),put_wycena($A80, J$6,J$3, J$4,J$5))","v":-10.55365142549072},{"$f":"IF(J$8=\"d\",1,-1)*(IF(J$7=\"c\",MAX($A80-J$6,0),MAX(J$6-$A80,0))-J$11*((1+J$3)^J$5))","v":9.0414390673057845},{"$f":"IF(L$8=\"d\",1,-1)*IF(L$7=\"c\",call_wycena($A80, L$6,L$3, L$4,L$5),put_wycena($A80, L$6,L$3, L$4,L$5))","v":-10.55365142549072},{"$f":"IF(L$8=\"d\",1,-1)*(IF(L$7=\"c\",MAX($A80-L$6,0),MAX(L$6-$A80,0))-L$11*((1+L$3)^L$5))","v":9.0414390673057845},null,15.909863543273758,-15.454120779461096]
[104,{"$f":"IF(B$8=\"d\",1,-1)*IF(B$7=\"c\",call_wycena($A81, B$6,B$3, B$4,B$5),put_wycena($A81, B$6,B$3, B$4,B$5))","v":5.2337533200598187},-6.4126817121553126,{"$f":"IF(D$8=\"d\",1,-1)*IF(D$7=\"c\",call_wycena($A81, D$6,D$3, D$4,D$5),put_wycena($A81, D$6,D$3, D$4,D$5))","v":10.807974793902403},-9.0414390673057845,{"$f":"IF(F$8=\"d\",1,-1)*IF(F$7=\"c\",call_wycena($A81, F$6,F$3, F$4,F$5),put_wycena($A81, F$6,F$3, F$4,F$5))","v":2.5038235179572261},{"$f":"IF(F$8=\"d\",1,-1)*(IF(F$7=\"c\",MAX($A81-F$6,0),MAX(F$6-$A81,0))-F$11*((1+F$3)^F$5))","v":-3.1763179780037953},{"$f":"IF(H$8=\"d\",1,-1)*IF(H$7=\"c\",call_wycena($A81, H$6,H$3, H$4,H$5),put_wycena($A81, H$6,H$3, H$4,H$5))","v":-10.807974793902403},{"$f":"IF(H$8=\"d\",1,-1)*(IF(H$7=\"c\",MAX($A81-H$6,0),MAX(H$6-$A81,0))-H$11*((1+H$3)^H$5))","v":9.0414390673057845},{"$f":"IF(J$8=\"d\",1,-1)*IF(J$7=\"c\",call_wycena($A81, J$6,J$3, J$4,J$5),put_wycena($A81, J$6,J$3, J$4,J$5))","v":-10.807974793902403},{"$f":"IF(J$8=\"d\",1,-1)*(IF(J$7=\"c\",MAX($A81-J$6,0),MAX(J$6-$A81,0))-J$11*((1+J$3)^J$5))","v":9.0414390673057845},{"$f":"IF(L$8=\"d\",1,-1)*IF(L$7=\"c\",call_wycena($A81, L$6,L$3, L$4,L$5),put_wycena($A81, L$6,L$3, L$4,L$5))","v":-10.807974793902403},{"$f":"IF(L$8=\"d\",1,-1)*(IF(L$7=\"c\",MAX($A81-L$6,0),MAX(L$6-$A81,0))-L$11*((1+L$3)^L$5))","v":9.0414390673057845},null,16.041728113962222,-15.454120779461096]
[104.5,{"$f":"IF(B$8=\"d\",1,-1)*IF(B$7=\"c\",call_wycena($A82, B$6,B$3, B$4,B$5),put_wycena($A82, B$6,B$3, B$4,B$5))","v":5.1137990165396197},-6.4126817121553126,{"$f":"IF(D$8=\"d\",1,-1)*IF(D$7=\"c\",call_wycena($A82, D$6,D$3, D$4,D$5),put_wycena($A82, D$6,D$3, D$4,D$5))","v":11.065493351289774},-9.0414390673057845,{"$f":"IF(F$8=\"d\",1,-1)*IF(F$7=\"c\",call_wycena($A82, F$6,F$3, F$4,F$5),put_wycena($A82, F$6,F$3, F$4,F$5))","v":2.4359035828969624},{"$f":"IF(F$8=\"d\",1,-1)*(IF(F$7=\"c\",MAX($A82-F$6,0),MAX(F$6-$A82,0))-F$11*((1+F$3)^F$5))","v":-3.1763179780037953},{"$f":"IF(H$8=\"d\",1,-1)*IF(H$7=\"c\",call_wycena($A82, H$6,H$3, H$4,H$5),put_wycena($A82, H$6,H$3, H$4,H$5))","v":-11.065493351289774},{"$f":"IF(H$8=\"d\",1,-1)*(IF(H$7=\"c\",MAX($A82-H$6,0),MAX(H$6-$A82,0))-H$11*((1+H$3)^H$5))","v":9.0414390673057845},{"$f":"IF(J$8=\"d\",1,-1)*IF(J$7=\"c\",call_wycena($A82, J$6,J$3, J$4,J$5),put_wycena($A82, J$6,J$3, J$4,J$5))","v":-11.065493351289774},{"$f":"IF(J$8=\"d\",1,-1)*(IF(J$7=\"c\",MAX($A82-J$6,0),MAX(J$6-$A82,0))-J$11*((1+J$3)^J$5))","v":9.0414390673057845},{"$f":"IF(L$8=\"d\",1,-1)*IF(L$7=\"c\",call_wycena($A82, L$6,L$3, L$4,L$5),put_wycena($A82, L$6,L$3, L$4,L$5))","v":-11.065493351289774},{"$f":"IF(L$8=\"d\",1,-1)*(IF(L$7=\"c\",MAX($A82-L$6,0),MAX(L$6-$A82,0))-L$11*((1+L$3)^L$5))","v":9.0414390673057845},null,16.179292367829394,-15.454120779461096]
[105,{"$f":"IF(B$8=\"d\",1,-1)*IF(B$7=\"c\",call_wycena($A83, B$6,B$3, B$4,B$5),put_wycena($A83, B$6,B$3, B$4,B$5))","v":4.9963092274494514},-6.4126817121553126,{"$f":"IF(D$8=\"d\",1,-1)*IF(D$7=\"c\",call_wycena($A83, D$6,D$3, D$4,D$5),put_wycena($A83, D$6,D$3, D$4,D$5))","v":11.326189895456814},-9.0414390673057845,{"$f":"IF(F$8=\"d\",1,-1)*IF(F$7=\"c\",call_wycena($A83, F$6,F$3, F$4,F$5),put_wycena($A83, F$6,F$3, F$4,F$5))","v":2.3697072050647172},{"$f":"IF(F$8=\"d\",1,-1)*(IF(F$7=\"c\",MAX($A83-F$6,0),MAX(F$6-$A83,0))-F$11*((1+F$3)^F$5))","v":-3.1763179780037953},{"$f":"IF(H$8=\"d\",1,-1)*IF(H$7=\"c\",call_wycena($A83, H$6,H$3, H$4,H$5),put_wycena($A83, H$6,H$3, H$4,H$5))","v":-11.326189895456814},{"$f":"IF(H$8=\"d\",1,-1)*(IF(H$7=\"c\",MAX($A83-H$6,0),MAX(H$6-$A83,0))-H$11*((1+H$3)^H$5))","v":9.0414390673057845},{"$f":"IF(J$8=\"d\",1,-1)*IF(J$7=\"c\",call_wycena($A83, J$6,J$3, J$4,J$5),put_wycena($A83, J$6,J$3, J$4,J$5))","v":-11.326189895456814},{"$f":"IF(J$8=\"d\",1,-1)*(IF(J$7=\"c\",MAX($A83-J$6,0),MAX(J$6-$A83,0))-J$11*((1+J$3)^J$5))","v":9.0414390673057845},{"$f":"IF(L$8=\"d\",1,-1)*IF(L$7=\"c\",call_wycena($A83, L$6,L$3, L$4,L$5),put_wycena($A83, L$6,L$3, L$4,L$5))","v":-11.326189895456814},{"$f":"IF(L$8=\"d\",1,-1)*(IF(L$7=\"c\",MAX($A83-L$6,0),MAX(L$6-$A83,0))-L$11*((1+L$3)^L$5))","v":9.0414390673057845},null,16.322499122906265,-15.454120779461096]
[105.5,{"$f":"IF(B$8=\"d\",1,-1)*IF(B$7=\"c\",call_wycena($A84, B$6,B$3, B$4,B$5),put_wycena($A84, B$6,B$3, B$4,B$5))","v":4.8812441821094197},-6.4126817121553126,{"$f":"IF(D$8=\"d\",1,-1)*IF(D$7=\"c\",call_wycena($A84, D$6,D$3, D$4,D$5),put_wycena($A84, D$6,D$3, D$4,D$5))","v":11.590046596240995},-9.0414390673057845,{"$f":"IF(F$8=\"d\",1,-1)*IF(F$7=\"c\",call_wycena($A84, F$6,F$3, F$4,F$5),put_wycena($A84, F$6,F$3, F$4,F$5))","v":2.3051960109899792},{"$f":"IF(F$8=\"d\",1,-1)*(IF(F$7=\"c\",MAX($A84-F$6,0),MAX(F$6-$A84,0))-F$11*((1+F$3)^F$5))","v":-3.1763179780037953},{"$f":"IF(H$8=\"d\",1,-1)*IF(H$7=\"c\",call_wycena($A84, H$6,H$3, H$4,H$5),put_wycena($A84, H$6,H$3, H$4,H$5))","v":-11.590046596240995},{"$f":"IF(H$8=\"d\",1,-1)*(IF(H$7=\"c\",MAX($A84-H$6,0),MAX(H$6-$A84,0))-H$11*((1+H$3)^H$5))","v":9.0414390673057845},{"$f":"IF(J$8=\"d\",1,-1)*IF(J$7=\"c\",call_wycena($A84, J$6,J$3, J$4,J$5),put_wycena($A84, J$6,J$3, J$4,J$5))","v":-11.590046596240995},{"$f":"IF(J$8=\"d\",1,-1)*(IF(J$7=\"c\",MAX($A84-J$6,0),MAX(J$6-$A84,0))-J$11*((1+J$3)^J$5))","v":9.0414390673057845},{"$f":"IF(L$8=\"d\",1,-1)*IF(L$7=\"c\",call_wycena($A84, L$6,L$3, L$4,L$5),put_wycena($A84, L$6,L$3, L$4,L$5))","v":-11.590046596240995},{"$f":"IF(L$8=\"d\",1,-1)*(IF(L$7=\"c\",MAX($A84-L$6,0),MAX(L$6-$A84,0))-L$11*((1+L$3)^L$5))","v":9.0414390673057845},null,16.471290778350415,-15.454120779461096]
[106,{"$f":"IF(B$8=\"d\",1,-1)*IF(B$7=\"c\",call_wycena($A85, B$6,B$3, B$4,B$5),put_wycena($A85, B$6,B$3, B$4,B$5))","v":4.7685643363977626},-6.4126817121553126,{"$f":"IF(D$8=\"d\",1,-1)*IF(D$7=\"c\",call_wycena($A85, D$6,D$3, D$4,D$5),put_wycena($A85, D$6,D$3, D$4,D$5))","v":11.857045017726634},-9.0414390673057845,{"$f":"IF(F$8=\"d\",1,-1)*IF(F$7=\"c\",call_wycena($A85, F$6,F$3, F$4,F$5),put_wycena($A85, F$6,F$3, F$4,F$5))","v":2.2423322436481037},{"$f":"IF(F$8=\"d\",1,-1)*(IF(F$7=\"c\",MAX($A85-F$6,0),MAX(F$6-$A85,0))-F$11*((1+F$3)^F$5))","v":-3.1763179780037953},{"$f":"IF(H$8=\"d\",1,-1)*IF(H$7=\"c\",call_wycena($A85, H$6,H$3, H$4,H$5),put_wycena($A85, H$6,H$3, H$4,H$5))","v":-11.857045017726634},{"$f":"IF(H$8=\"d\",1,-1)*(IF(H$7=\"c\",MAX($A85-H$6,0),MAX(H$6-$A85,0))-H$11*((1+H$3)^H$5))","v":9.0414390673057845},{"$f":"IF(J$8=\"d\",1,-1)*IF(J$7=\"c\",call_wycena($A85, J$6,J$3, J$4,J$5),put_wycena($A85, J$6,J$3, J$4,J$5))","v":-11.857045017726634},{"$f":"IF(J$8=\"d\",1,-1)*(IF(J$7=\"c\",MAX($A85-J$6,0),MAX(J$6-$A85,0))-J$11*((1+J$3)^J$5))","v":9.0414390673057845},{"$f":"IF(L$8=\"d\",1,-1)*IF(L$7=\"c\",call_wycena($A85, L$6,L$3, L$4,L$5),put_wycena($A85, L$6,L$3, L$4,L$5))","v":-11.857045017726634},{"$f":"IF(L$8=\"d\",1,-1)*(IF(L$7=\"c\",MAX($A85-L$6,0),MAX(L$6-$A85,0))-L$11*((1+L$3)^L$5))","v":9.0414390673057845},null,16.625609354124396,-15.454120779461096]
[106.5,{"$f":"IF(B$8=\"d\",1,-1)*IF(B$7=\"c\",call_wycena($A86, B$6,B$3, B$4,B$5),put_wycena($A86, B$6,B$3, B$4,B$5))","v":4.6582303893524291},-6.4126817121553126,{"$f":"IF(D$8=\"d\",1,-1)*IF(D$7=\"c\",call_wycena($A86, D$6,D$3, D$4,D$5),put_wycena($A86, D$6,D$3, D$4,D$5))","v":12.127166140370697},-9.0414390673057845,{"$f":"IF(F$8=\"d\",1,-1)*IF(F$7=\"c\",call_wycena($A86, F$6,F$3, F$4,F$5),put_wycena($A86, F$6,F$3, F$4,F$5))","v":2.1810787635380464},{"$f":"IF(F$8=\"d\",1,-1)*(IF(F$7=\"c\",MAX($A86-F$6,0),MAX(F$6-$A86,0))-F$11*((1+F$3)^F$5))","v":-3.1763179780037953},{"$f":"IF(H$8=\"d\",1,-1)*IF(H$7=\"c\",call_wycena($A86, H$6,H$3, H$4,H$5),put_wycena($A86, H$6,H$3, H$4,H$5))","v":-12.127166140370697},{"$f":"IF(H$8=\"d\",1,-1)*(IF(H$7=\"c\",MAX($A86-H$6,0),MAX(H$6-$A86,0))-H$11*((1+H$3)^H$5))","v":9.0414390673057845},{"$f":"IF(J$8=\"d\",1,-1)*IF(J$7=\"c\",call_wycena($A86, J$6,J$3, J$4,J$5),put_wycena($A86, J$6,J$3, J$4,J$5))","v":-12.127166140370697},{"$f":"IF(J$8=\"d\",1,-1)*(IF(J$7=\"c\",MAX($A86-J$6,0),MAX(J$6-$A86,0))-J$11*((1+J$3)^J$5))","v":9.0414390673057845},{"$f":"IF(L$8=\"d\",1,-1)*IF(L$7=\"c\",call_wycena($A86, L$6,L$3, L$4,L$5),put_wycena($A86, L$6,L$3, L$4,L$5))","v":-12.127166140370697},{"$f":"IF(L$8=\"d\",1,-1)*(IF(L$7=\"c\",MAX($A86-L$6,0),MAX(L$6-$A86,0))-L$11*((1+L$3)^L$5))","v":9.0414390673057845},null,16.785396529723126,-15.454120779461096]
[107,{"$f":"IF(B$8=\"d\",1,-1)*IF(B$7=\"c\",call_wycena($A87, B$6,B$3, B$4,B$5),put_wycena($A87, B$6,B$3, B$4,B$5))","v":4.5502032989267498},-6.4126817121553126,{"$f":"IF(D$8=\"d\",1,-1)*IF(D$7=\"c\",call_wycena($A87, D$6,D$3, D$4,D$5),put_wycena($A87, D$6,D$3, D$4,D$5))","v":12.400390383018866},-9.0414390673057845,{"$f":"IF(F$8=\"d\",1,-1)*IF(F$7=\"c\",call_wycena($A87, F$6,F$3, F$4,F$5),put_wycena($A87, F$6,F$3, F$4,F$5))","v":2.121399049118617},{"$f":"IF(F$8=\"d\",1,-1)*(IF(F$7=\"c\",MAX($A87-F$6,0),MAX(F$6-$A87,0))-F$11*((1+F$3)^F$5))","v":-3.1763179780037953},{"$f":"IF(H$8=\"d\",1,-1)*IF(H$7=\"c\",call_wycena($A87, H$6,H$3, H$4,H$5),put_wycena($A87, H$6,H$3, H$4,H$5))","v":-12.400390383018866},{"$f":"IF(H$8=\"d\",1,-1)*(IF(H$7=\"c\",MAX($A87-H$6,0),MAX(H$6-$A87,0))-H$11*((1+H$3)^H$5))","v":9.0414390673057845},{"$f":"IF(J$8=\"d\",1,-1)*IF(J$7=\"c\",call_wycena($A87, J$6,J$3, J$4,J$5),put_wycena($A87, J$6,J$3, J$4,J$5))","v":-12.400390383018866},{"$f":"IF(J$8=\"d\",1,-1)*(IF(J$7=\"c\",MAX($A87-J$6,0),MAX(J$6-$A87,0))-J$11*((1+J$3)^J$5))","v":9.0414390673057845},{"$f":"IF(L$8=\"d\",1,-1)*IF(L$7=\"c\",call_wycena($A87, L$6,L$3, L$4,L$5),put_wycena($A87, L$6,L$3, L$4,L$5))","v":-12.400390383018866},{"$f":"IF(L$8=\"d\",1,-1)*(IF(L$7=\"c\",MAX($A87-L$6,0),MAX(L$6-$A87,0))-L$11*((1+L$3)^L$5))","v":9.0414390673057845},null,16.950593681945616,-15.454120779461096]
[107.5,{"$f":"IF(B$8=\"d\",1,-1)*IF(B$7=\"c\",call_wycena($A88, B$6,B$3, B$4,B$5),put_wycena($A88, B$6,B$3, B$4,B$5))","v":4.4444442969170161},-6.4126817121553126,{"$f":"IF(D$8=\"d\",1,-1)*IF(D$7=\"c\",call_wycena($A88, D$6,D$3, D$4,D$5),put_wycena($A88, D$6,D$3, D$4,D$5))","v":12.67669762478976},-9.0414390673057845,{"$f":"IF(F$8=\"d\",1,-1)*IF(F$7=\"c\",call_wycena($A88, F$6,F$3, F$4,F$5),put_wycena($A88, F$6,F$3, F$4,F$5))","v":2.0632571966347459},{"$f":"IF(F$8=\"d\",1,-1)*(IF(F$7=\"c\",MAX($A88-F$6,0),MAX(F$6-$A88,0))-F$11*((1+F$3)^F$5))","v":-3.1763179780037953},{"$f":"IF(H$8=\"d\",1,-1)*IF(H$7=\"c\",call_wycena($A88, H$6,H$3, H$4,H$5),put_wycena($A88, H$6,H$3, H$4,H$5))","v":-12.67669762478976},{"$f":"IF(H$8=\"d\",1,-1)*(IF(H$7=\"c\",MAX($A88-H$6,0),MAX(H$6-$A88,0))-H$11*((1+H$3)^H$5))","v":9.0414390673057845},{"$f":"IF(J$8=\"d\",1,-1)*IF(J$7=\"c\",call_wycena($A88, J$6,J$3, J$4,J$5),put_wycena($A88, J$6,J$3, J$4,J$5))","v":-12.67669762478976},{"$f":"IF(J$8=\"d\",1,-1)*(IF(J$7=\"c\",MAX($A88-J$6,0),MAX(J$6-$A88,0))-J$11*((1+J$3)^J$5))","v":9.0414390673057845},{"$f":"IF(L$8=\"d\",1,-1)*IF(L$7=\"c\",call_wycena($A88, L$6,L$3, L$4,L$5),put_wycena($A88, L$6,L$3, L$4,L$5))","v":-12.67669762478976},{"$f":"IF(L$8=\"d\",1,-1)*(IF(L$7=\"c\",MAX($A88-L$6,0),MAX(L$6-$A88,0))-L$11*((1+L$3)^L$5))","v":9.0414390673057845},null,17.121141921706776,-15.454120779461096]
[108,{"$f":"IF(B$8=\"d\",1,-1)*IF(B$7=\"c\",call_wycena($A89, B$6,B$3, B$4,B$5),put_wycena($A89, B$6,B$3, B$4,B$5))","v":4.3409149030804706},-6.4126817121553126,{"$f":"IF(D$8=\"d\",1,-1)*IF(D$7=\"c\",call_wycena($A89, D$6,D$3, D$4,D$5),put_wycena($A89, D$6,D$3, D$4,D$5))","v":12.956067226807271},-9.0414390673057845,{"$f":"IF(F$8=\"d\",1,-1)*IF(F$7=\"c\",call_wycena($A89, F$6,F$3, F$4,F$5),put_wycena($A89, F$6,F$3, F$4,F$5))","v":2.0066179193655973},{"$f":"IF(F$8=\"d\",1,-1)*(IF(F$7=\"c\",MAX($A89-F$6,0),MAX(F$6-$A89,0))-F$11*((1+F$3)^F$5))","v":-3.1763179780037953},{"$f":"IF(H$8=\"d\",1,-1)*IF(H$7=\"c\",call_wycena($A89, H$6,H$3, H$4,H$5),put_wycena($A89, H$6,H$3, H$4,H$5))","v":-12.956067226807271},{"$f":"IF(H$8=\"d\",1,-1)*(IF(H$7=\"c\",MAX($A89-H$6,0),MAX(H$6-$A89,0))-H$11*((1+H$3)^H$5))","v":9.0414390673057845},{"$f":"IF(J$8=\"d\",1,-1)*IF(J$7=\"c\",call_wycena($A89, J$6,J$3, J$4,J$5),put_wycena($A89, J$6,J$3, J$4,J$5))","v":-12.956067226807271},{"$f":"IF(J$8=\"d\",1,-1)*(IF(J$7=\"c\",MAX($A89-J$6,0),MAX(J$6-$A89,0))-J$11*((1+J$3)^J$5))","v":9.0414390673057845},{"$f":"IF(L$8=\"d\",1,-1)*IF(L$7=\"c\",call_wycena($A89, L$6,L$3, L$4,L$5),put_wycena($A89, L$6,L$3, L$4,L$5))","v":-12.956067226807271},{"$f":"IF(L$8=\"d\",1,-1)*(IF(L$7=\"c\",MAX($A89-L$6,0),MAX(L$6-$A89,0))-L$11*((1+L$3)^L$5))","v":9.0414390673057845},null,17.296982129887741,-15.454120779461096]
[108.5,{"$f":"IF(B$8=\"d\",1,-1)*IF(B$7=\"c\",call_wycena($A90, B$6,B$3, B$4,B$5),put_wycena($A90, B$6,B$3, B$4,B$5))","v":4.239576938462438},-6.4126817121553126,{"$f":"IF(D$8=\"d\",1,-1)*IF(D$7=\"c\",call_wycena($A90, D$6,D$3, D$4,D$5),put_wycena($A90, D$6,D$3, D$4,D$5))","v":13.238478053761369},-9.0414390673057845,{"$f":"IF(F$8=\"d\",1,-1)*IF(F$7=\"c\",call_wycena($A90, F$6,F$3, F$4,F$5),put_wycena($A90, F$6,F$3, F$4,F$5))","v":1.9514465463242168},{"$f":"IF(F$8=\"d\",1,-1)*(IF(F$7=\"c\",MAX($A90-F$6,0),MAX(F$6-$A90,0))-F$11*((1+F$3)^F$5))","v":-3.1763179780037953},{"$f":"IF(H$8=\"d\",1,-1)*IF(H$7=\"c\",call_wycena($A90, H$6,H$3, H$4,H$5),put_wycena($A90, H$6,H$3, H$4,H$5))","v":-13.238478053761369},{"$f":"IF(H$8=\"d\",1,-1)*(IF(H$7=\"c\",MAX($A90-H$6,0),MAX(H$6-$A90,0))-H$11*((1+H$3)^H$5))","v":9.0414390673057845},{"$f":"IF(J$8=\"d\",1,-1)*IF(J$7=\"c\",call_wycena($A90, J$6,J$3, J$4,J$5),put_wycena($A90, J$6,J$3, J$4,J$5))","v":-13.238478053761369},{"$f":"IF(J$8=\"d\",1,-1)*(IF(J$7=\"c\",MAX($A90-J$6,0),MAX(J$6-$A90,0))-J$11*((1+J$3)^J$5))","v":9.0414390673057845},{"$f":"IF(L$8=\"d\",1,-1)*IF(L$7=\"c\",call_wycena($A90, L$6,L$3, L$4,L$5),put_wycena($A90, L$6,L$3, L$4,L$5))","v":-13.238478053761369},{"$f":"IF(L$8=\"d\",1,-1)*(IF(L$7=\"c\",MAX($A90-L$6,0),MAX(L$6-$A90,0))-L$11*((1+L$3)^L$5))","v":9.0414390673057845},null,17.478054992223807,-15.454120779461096]
[109,{"$f":"IF(B$8=\"d\",1,-1)*IF(B$7=\"c\",call_wycena($A91, B$6,B$3, B$4,B$5),put_wycena($A91, B$6,B$3, B$4,B$5))","v":4.1403925379513886},-6.4126817121553126,{"$f":"IF(D$8=\"d\",1,-1)*IF(D$7=\"c\",call_wycena($A91, D$6,D$3, D$4,D$5),put_wycena($A91, D$6,D$3, D$4,D$5))","v":13.523908495279215},-9.0414390673057845,{"$f":"IF(F$8=\"d\",1,-1)*IF(F$7=\"c\",call_wycena($A91, F$6,F$3, F$4,F$5),put_wycena($A91, F$6,F$3, F$4,F$5))","v":1.8977090204385281},{"$f":"IF(F$8=\"d\",1,-1)*(IF(F$7=\"c\",MAX($A91-F$6,0),MAX(F$6-$A91,0))-F$11*((1+F$3)^F$5))","v":-3.1763179780037953},{"$f":"IF(H$8=\"d\",1,-1)*IF(H$7=\"c\",call_wycena($A91, H$6,H$3, H$4,H$5),put_wycena($A91, H$6,H$3, H$4,H$5))","v":-13.523908495279215},{"$f":"IF(H$8=\"d\",1,-1)*(IF(H$7=\"c\",MAX($A91-H$6,0),MAX(H$6-$A91,0))-H$11*((1+H$3)^H$5))","v":9.0414390673057845},{"$f":"IF(J$8=\"d\",1,-1)*IF(J$7=\"c\",call_wycena($A91, J$6,J$3, J$4,J$5),put_wycena($A91, J$6,J$3, J$4,J$5))","v":-13.523908495279215},{"$f":"IF(J$8=\"d\",1,-1)*(IF(J$7=\"c\",MAX($A91-J$6,0),MAX(J$6-$A91,0))-J$11*((1+J$3)^J$5))","v":9.0414390673057845},{"$f":"IF(L$8=\"d\",1,-1)*IF(L$7=\"c\",call_wycena($A91, L$6,L$3, L$4,L$5),put_wycena($A91, L$6,L$3, L$4,L$5))","v":-13.523908495279215},{"$f":"IF(L$8=\"d\",1,-1)*(IF(L$7=\"c\",MAX($A91-L$6,0),MAX(L$6-$A91,0))-L$11*((1+L$3)^L$5))","v":9.0414390673057845},null,17.664301033230604,-15.454120779461096]
[109.5,{"$f":"IF(B$8=\"d\",1,-1)*IF(B$7=\"c\",call_wycena($A92, B$6,B$3, B$4,B$5),put_wycena($A92, B$6,B$3, B$4,B$5))","v":4.0433241620814862},-6.4126817121553126,{"$f":"IF(D$8=\"d\",1,-1)*IF(D$7=\"c\",call_wycena($A92, D$6,D$3, D$4,D$5),put_wycena($A92, D$6,D$3, D$4,D$5))","v":13.812336487089013},-9.0414390673057845,{"$f":"IF(F$8=\"d\",1,-1)*IF(F$7=\"c\",call_wycena($A92, F$6,F$3, F$4,F$5),put_wycena($A92, F$6,F$3, F$4,F$5))","v":1.845371896242014},{"$f":"IF(F$8=\"d\",1,-1)*(IF(F$7=\"c\",MAX($A92-F$6,0),MAX(F$6-$A92,0))-F$11*((1+F$3)^F$5))","v":-3.1763179780037953},{"$f":"IF(H$8=\"d\",1,-1)*IF(H$7=\"c\",call_wycena($A92, H$6,H$3, H$4,H$5),put_wycena($A92, H$6,H$3, H$4,H$5))","v":-13.812336487089013},{"$f":"IF(H$8=\"d\",1,-1)*(IF(H$7=\"c\",MAX($A92-H$6,0),MAX(H$6-$A92,0))-H$11*((1+H$3)^H$5))","v":9.0414390673057845},{"$f":"IF(J$8=\"d\",1,-1)*IF(J$7=\"c\",call_wycena($A92, J$6,J$3, J$4,J$5),put_wycena($A92, J$6,J$3, J$4,J$5))","v":-13.812336487089013},{"$f":"IF(J$8=\"d\",1,-1)*(IF(J$7=\"c\",MAX($A92-J$6,0),MAX(J$6-$A92,0))-J$11*((1+J$3)^J$5))","v":9.0414390673057845},{"$f":"IF(L$8=\"d\",1,-1)*IF(L$7=\"c\",call_wycena($A92, L$6,L$3, L$4,L$5),put_wycena($A92, L$6,L$3, L$4,L$5))","v":-13.812336487089013},{"$f":"IF(L$8=\"d\",1,-1)*(IF(L$7=\"c\",MAX($A92-L$6,0),MAX(L$6-$A92,0))-L$11*((1+L$3)^L$5))","v":9.0414390673057845},null,17.855660649170499,-15.454120779461096]
[110,{"$f":"IF(B$8=\"d\",1,-1)*IF(B$7=\"c\",call_wycena($A93, B$6,B$3, B$4,B$5),put_wycena($A93, B$6,B$3, B$4,B$5))","v":3.9483346081016997},-6.4126817121553126,{"$f":"IF(D$8=\"d\",1,-1)*IF(D$7=\"c\",call_wycena($A93, D$6,D$3, D$4,D$5),put_wycena($A93, D$6,D$3, D$4,D$5))","v":14.103739531960557},-9.0414390673057845,{"$f":"IF(F$8=\"d\",1,-1)*IF(F$7=\"c\",call_wycena($A93, F$6,F$3, F$4,F$5),put_wycena($A93, F$6,F$3, F$4,F$5))","v":1.7944023371020137},{"$f":"IF(F$8=\"d\",1,-1)*(IF(F$7=\"c\",MAX($A93-F$6,0),MAX(F$6-$A93,0))-F$11*((1+F$3)^F$5))","v":-3.1763179780037953},{"$f":"IF(H$8=\"d\",1,-1)*IF(H$7=\"c\",call_wycena($A93, H$6,H$3, H$4,H$5),put_wycena($A93, H$6,H$3, H$4,H$5))","v":-14.103739531960557},{"$f":"IF(H$8=\"d\",1,-1)*(IF(H$7=\"c\",MAX($A93-H$6,0),MAX(H$6-$A93,0))-H$11*((1+H$3)^H$5))","v":9.0414390673057845},{"$f":"IF(J$8=\"d\",1,-1)*IF(J$7=\"c\",call_wycena($A93, J$6,J$3, J$4,J$5),put_wycena($A93, J$6,J$3, J$4,J$5))","v":-14.103739531960557},{"$f":"IF(J$8=\"d\",1,-1)*(IF(J$7=\"c\",MAX($A93-J$6,0),MAX(J$6-$A93,0))-J$11*((1+J$3)^J$5))","v":9.0414390673057845},{"$f":"IF(L$8=\"d\",1,-1)*IF(L$7=\"c\",call_wycena($A93, L$6,L$3, L$4,L$5),put_wycena($A93, L$6,L$3, L$4,L$5))","v":-14.103739531960557},{"$f":"IF(L$8=\"d\",1,-1)*(IF(L$7=\"c\",MAX($A93-L$6,0),MAX(L$6-$A93,0))-L$11*((1+L$3)^L$5))","v":9.0414390673057845},null,18.052074140062256,-15.454120779461096]
[110.5,{"$f":"IF(B$8=\"d\",1,-1)*IF(B$7=\"c\",call_wycena($A94, B$6,B$3, B$4,B$5),put_wycena($A94, B$6,B$3, B$4,B$5))","v":3.8553870203313494},-6.4126817121553126,{"$f":"IF(D$8=\"d\",1,-1)*IF(D$7=\"c\",call_wycena($A94, D$6,D$3, D$4,D$5),put_wycena($A94, D$6,D$3, D$4,D$5))","v":14.398094720407038},-8.5414390673057845,{"$f":"IF(F$8=\"d\",1,-1)*IF(F$7=\"c\",call_wycena($A94, F$6,F$3, F$4,F$5),put_wycena($A94, F$6,F$3, F$4,F$5))","v":1.7447681120126735},{"$f":"IF(F$8=\"d\",1,-1)*(IF(F$7=\"c\",MAX($A94-F$6,0),MAX(F$6-$A94,0))-F$11*((1+F$3)^F$5))","v":-3.1763179780037953},{"$f":"IF(H$8=\"d\",1,-1)*IF(H$7=\"c\",call_wycena($A94, H$6,H$3, H$4,H$5),put_wycena($A94, H$6,H$3, H$4,H$5))","v":-14.398094720407038},{"$f":"IF(H$8=\"d\",1,-1)*(IF(H$7=\"c\",MAX($A94-H$6,0),MAX(H$6-$A94,0))-H$11*((1+H$3)^H$5))","v":8.5414390673057845},{"$f":"IF(J$8=\"d\",1,-1)*IF(J$7=\"c\",call_wycena($A94, J$6,J$3, J$4,J$5),put_wycena($A94, J$6,J$3, J$4,J$5))","v":-14.398094720407038},{"$f":"IF(J$8=\"d\",1,-1)*(IF(J$7=\"c\",MAX($A94-J$6,0),MAX(J$6-$A94,0))-J$11*((1+J$3)^J$5))","v":8.5414390673057845},{"$f":"IF(L$8=\"d\",1,-1)*IF(L$7=\"c\",call_wycena($A94, L$6,L$3, L$4,L$5),put_wycena($A94, L$6,L$3, L$4,L$5))","v":-14.398094720407038},{"$f":"IF(L$8=\"d\",1,-1)*(IF(L$7=\"c\",MAX($A94-L$6,0),MAX(L$6-$A94,0))-L$11*((1+L$3)^L$5))","v":8.5414390673057845},null,18.253481740738387,-14.954120779461096]
[111,{"$f":"IF(B$8=\"d\",1,-1)*IF(B$7=\"c\",call_wycena($A95, B$6,B$3, B$4,B$5),put_wycena($A95, B$6,B$3, B$4,B$5))","v":3.7644448998214415},-6.4126817121553126,{"$f":"IF(D$8=\"d\",1,-1)*IF(D$7=\"c\",call_wycena($A95, D$6,D$3, D$4,D$5),put_wycena($A95, D$6,D$3, D$4,D$5))","v":14.695378751133674},-8.0414390673057845,{"$f":"IF(F$8=\"d\",1,-1)*IF(F$7=\"c\",call_wycena($A95, F$6,F$3, F$4,F$5),put_wycena($A95, F$6,F$3, F$4,F$5))","v":1.6964375919782224},{"$f":"IF(F$8=\"d\",1,-1)*(IF(F$7=\"c\",MAX($A95-F$6,0),MAX(F$6-$A95,0))-F$11*((1+F$3)^F$5))","v":-3.1763179780037953},{"$f":"IF(H$8=\"d\",1,-1)*IF(H$7=\"c\",call_wycena($A95, H$6,H$3, H$4,H$5),put_wycena($A95, H$6,H$3, H$4,H$5))","v":-14.695378751133674},{"$f":"IF(H$8=\"d\",1,-1)*(IF(H$7=\"c\",MAX($A95-H$6,0),MAX(H$6-$A95,0))-H$11*((1+H$3)^H$5))","v":8.0414390673057845},{"$f":"IF(J$8=\"d\",1,-1)*IF(J$7=\"c\",call_wycena($A95, J$6,J$3, J$4,J$5),put_wycena($A95, J$6,J$3, J$4,J$5))","v":-14.695378751133674},{"$f":"IF(J$8=\"d\",1,-1)*(IF(J$7=\"c\",MAX($A95-J$6,0),MAX(J$6-$A95,0))-J$11*((1+J$3)^J$5))","v":8.0414390673057845},{"$f":"IF(L$8=\"d\",1,-1)*IF(L$7=\"c\",call_wycena($A95, L$6,L$3, L$4,L$5),put_wycena($A95, L$6,L$3, L$4,L$5))","v":-14.695378751133674},{"$f":"IF(L$8=\"d\",1,-1)*(IF(L$7=\"c\",MAX($A95-L$6,0),MAX(L$6-$A95,0))-L$11*((1+L$3)^L$5))","v":8.0414390673057845},null,18.459823650955116,-14.454120779461096]
[111.5,{"$f":"IF(B$8=\"d\",1,-1)*IF(B$7=\"c\",call_wycena($A96, B$6,B$3, B$4,B$5),put_wycena($A96, B$6,B$3, B$4,B$5))","v":3.6754721133417014},-6.4126817121553126,{"$f":"IF(D$8=\"d\",1,-1)*IF(D$7=\"c\",call_wycena($A96, D$6,D$3, D$4,D$5),put_wycena($A96, D$6,D$3, D$4,D$5))","v":14.995567951219918},-7.5414390673057845,{"$f":"IF(F$8=\"d\",1,-1)*IF(F$7=\"c\",call_wycena($A96, F$6,F$3, F$4,F$5),put_wycena($A96, F$6,F$3, F$4,F$5))","v":1.6493797460124373},{"$f":"IF(F$8=\"d\",1,-1)*(IF(F$7=\"c\",MAX($A96-F$6,0),MAX(F$6-$A96,0))-F$11*((1+F$3)^F$5))","v":-3.1763179780037953},{"$f":"IF(H$8=\"d\",1,-1)*IF(H$7=\"c\",call_wycena($A96, H$6,H$3, H$4,H$5),put_wycena($A96, H$6,H$3, H$4,H$5))","v":-14.995567951219918},{"$f":"IF(H$8=\"d\",1,-1)*(IF(H$7=\"c\",MAX($A96-H$6,0),MAX(H$6-$A96,0))-H$11*((1+H$3)^H$5))","v":7.5414390673057845},{"$f":"IF(J$8=\"d\",1,-1)*IF(J$7=\"c\",call_wycena($A96, J$6,J$3, J$4,J$5),put_wycena($A96, J$6,J$3, J$4,J$5))","v":-14.995567951219918},{"$f":"IF(J$8=\"d\",1,-1)*(IF(J$7=\"c\",MAX($A96-J$6,0),MAX(J$6-$A96,0))-J$11*((1+J$3)^J$5))","v":7.5414390673057845},{"$f":"IF(L$8=\"d\",1,-1)*IF(L$7=\"c\",call_wycena($A96, L$6,L$3, L$4,L$5),put_wycena($A96, L$6,L$3, L$4,L$5))","v":-14.995567951219918},{"$f":"IF(L$8=\"d\",1,-1)*(IF(L$7=\"c\",MAX($A96-L$6,0),MAX(L$6-$A96,0))-L$11*((1+L$3)^L$5))","v":7.5414390673057845},null,18.67104006456162,-13.954120779461096]
[112,{"$f":"IF(B$8=\"d\",1,-1)*IF(B$7=\"c\",call_wycena($A97, B$6,B$3, B$4,B$5),put_wycena($A97, B$6,B$3, B$4,B$5))","v":3.588432901712892},-6.4126817121553126,{"$f":"IF(D$8=\"d\",1,-1)*IF(D$7=\"c\",call_wycena($A97, D$6,D$3, D$4,D$5),put_wycena($A97, D$6,D$3, D$4,D$5))","v":15.298638296022844},-7.0414390673057845,{"$f":"IF(F$8=\"d\",1,-1)*IF(F$7=\"c\",call_wycena($A97, F$6,F$3, F$4,F$5),put_wycena($A97, F$6,F$3, F$4,F$5))","v":1.6035641367779352},{"$f":"IF(F$8=\"d\",1,-1)*(IF(F$7=\"c\",MAX($A97-F$6,0),MAX(F$6-$A97,0))-F$11*((1+F$3)^F$5))","v":-3.1763179780037953},{"$f":"IF(H$8=\"d\",1,-1)*IF(H$7=\"c\",call_wycena($A97, H$6,H$3, H$4,H$5),put_wycena($A97, H$6,H$3, H$4,H$5))","v":-15.298638296022844},{"$f":"IF(H$8=\"d\",1,-1)*(IF(H$7=\"c\",MAX($A97-H$6,0),MAX(H$6-$A97,0))-H$11*((1+H$3)^H$5))","v":7.0414390673057845},{"$f":"IF(J$8=\"d\",1,-1)*IF(J$7=\"c\",call_wycena($A97, J$6,J$3, J$4,J$5),put_wycena($A97, J$6,J$3, J$4,J$5))","v":-15.298638296022844},{"$f":"IF(J$8=\"d\",1,-1)*(IF(J$7=\"c\",MAX($A97-J$6,0),MAX(J$6-$A97,0))-J$11*((1+J$3)^J$5))","v":7.0414390673057845},{"$f":"IF(L$8=\"d\",1,-1)*IF(L$7=\"c\",call_wycena($A97, L$6,L$3, L$4,L$5),put_wycena($A97, L$6,L$3, L$4,L$5))","v":-15.298638296022844},{"$f":"IF(L$8=\"d\",1,-1)*(IF(L$7=\"c\",MAX($A97-L$6,0),MAX(L$6-$A97,0))-L$11*((1+L$3)^L$5))","v":7.0414390673057845},null,18.887071197735736,-13.454120779461096]
[112.5,{"$f":"IF(B$8=\"d\",1,-1)*IF(B$7=\"c\",call_wycena($A98, B$6,B$3, B$4,B$5),put_wycena($A98, B$6,B$3, B$4,B$5))","v":3.503291887504183},-6.4126817121553126,{"$f":"IF(D$8=\"d\",1,-1)*IF(D$7=\"c\",call_wycena($A98, D$6,D$3, D$4,D$5),put_wycena($A98, D$6,D$3, D$4,D$5))","v":15.604565428789876},-6.5414390673057845,{"$f":"IF(F$8=\"d\",1,-1)*IF(F$7=\"c\",call_wycena($A98, F$6,F$3, F$4,F$5),put_wycena($A98, F$6,F$3, F$4,F$5))","v":1.5589609158896529},{"$f":"IF(F$8=\"d\",1,-1)*(IF(F$7=\"c\",MAX($A98-F$6,0),MAX(F$6-$A98,0))-F$11*((1+F$3)^F$5))","v":-3.1763179780037953},{"$f":"IF(H$8=\"d\",1,-1)*IF(H$7=\"c\",call_wycena($A98, H$6,H$3, H$4,H$5),put_wycena($A98, H$6,H$3, H$4,H$5))","v":-15.604565428789876},{"$f":"IF(H$8=\"d\",1,-1)*(IF(H$7=\"c\",MAX($A98-H$6,0),MAX(H$6-$A98,0))-H$11*((1+H$3)^H$5))","v":6.5414390673057845},{"$f":"IF(J$8=\"d\",1,-1)*IF(J$7=\"c\",call_wycena($A98, J$6,J$3, J$4,J$5),put_wycena($A98, J$6,J$3, J$4,J$5))","v":-15.604565428789876},{"$f":"IF(J$8=\"d\",1,-1)*(IF(J$7=\"c\",MAX($A98-J$6,0),MAX(J$6-$A98,0))-J$11*((1+J$3)^J$5))","v":6.5414390673057845},{"$f":"IF(L$8=\"d\",1,-1)*IF(L$7=\"c\",call_wycena($A98, L$6,L$3, L$4,L$5),put_wycena($A98, L$6,L$3, L$4,L$5))","v":-15.604565428789876},{"$f":"IF(L$8=\"d\",1,-1)*(IF(L$7=\"c\",MAX($A98-L$6,0),MAX(L$6-$A98,0))-L$11*((1+L$3)^L$5))","v":6.5414390673057845},null,19.107857316294059,-12.954120779461096]
[113,{"$f":"IF(B$8=\"d\",1,-1)*IF(B$7=\"c\",call_wycena($A99, B$6,B$3, B$4,B$5),put_wycena($A99, B$6,B$3, B$4,B$5))","v":3.4200140821148324},-6.4126817121553126,{"$f":"IF(D$8=\"d\",1,-1)*IF(D$7=\"c\",call_wycena($A99, D$6,D$3, D$4,D$5),put_wycena($A99, D$6,D$3, D$4,D$5))","v":15.913324679970486},-6.0414390673057845,{"$f":"IF(F$8=\"d\",1,-1)*IF(F$7=\"c\",call_wycena($A99, F$6,F$3, F$4,F$5),put_wycena($A99, F$6,F$3, F$4,F$5))","v":1.5155408189047854},{"$f":"IF(F$8=\"d\",1,-1)*(IF(F$7=\"c\",MAX($A99-F$6,0),MAX(F$6-$A99,0))-F$11*((1+F$3)^F$5))","v":-3.1763179780037953},{"$f":"IF(H$8=\"d\",1,-1)*IF(H$7=\"c\",call_wycena($A99, H$6,H$3, H$4,H$5),put_wycena($A99, H$6,H$3, H$4,H$5))","v":-15.913324679970486},{"$f":"IF(H$8=\"d\",1,-1)*(IF(H$7=\"c\",MAX($A99-H$6,0),MAX(H$6-$A99,0))-H$11*((1+H$3)^H$5))","v":6.0414390673057845},{"$f":"IF(J$8=\"d\",1,-1)*IF(J$7=\"c\",call_wycena($A99, J$6,J$3, J$4,J$5),put_wycena($A99, J$6,J$3, J$4,J$5))","v":-15.913324679970486},{"$f":"IF(J$8=\"d\",1,-1)*(IF(J$7=\"c\",MAX($A99-J$6,0),MAX(J$6-$A99,0))-J$11*((1+J$3)^J$5))","v":6.0414390673057845},{"$f":"IF(L$8=\"d\",1,-1)*IF(L$7=\"c\",call_wycena($A99, L$6,L$3, L$4,L$5),put_wycena($A99, L$6,L$3, L$4,L$5))","v":-15.913324679970486},{"$f":"IF(L$8=\"d\",1,-1)*(IF(L$7=\"c\",MAX($A99-L$6,0),MAX(L$6-$A99,0))-L$11*((1+L$3)^L$5))","v":6.0414390673057845},null,19.333338762085319,-12.454120779461096]
[113.5,{"$f":"IF(B$8=\"d\",1,-1)*IF(B$7=\"c\",call_wycena($A100, B$6,B$3, B$4,B$5),put_wycena($A100, B$6,B$3, B$4,B$5))","v":3.3385648922604396},-6.4126817121553126,{"$f":"IF(D$8=\"d\",1,-1)*IF(D$7=\"c\",call_wycena($A100, D$6,D$3, D$4,D$5),put_wycena($A100, D$6,D$3, D$4,D$5))","v":16.224891086216793},-5.5414390673057845,{"$f":"IF(F$8=\"d\",1,-1)*IF(F$7=\"c\",call_wycena($A100, F$6,F$3, F$4,F$5),put_wycena($A100, F$6,F$3, F$4,F$5))","v":1.4732751600209788},{"$f":"IF(F$8=\"d\",1,-1)*(IF(F$7=\"c\",MAX($A100-F$6,0),MAX(F$6-$A100,0))-F$11*((1+F$3)^F$5))","v":-3.1763179780037953},{"$f":"IF(H$8=\"d\",1,-1)*IF(H$7=\"c\",call_wycena($A100, H$6,H$3, H$4,H$5),put_wycena($A100, H$6,H$3, H$4,H$5))","v":-16.224891086216793},{"$f":"IF(H$8=\"d\",1,-1)*(IF(H$7=\"c\",MAX($A100-H$6,0),MAX(H$6-$A100,0))-H$11*((1+H$3)^H$5))","v":5.5414390673057845},{"$f":"IF(J$8=\"d\",1,-1)*IF(J$7=\"c\",call_wycena($A100, J$6,J$3, J$4,J$5),put_wycena($A100, J$6,J$3, J$4,J$5))","v":-16.224891086216793},{"$f":"IF(J$8=\"d\",1,-1)*(IF(J$7=\"c\",MAX($A100-J$6,0),MAX(J$6-$A100,0))-J$11*((1+J$3)^J$5))","v":5.5414390673057845},{"$f":"IF(L$8=\"d\",1,-1)*IF(L$7=\"c\",call_wycena($A100, L$6,L$3, L$4,L$5),put_wycena($A100, L$6,L$3, L$4,L$5))","v":-16.224891086216793},{"$f":"IF(L$8=\"d\",1,-1)*(IF(L$7=\"c\",MAX($A100-L$6,0),MAX(L$6-$A100,0))-L$11*((1+L$3)^L$5))","v":5.5414390673057845},null,19.563455978477233,-11.954120779461096]
[114,{"$f":"IF(B$8=\"d\",1,-1)*IF(B$7=\"c\",call_wycena($A101, B$6,B$3, B$4,B$5),put_wycena($A101, B$6,B$3, B$4,B$5))","v":3.2589101258820925},-6.4126817121553126,{"$f":"IF(D$8=\"d\",1,-1)*IF(D$7=\"c\",call_wycena($A101, D$6,D$3, D$4,D$5),put_wycena($A101, D$6,D$3, D$4,D$5))","v":16.539239409064301},-5.0414390673057845,{"$f":"IF(F$8=\"d\",1,-1)*IF(F$7=\"c\",call_wycena($A101, F$6,F$3, F$4,F$5),put_wycena($A101, F$6,F$3, F$4,F$5))","v":1.432135826504485},{"$f":"IF(F$8=\"d\",1,-1)*(IF(F$7=\"c\",MAX($A101-F$6,0),MAX(F$6-$A101,0))-F$11*((1+F$3)^F$5))","v":-3.1763179780037953},{"$f":"IF(H$8=\"d\",1,-1)*IF(H$7=\"c\",call_wycena($A101, H$6,H$3, H$4,H$5),put_wycena($A101, H$6,H$3, H$4,H$5))","v":-16.539239409064301},{"$f":"IF(H$8=\"d\",1,-1)*(IF(H$7=\"c\",MAX($A101-H$6,0),MAX(H$6-$A101,0))-H$11*((1+H$3)^H$5))","v":5.0414390673057845},{"$f":"IF(J$8=\"d\",1,-1)*IF(J$7=\"c\",call_wycena($A101, J$6,J$3, J$4,J$5),put_wycena($A101, J$6,J$3, J$4,J$5))","v":-16.539239409064301},{"$f":"IF(J$8=\"d\",1,-1)*(IF(J$7=\"c\",MAX($A101-J$6,0),MAX(J$6-$A101,0))-J$11*((1+J$3)^J$5))","v":5.0414390673057845},{"$f":"IF(L$8=\"d\",1,-1)*IF(L$7=\"c\",call_wycena($A101, L$6,L$3, L$4,L$5),put_wycena($A101, L$6,L$3, L$4,L$5))","v":-16.539239409064301},{"$f":"IF(L$8=\"d\",1,-1)*(IF(L$7=\"c\",MAX($A101-L$6,0),MAX(L$6-$A101,0))-L$11*((1+L$3)^L$5))","v":5.0414390673057845},null,19.798149534946393,-11.454120779461096]
[114.5,{"$f":"IF(B$8=\"d\",1,-1)*IF(B$7=\"c\",call_wycena($A102, B$6,B$3, B$4,B$5),put_wycena($A102, B$6,B$3, B$4,B$5))","v":3.1810159974987577},-6.4126817121553126,{"$f":"IF(D$8=\"d\",1,-1)*IF(D$7=\"c\",call_wycena($A102, D$6,D$3, D$4,D$5),put_wycena($A102, D$6,D$3, D$4,D$5))","v":16.856344153284468},-4.5414390673057845,{"$f":"IF(F$8=\"d\",1,-1)*IF(F$7=\"c\",call_wycena($A102, F$6,F$3, F$4,F$5),put_wycena($A102, F$6,F$3, F$4,F$5))","v":1.3920952728681577},{"$f":"IF(F$8=\"d\",1,-1)*(IF(F$7=\"c\",MAX($A102-F$6,0),MAX(F$6-$A102,0))-F$11*((1+F$3)^F$5))","v":-3.1763179780037953},{"$f":"IF(H$8=\"d\",1,-1)*IF(H$7=\"c\",call_wycena($A102, H$6,H$3, H$4,H$5),put_wycena($A102, H$6,H$3, H$4,H$5))","v":-16.856344153284468},{"$f":"IF(H$8=\"d\",1,-1)*(IF(H$7=\"c\",MAX($A102-H$6,0),MAX(H$6-$A102,0))-H$11*((1+H$3)^H$5))","v":4.5414390673057845},{"$f":"IF(J$8=\"d\",1,-1)*IF(J$7=\"c\",call_wycena($A102, J$6,J$3, J$4,J$5),put_wycena($A102, J$6,J$3, J$4,J$5))","v":-16.856344153284468},{"$f":"IF(J$8=\"d\",1,-1)*(IF(J$7=\"c\",MAX($A102-J$6,0),MAX(J$6-$A102,0))-J$11*((1+J$3)^J$5))","v":4.5414390673057845},{"$f":"IF(L$8=\"d\",1,-1)*IF(L$7=\"c\",call_wycena($A102, L$6,L$3, L$4,L$5),put_wycena($A102, L$6,L$3, L$4,L$5))","v":-16.856344153284468},{"$f":"IF(L$8=\"d\",1,-1)*(IF(L$7=\"c\",MAX($A102-L$6,0),MAX(L$6-$A102,0))-L$11*((1+L$3)^L$5))","v":4.5414390673057845},null,20.037360150783226,-10.954120779461096]
[115,{"$f":"IF(B$8=\"d\",1,-1)*IF(B$7=\"c\",call_wycena($A103, B$6,B$3, B$4,B$5),put_wycena($A103, B$6,B$3, B$4,B$5))","v":3.1048491330210553},-6.4126817121553126,{"$f":"IF(D$8=\"d\",1,-1)*IF(D$7=\"c\",call_wycena($A103, D$6,D$3, D$4,D$5),put_wycena($A103, D$6,D$3, D$4,D$5))","v":17.176179584901561},-4.0414390673057845,{"$f":"IF(F$8=\"d\",1,-1)*IF(F$7=\"c\",call_wycena($A103, F$6,F$3, F$4,F$5),put_wycena($A103, F$6,F$3, F$4,F$5))","v":1.3531265148189195},{"$f":"IF(F$8=\"d\",1,-1)*(IF(F$7=\"c\",MAX($A103-F$6,0),MAX(F$6-$A103,0))-F$11*((1+F$3)^F$5))","v":-3.1763179780037953},{"$f":"IF(H$8=\"d\",1,-1)*IF(H$7=\"c\",call_wycena($A103, H$6,H$3, H$4,H$5),put_wycena($A103, H$6,H$3, H$4,H$5))","v":-17.176179584901561},{"$f":"IF(H$8=\"d\",1,-1)*(IF(H$7=\"c\",MAX($A103-H$6,0),MAX(H$6-$A103,0))-H$11*((1+H$3)^H$5))","v":4.0414390673057845},{"$f":"IF(J$8=\"d\",1,-1)*IF(J$7=\"c\",call_wycena($A103, J$6,J$3, J$4,J$5),put_wycena($A103, J$6,J$3, J$4,J$5))","v":-17.176179584901561},{"$f":"IF(J$8=\"d\",1,-1)*(IF(J$7=\"c\",MAX($A103-J$6,0),MAX(J$6-$A103,0))-J$11*((1+J$3)^J$5))","v":4.0414390673057845},{"$f":"IF(L$8=\"d\",1,-1)*IF(L$7=\"c\",call_wycena($A103, L$6,L$3, L$4,L$5),put_wycena($A103, L$6,L$3, L$4,L$5))","v":-17.176179584901561},{"$f":"IF(L$8=\"d\",1,-1)*(IF(L$7=\"c\",MAX($A103-L$6,0),MAX(L$6-$A103,0))-L$11*((1+L$3)^L$5))","v":4.0414390673057845},null,20.281028717922617,-10.454120779461096]
[115.5,{"$f":"IF(B$8=\"d\",1,-1)*IF(B$7=\"c\",call_wycena($A104, B$6,B$3, B$4,B$5),put_wycena($A104, B$6,B$3, B$4,B$5))","v":3.030376574045718},-6.4126817121553126,{"$f":"IF(D$8=\"d\",1,-1)*IF(D$7=\"c\",call_wycena($A104, D$6,D$3, D$4,D$5),put_wycena($A104, D$6,D$3, D$4,D$5))","v":17.498719748867536},-3.5414390673057845,{"$f":"IF(F$8=\"d\",1,-1)*IF(F$7=\"c\",call_wycena($A104, F$6,F$3, F$4,F$5),put_wycena($A104, F$6,F$3, F$4,F$5))","v":1.3152031229934362},{"$f":"IF(F$8=\"d\",1,-1)*(IF(F$7=\"c\",MAX($A104-F$6,0),MAX(F$6-$A104,0))-F$11*((1+F$3)^F$5))","v":-3.1763179780037953},{"$f":"IF(H$8=\"d\",1,-1)*IF(H$7=\"c\",call_wycena($A104, H$6,H$3, H$4,H$5),put_wycena($A104, H$6,H$3, H$4,H$5))","v":-17.498719748867536},{"$f":"IF(H$8=\"d\",1,-1)*(IF(H$7=\"c\",MAX($A104-H$6,0),MAX(H$6-$A104,0))-H$11*((1+H$3)^H$5))","v":3.5414390673057845},{"$f":"IF(J$8=\"d\",1,-1)*IF(J$7=\"c\",call_wycena($A104, J$6,J$3, J$4,J$5),put_wycena($A104, J$6,J$3, J$4,J$5))","v":-17.498719748867536},{"$f":"IF(J$8=\"d\",1,-1)*(IF(J$7=\"c\",MAX($A104-J$6,0),MAX(J$6-$A104,0))-J$11*((1+J$3)^J$5))","v":3.5414390673057845},{"$f":"IF(L$8=\"d\",1,-1)*IF(L$7=\"c\",call_wycena($A104, L$6,L$3, L$4,L$5),put_wycena($A104, L$6,L$3, L$4,L$5))","v":-17.498719748867536},{"$f":"IF(L$8=\"d\",1,-1)*(IF(L$7=\"c\",MAX($A104-L$6,0),MAX(L$6-$A104,0))-L$11*((1+L$3)^L$5))","v":3.5414390673057845},null,20.529096322913254,-9.9541207794610962]
[116,{"$f":"IF(B$8=\"d\",1,-1)*IF(B$7=\"c\",call_wycena($A105, B$6,B$3, B$4,B$5),put_wycena($A105, B$6,B$3, B$4,B$5))","v":2.95756578164929},-6.4126817121553126,{"$f":"IF(D$8=\"d\",1,-1)*IF(D$7=\"c\",call_wycena($A105, D$6,D$3, D$4,D$5),put_wycena($A105, D$6,D$3, D$4,D$5))","v":17.823938486388585},-3.0414390673057845,{"$f":"IF(F$8=\"d\",1,-1)*IF(F$7=\"c\",call_wycena($A105, F$6,F$3, F$4,F$5),put_wycena($A105, F$6,F$3, F$4,F$5))","v":1.2782992165005371},{"$f":"IF(F$8=\"d\",1,-1)*(IF(F$7=\"c\",MAX($A105-F$6,0),MAX(F$6-$A105,0))-F$11*((1+F$3)^F$5))","v":-3.1763179780037953},{"$f":"IF(H$8=\"d\",1,-1)*IF(H$7=\"c\",call_wycena($A105, H$6,H$3, H$4,H$5),put_wycena($A105, H$6,H$3, H$4,H$5))","v":-17.823938486388585},{"$f":"IF(H$8=\"d\",1,-1)*(IF(H$7=\"c\",MAX($A105-H$6,0),MAX(H$6-$A105,0))-H$11*((1+H$3)^H$5))","v":3.0414390673057845},{"$f":"IF(J$8=\"d\",1,-1)*IF(J$7=\"c\",call_wycena($A105, J$6,J$3, J$4,J$5),put_wycena($A105, J$6,J$3, J$4,J$5))","v":-17.823938486388585},{"$f":"IF(J$8=\"d\",1,-1)*(IF(J$7=\"c\",MAX($A105-J$6,0),MAX(J$6-$A105,0))-J$11*((1+J$3)^J$5))","v":3.0414390673057845},{"$f":"IF(L$8=\"d\",1,-1)*IF(L$7=\"c\",call_wycena($A105, L$6,L$3, L$4,L$5),put_wycena($A105, L$6,L$3, L$4,L$5))","v":-17.823938486388585},{"$f":"IF(L$8=\"d\",1,-1)*(IF(L$7=\"c\",MAX($A105-L$6,0),MAX(L$6-$A105,0))-L$11*((1+L$3)^L$5))","v":3.0414390673057845},null,20.781504268037875,-9.4541207794610962]
[{"$f":"A105+0.5","v":116.5},{"$f":"IF(B$8=\"d\",1,-1)*IF(B$7=\"c\",call_wycena($A106, B$6,B$3, B$4,B$5),put_wycena($A106, B$6,B$3, B$4,B$5))","v":2.8863846396994717},-6.4126817121553126,{"$f":"IF(D$8=\"d\",1,-1)*IF(D$7=\"c\",call_wycena($A106, D$6,D$3, D$4,D$5),put_wycena($A106, D$6,D$3, D$4,D$5))","v":18.151809451898572},-2.5414390673057845,{"$f":"IF(F$8=\"d\",1,-1)*IF(F$7=\"c\",call_wycena($A106, F$6,F$3, F$4,F$5),put_wycena($A106, F$6,F$3, F$4,F$5))","v":1.2423894562866611},{"$f":"IF(F$8=\"d\",1,-1)*(IF(F$7=\"c\",MAX($A106-F$6,0),MAX(F$6-$A106,0))-F$11*((1+F$3)^F$5))","v":-3.1763179780037953},{"$f":"IF(H$8=\"d\",1,-1)*IF(H$7=\"c\",call_wycena($A106, H$6,H$3, H$4,H$5),put_wycena($A106, H$6,H$3, H$4,H$5))","v":-18.151809451898572},{"$f":"IF(H$8=\"d\",1,-1)*(IF(H$7=\"c\",MAX($A106-H$6,0),MAX(H$6-$A106,0))-H$11*((1+H$3)^H$5))","v":2.5414390673057845},{"$f":"IF(J$8=\"d\",1,-1)*IF(J$7=\"c\",call_wycena($A106, J$6,J$3, J$4,J$5),put_wycena($A106, J$6,J$3, J$4,J$5))","v":-18.151809451898572},{"$f":"IF(J$8=\"d\",1,-1)*(IF(J$7=\"c\",MAX($A106-J$6,0),MAX(J$6-$A106,0))-J$11*((1+J$3)^J$5))","v":2.5414390673057845},{"$f":"IF(L$8=\"d\",1,-1)*IF(L$7=\"c\",call_wycena($A106, L$6,L$3, L$4,L$5),put_wycena($A106, L$6,L$3, L$4,L$5))","v":-18.151809451898572},{"$f":"IF(L$8=\"d\",1,-1)*(IF(L$7=\"c\",MAX($A106-L$6,0),MAX(L$6-$A106,0))-L$11*((1+L$3)^L$5))","v":2.5414390673057845},null,21.038194091598044,-8.9541207794610962]
[117,{"$f":"IF(B$8=\"d\",1,-1)*IF(B$7=\"c\",call_wycena($A107, B$6,B$3, B$4,B$5),put_wycena($A107, B$6,B$3, B$4,B$5))","v":2.8168014577018781},-6.4126817121553126,{"$f":"IF(D$8=\"d\",1,-1)*IF(D$7=\"c\",call_wycena($A107, D$6,D$3, D$4,D$5),put_wycena($A107, D$6,D$3, D$4,D$5))","v":18.482306129674299},-2.0414390673057845,{"$f":"IF(F$8=\"d\",1,-1)*IF(F$7=\"c\",call_wycena($A107, F$6,F$3, F$4,F$5),put_wycena($A107, F$6,F$3, F$4,F$5))","v":1.2074490383420304},{"$f":"IF(F$8=\"d\",1,-1)*(IF(F$7=\"c\",MAX($A107-F$6,0),MAX(F$6-$A107,0))-F$11*((1+F$3)^F$5))","v":-3.1763179780037953},{"$f":"IF(H$8=\"d\",1,-1)*IF(H$7=\"c\",call_wycena($A107, H$6,H$3, H$4,H$5),put_wycena($A107, H$6,H$3, H$4,H$5))","v":-18.482306129674299},{"$f":"IF(H$8=\"d\",1,-1)*(IF(H$7=\"c\",MAX($A107-H$6,0),MAX(H$6-$A107,0))-H$11*((1+H$3)^H$5))","v":2.0414390673057845},{"$f":"IF(J$8=\"d\",1,-1)*IF(J$7=\"c\",call_wycena($A107, J$6,J$3, J$4,J$5),put_wycena($A107, J$6,J$3, J$4,J$5))","v":-18.482306129674299},{"$f":"IF(J$8=\"d\",1,-1)*(IF(J$7=\"c\",MAX($A107-J$6,0),MAX(J$6-$A107,0))-J$11*((1+J$3)^J$5))","v":2.0414390673057845},{"$f":"IF(L$8=\"d\",1,-1)*IF(L$7=\"c\",call_wycena($A107, L$6,L$3, L$4,L$5),put_wycena($A107, L$6,L$3, L$4,L$5))","v":-18.482306129674299},{"$f":"IF(L$8=\"d\",1,-1)*(IF(L$7=\"c\",MAX($A107-L$6,0),MAX(L$6-$A107,0))-L$11*((1+L$3)^L$5))","v":2.0414390673057845},null,21.299107587376177,-8.4541207794610962]
[117.5,{"$f":"IF(B$8=\"d\",1,-1)*IF(B$7=\"c\",call_wycena($A108, B$6,B$3, B$4,B$5),put_wycena($A108, B$6,B$3, B$4,B$5))","v":2.7487849732006673},-6.4126817121553126,{"$f":"IF(D$8=\"d\",1,-1)*IF(D$7=\"c\",call_wycena($A108, D$6,D$3, D$4,D$5),put_wycena($A108, D$6,D$3, D$4,D$5))","v":18.815401850089302},-1.5414390673057845,{"$f":"IF(F$8=\"d\",1,-1)*IF(F$7=\"c\",call_wycena($A108, F$6,F$3, F$4,F$5),put_wycena($A108, F$6,F$3, F$4,F$5))","v":1.1734536867624614},{"$f":"IF(F$8=\"d\",1,-1)*(IF(F$7=\"c\",MAX($A108-F$6,0),MAX(F$6-$A108,0))-F$11*((1+F$3)^F$5))","v":-3.1763179780037953},{"$f":"IF(H$8=\"d\",1,-1)*IF(H$7=\"c\",call_wycena($A108, H$6,H$3, H$4,H$5),put_wycena($A108, H$6,H$3, H$4,H$5))","v":-18.815401850089302},{"$f":"IF(H$8=\"d\",1,-1)*(IF(H$7=\"c\",MAX($A108-H$6,0),MAX(H$6-$A108,0))-H$11*((1+H$3)^H$5))","v":1.5414390673057845},{"$f":"IF(J$8=\"d\",1,-1)*IF(J$7=\"c\",call_wycena($A108, J$6,J$3, J$4,J$5),put_wycena($A108, J$6,J$3, J$4,J$5))","v":-18.815401850089302},{"$f":"IF(J$8=\"d\",1,-1)*(IF(J$7=\"c\",MAX($A108-J$6,0),MAX(J$6-$A108,0))-J$11*((1+J$3)^J$5))","v":1.5414390673057845},{"$f":"IF(L$8=\"d\",1,-1)*IF(L$7=\"c\",call_wycena($A108, L$6,L$3, L$4,L$5),put_wycena($A108, L$6,L$3, L$4,L$5))","v":-18.815401850089302},{"$f":"IF(L$8=\"d\",1,-1)*(IF(L$7=\"c\",MAX($A108-L$6,0),MAX(L$6-$A108,0))-L$11*((1+L$3)^L$5))","v":1.5414390673057845},null,21.564186823289969,-7.9541207794610971]
[118,{"$f":"IF(B$8=\"d\",1,-1)*IF(B$7=\"c\",call_wycena($A109, B$6,B$3, B$4,B$5),put_wycena($A109, B$6,B$3, B$4,B$5))","v":2.6823043537499967},{"$f":"IF(B$8=\"d\",1,-1)*(IF(B$7=\"c\",MAX($A109-B$6,0),MAX(B$6-$A109,0))-B$11*((1+B$3)^B$5))","v":-6.4126817121553126},{"$f":"IF(D$8=\"d\",1,-1)*IF(D$7=\"c\",call_wycena($A109, D$6,D$3, D$4,D$5),put_wycena($A109, D$6,D$3, D$4,D$5))","v":19.151069805502409},{"$f":"IF(D$8=\"d\",1,-1)*(IF(D$7=\"c\",MAX($A109-D$6,0),MAX(D$6-$A109,0))-D$11*((1+D$3)^D$5))","v":-1.0414390673057845},{"$f":"IF(F$8=\"d\",1,-1)*IF(F$7=\"c\",call_wycena($A109, F$6,F$3, F$4,F$5),put_wycena($A109, F$6,F$3, F$4,F$5))","v":1.1403796466827085},{"$f":"IF(F$8=\"d\",1,-1)*(IF(F$7=\"c\",MAX($A109-F$6,0),MAX(F$6-$A109,0))-F$11*((1+F$3)^F$5))","v":-3.1763179780037953},{"$f":"IF(H$8=\"d\",1,-1)*IF(H$7=\"c\",call_wycena($A109, H$6,H$3, H$4,H$5),put_wycena($A109, H$6,H$3, H$4,H$5))","v":-19.151069805502409},{"$f":"IF(H$8=\"d\",1,-1)*(IF(H$7=\"c\",MAX($A109-H$6,0),MAX(H$6-$A109,0))-H$11*((1+H$3)^H$5))","v":1.0414390673057845},{"$f":"IF(J$8=\"d\",1,-1)*IF(J$7=\"c\",call_wycena($A109, J$6,J$3, J$4,J$5),put_wycena($A109, J$6,J$3, J$4,J$5))","v":-19.151069805502409},{"$f":"IF(J$8=\"d\",1,-1)*(IF(J$7=\"c\",MAX($A109-J$6,0),MAX(J$6-$A109,0))-J$11*((1+J$3)^J$5))","v":1.0414390673057845},{"$f":"IF(L$8=\"d\",1,-1)*IF(L$7=\"c\",call_wycena($A109, L$6,L$3, L$4,L$5),put_wycena($A109, L$6,L$3, L$4,L$5))","v":-19.151069805502409},{"$f":"IF(L$8=\"d\",1,-1)*(IF(L$7=\"c\",MAX($A109-L$6,0),MAX(L$6-$A109,0))-L$11*((1+L$3)^L$5))","v":1.0414390673057845},null,21.833374159252408,-7.4541207794610971]
[118.5,{"$f":"IF(B$8=\"d\",1,-1)*IF(B$7=\"c\",call_wycena($A110, B$6,B$3, B$4,B$5),put_wycena($A110, B$6,B$3, B$4,B$5))","v":2.6173291984737119},-6.4126817121553126,{"$f":"IF(D$8=\"d\",1,-1)*IF(D$7=\"c\",call_wycena($A110, D$6,D$3, D$4,D$5),put_wycena($A110, D$6,D$3, D$4,D$5))","v":19.489283065778864},-0.5414390673057845,{"$f":"IF(F$8=\"d\",1,-1)*IF(F$7=\"c\",call_wycena($A110, F$6,F$3, F$4,F$5),put_wycena($A110, F$6,F$3, F$4,F$5))","v":1.1082036770952293},{"$f":"IF(F$8=\"d\",1,-1)*(IF(F$7=\"c\",MAX($A110-F$6,0),MAX(F$6-$A110,0))-F$11*((1+F$3)^F$5))","v":-3.1763179780037953},{"$f":"IF(H$8=\"d\",1,-1)*IF(H$7=\"c\",call_wycena($A110, H$6,H$3, H$4,H$5),put_wycena($A110, H$6,H$3, H$4,H$5))","v":-19.489283065778864},{"$f":"IF(H$8=\"d\",1,-1)*(IF(H$7=\"c\",MAX($A110-H$6,0),MAX(H$6-$A110,0))-H$11*((1+H$3)^H$5))","v":0.5414390673057845},{"$f":"IF(J$8=\"d\",1,-1)*IF(J$7=\"c\",call_wycena($A110, J$6,J$3, J$4,J$5),put_wycena($A110, J$6,J$3, J$4,J$5))","v":-19.489283065778864},{"$f":"IF(J$8=\"d\",1,-1)*(IF(J$7=\"c\",MAX($A110-J$6,0),MAX(J$6-$A110,0))-J$11*((1+J$3)^J$5))","v":0.5414390673057845},{"$f":"IF(L$8=\"d\",1,-1)*IF(L$7=\"c\",call_wycena($A110, L$6,L$3, L$4,L$5),put_wycena($A110, L$6,L$3, L$4,L$5))","v":-19.489283065778864},{"$f":"IF(L$8=\"d\",1,-1)*(IF(L$7=\"c\",MAX($A110-L$6,0),MAX(L$6-$A110,0))-L$11*((1+L$3)^L$5))","v":0.5414390673057845},null,22.106612264252576,-6.9541207794610971]
[119,{"$f":"IF(B$8=\"d\",1,-1)*IF(B$7=\"c\",call_wycena($A111, B$6,B$3, B$4,B$5),put_wycena($A111, B$6,B$3, B$4,B$5))","v":2.5538295392304988},-6.4126817121553126,{"$f":"IF(D$8=\"d\",1,-1)*IF(D$7=\"c\",call_wycena($A111, D$6,D$3, D$4,D$5),put_wycena($A111, D$6,D$3, D$4,D$5))","v":19.83001459344144},-4.1439067305784505E-2,{"$f":"IF(F$8=\"d\",1,-1)*IF(F$7=\"c\",call_wycena($A111, F$6,F$3, F$4,F$5),put_wycena($A111, F$6,F$3, F$4,F$5))","v":1.0769030435686995},{"$f":"IF(F$8=\"d\",1,-1)*(IF(F$7=\"c\",MAX($A111-F$6,0),MAX(F$6-$A111,0))-F$11*((1+F$3)^F$5))","v":-3.1763179780037953},{"$f":"IF(H$8=\"d\",1,-1)*IF(H$7=\"c\",call_wycena($A111, H$6,H$3, H$4,H$5),put_wycena($A111, H$6,H$3, H$4,H$5))","v":-19.83001459344144},{"$f":"IF(H$8=\"d\",1,-1)*(IF(H$7=\"c\",MAX($A111-H$6,0),MAX(H$6-$A111,0))-H$11*((1+H$3)^H$5))","v":4.1439067305784505E-2},{"$f":"IF(J$8=\"d\",1,-1)*IF(J$7=\"c\",call_wycena($A111, J$6,J$3, J$4,J$5),put_wycena($A111, J$6,J$3, J$4,J$5))","v":-19.83001459344144},{"$f":"IF(J$8=\"d\",1,-1)*(IF(J$7=\"c\",MAX($A111-J$6,0),MAX(J$6-$A111,0))-J$11*((1+J$3)^J$5))","v":4.1439067305784505E-2},{"$f":"IF(L$8=\"d\",1,-1)*IF(L$7=\"c\",call_wycena($A111, L$6,L$3, L$4,L$5),put_wycena($A111, L$6,L$3, L$4,L$5))","v":-19.83001459344144},{"$f":"IF(L$8=\"d\",1,-1)*(IF(L$7=\"c\",MAX($A111-L$6,0),MAX(L$6-$A111,0))-L$11*((1+L$3)^L$5))","v":4.1439067305784505E-2},null,22.383844132671939,-6.4541207794610971]
[119.5,{"$f":"IF(B$8=\"d\",1,-1)*IF(B$7=\"c\",call_wycena($A112, B$6,B$3, B$4,B$5),put_wycena($A112, B$6,B$3, B$4,B$5))","v":2.4917758414004467},-6.4126817121553126,{"$f":"IF(D$8=\"d\",1,-1)*IF(D$7=\"c\",call_wycena($A112, D$6,D$3, D$4,D$5),put_wycena($A112, D$6,D$3, D$4,D$5))","v":20.173237258450534},0.4585609326942155,{"$f":"IF(F$8=\"d\",1,-1)*IF(F$7=\"c\",call_wycena($A112, F$6,F$3, F$4,F$5),put_wycena($A112, F$6,F$3, F$4,F$5))","v":1.0464555108790936},{"$f":"IF(F$8=\"d\",1,-1)*(IF(F$7=\"c\",MAX($A112-F$6,0),MAX(F$6-$A112,0))-F$11*((1+F$3)^F$5))","v":-3.1763179780037953},{"$f":"IF(H$8=\"d\",1,-1)*IF(H$7=\"c\",call_wycena($A112, H$6,H$3, H$4,H$5),put_wycena($A112, H$6,H$3, H$4,H$5))","v":-20.173237258450534},{"$f":"IF(H$8=\"d\",1,-1)*(IF(H$7=\"c\",MAX($A112-H$6,0),MAX(H$6-$A112,0))-H$11*((1+H$3)^H$5))","v":-0.4585609326942155},{"$f":"IF(J$8=\"d\",1,-1)*IF(J$7=\"c\",call_wycena($A112, J$6,J$3, J$4,J$5),put_wycena($A112, J$6,J$3, J$4,J$5))","v":-20.173237258450534},{"$f":"IF(J$8=\"d\",1,-1)*(IF(J$7=\"c\",MAX($A112-J$6,0),MAX(J$6-$A112,0))-J$11*((1+J$3)^J$5))","v":-0.4585609326942155},{"$f":"IF(L$8=\"d\",1,-1)*IF(L$7=\"c\",call_wycena($A112, L$6,L$3, L$4,L$5),put_wycena($A112, L$6,L$3, L$4,L$5))","v":-20.173237258450534},{"$f":"IF(L$8=\"d\",1,-1)*(IF(L$7=\"c\",MAX($A112-L$6,0),MAX(L$6-$A112,0))-L$11*((1+L$3)^L$5))","v":-0.4585609326942155},null,22.665013099850981,-5.9541207794610971]
[120,{"$f":"IF(B$8=\"d\",1,-1)*IF(B$7=\"c\",call_wycena($A113, B$6,B$3, B$4,B$5),put_wycena($A113, B$6,B$3, B$4,B$5))","v":2.431139004309955},-6.4126817121553126,{"$f":"IF(D$8=\"d\",1,-1)*IF(D$7=\"c\",call_wycena($A113, D$6,D$3, D$4,D$5),put_wycena($A113, D$6,D$3, D$4,D$5))","v":20.518923852611827},0.9585609326942155,{"$f":"IF(F$8=\"d\",1,-1)*IF(F$7=\"c\",call_wycena($A113, F$6,F$3, F$4,F$5),put_wycena($A113, F$6,F$3, F$4,F$5))","v":1.0168393355660754},{"$f":"IF(F$8=\"d\",1,-1)*(IF(F$7=\"c\",MAX($A113-F$6,0),MAX(F$6-$A113,0))-F$11*((1+F$3)^F$5))","v":-3.1763179780037953},{"$f":"IF(H$8=\"d\",1,-1)*IF(H$7=\"c\",call_wycena($A113, H$6,H$3, H$4,H$5),put_wycena($A113, H$6,H$3, H$4,H$5))","v":-20.518923852611827},{"$f":"IF(H$8=\"d\",1,-1)*(IF(H$7=\"c\",MAX($A113-H$6,0),MAX(H$6-$A113,0))-H$11*((1+H$3)^H$5))","v":-0.9585609326942155},{"$f":"IF(J$8=\"d\",1,-1)*IF(J$7=\"c\",call_wycena($A113, J$6,J$3, J$4,J$5),put_wycena($A113, J$6,J$3, J$4,J$5))","v":-20.518923852611827},{"$f":"IF(J$8=\"d\",1,-1)*(IF(J$7=\"c\",MAX($A113-J$6,0),MAX(J$6-$A113,0))-J$11*((1+J$3)^J$5))","v":-0.9585609326942155},{"$f":"IF(L$8=\"d\",1,-1)*IF(L$7=\"c\",call_wycena($A113, L$6,L$3, L$4,L$5),put_wycena($A113, L$6,L$3, L$4,L$5))","v":-20.518923852611827},{"$f":"IF(L$8=\"d\",1,-1)*(IF(L$7=\"c\",MAX($A113-L$6,0),MAX(L$6-$A113,0))-L$11*((1+L$3)^L$5))","v":-0.9585609326942155},null,22.950062856921782,-5.4541207794610971]
[120.5,{"$f":"IF(B$8=\"d\",1,-1)*IF(B$7=\"c\",call_wycena($A114, B$6,B$3, B$4,B$5),put_wycena($A114, B$6,B$3, B$4,B$5))","v":2.371890361310296},-6.4126817121553126,{"$f":"IF(D$8=\"d\",1,-1)*IF(D$7=\"c\",call_wycena($A114, D$6,D$3, D$4,D$5),put_wycena($A114, D$6,D$3, D$4,D$5))","v":20.867047103611313},1.4585609326942155,{"$f":"IF(F$8=\"d\",1,-1)*IF(F$7=\"c\",call_wycena($A114, F$6,F$3, F$4,F$5),put_wycena($A114, F$6,F$3, F$4,F$5))","v":0.98803325842656164},{"$f":"IF(F$8=\"d\",1,-1)*(IF(F$7=\"c\",MAX($A114-F$6,0),MAX(F$6-$A114,0))-F$11*((1+F$3)^F$5))","v":-3.1763179780037953},{"$f":"IF(H$8=\"d\",1,-1)*IF(H$7=\"c\",call_wycena($A114, H$6,H$3, H$4,H$5),put_wycena($A114, H$6,H$3, H$4,H$5))","v":-20.867047103611313},{"$f":"IF(H$8=\"d\",1,-1)*(IF(H$7=\"c\",MAX($A114-H$6,0),MAX(H$6-$A114,0))-H$11*((1+H$3)^H$5))","v":-1.4585609326942155},{"$f":"IF(J$8=\"d\",1,-1)*IF(J$7=\"c\",call_wycena($A114, J$6,J$3, J$4,J$5),put_wycena($A114, J$6,J$3, J$4,J$5))","v":-20.867047103611313},{"$f":"IF(J$8=\"d\",1,-1)*(IF(J$7=\"c\",MAX($A114-J$6,0),MAX(J$6-$A114,0))-J$11*((1+J$3)^J$5))","v":-1.4585609326942155},{"$f":"IF(L$8=\"d\",1,-1)*IF(L$7=\"c\",call_wycena($A114, L$6,L$3, L$4,L$5),put_wycena($A114, L$6,L$3, L$4,L$5))","v":-20.867047103611313},{"$f":"IF(L$8=\"d\",1,-1)*(IF(L$7=\"c\",MAX($A114-L$6,0),MAX(L$6-$A114,0))-L$11*((1+L$3)^L$5))","v":-1.4585609326942155},null,23.238937464921609,-4.9541207794610971]
[121,{"$f":"IF(B$8=\"d\",1,-1)*IF(B$7=\"c\",call_wycena($A115, B$6,B$3, B$4,B$5),put_wycena($A115, B$6,B$3, B$4,B$5))","v":2.3140016795257434},-6.4126817121553126,{"$f":"IF(D$8=\"d\",1,-1)*IF(D$7=\"c\",call_wycena($A115, D$6,D$3, D$4,D$5),put_wycena($A115, D$6,D$3, D$4,D$5))","v":21.217579688677539},1.9585609326942155,{"$f":"IF(F$8=\"d\",1,-1)*IF(F$7=\"c\",call_wycena($A115, F$6,F$3, F$4,F$5),put_wycena($A115, F$6,F$3, F$4,F$5))","v":0.96001649695712654},{"$f":"IF(F$8=\"d\",1,-1)*(IF(F$7=\"c\",MAX($A115-F$6,0),MAX(F$6-$A115,0))-F$11*((1+F$3)^F$5))","v":-3.1763179780037953},{"$f":"IF(H$8=\"d\",1,-1)*IF(H$7=\"c\",call_wycena($A115, H$6,H$3, H$4,H$5),put_wycena($A115, H$6,H$3, H$4,H$5))","v":-21.217579688677539},{"$f":"IF(H$8=\"d\",1,-1)*(IF(H$7=\"c\",MAX($A115-H$6,0),MAX(H$6-$A115,0))-H$11*((1+H$3)^H$5))","v":-1.9585609326942155},{"$f":"IF(J$8=\"d\",1,-1)*IF(J$7=\"c\",call_wycena($A115, J$6,J$3, J$4,J$5),put_wycena($A115, J$6,J$3, J$4,J$5))","v":-21.217579688677539},{"$f":"IF(J$8=\"d\",1,-1)*(IF(J$7=\"c\",MAX($A115-J$6,0),MAX(J$6-$A115,0))-J$11*((1+J$3)^J$5))","v":-1.9585609326942155},{"$f":"IF(L$8=\"d\",1,-1)*IF(L$7=\"c\",call_wycena($A115, L$6,L$3, L$4,L$5),put_wycena($A115, L$6,L$3, L$4,L$5))","v":-21.217579688677539},{"$f":"IF(L$8=\"d\",1,-1)*(IF(L$7=\"c\",MAX($A115-L$6,0),MAX(L$6-$A115,0))-L$11*((1+L$3)^L$5))","v":-1.9585609326942155},null,23.531581368203284,-4.4541207794610971]
[121.5,{"$f":"IF(B$8=\"d\",1,-1)*IF(B$7=\"c\",call_wycena($A116, B$6,B$3, B$4,B$5),put_wycena($A116, B$6,B$3, B$4,B$5))","v":2.2574451592862967},-6.4126817121553126,{"$f":"IF(D$8=\"d\",1,-1)*IF(D$7=\"c\",call_wycena($A116, D$6,D$3, D$4,D$5),put_wycena($A116, D$6,D$3, D$4,D$5))","v":21.570494247871395},2.4585609326942155,{"$f":"IF(F$8=\"d\",1,-1)*IF(F$7=\"c\",call_wycena($A116, F$6,F$3, F$4,F$5),put_wycena($A116, F$6,F$3, F$4,F$5))","v":0.93276873775523761},{"$f":"IF(F$8=\"d\",1,-1)*(IF(F$7=\"c\",MAX($A116-F$6,0),MAX(F$6-$A116,0))-F$11*((1+F$3)^F$5))","v":-3.1763179780037953},{"$f":"IF(H$8=\"d\",1,-1)*IF(H$7=\"c\",call_wycena($A116, H$6,H$3, H$4,H$5),put_wycena($A116, H$6,H$3, H$4,H$5))","v":-21.570494247871395},{"$f":"IF(H$8=\"d\",1,-1)*(IF(H$7=\"c\",MAX($A116-H$6,0),MAX(H$6-$A116,0))-H$11*((1+H$3)^H$5))","v":-2.4585609326942155},{"$f":"IF(J$8=\"d\",1,-1)*IF(J$7=\"c\",call_wycena($A116, J$6,J$3, J$4,J$5),put_wycena($A116, J$6,J$3, J$4,J$5))","v":-21.570494247871395},{"$f":"IF(J$8=\"d\",1,-1)*(IF(J$7=\"c\",MAX($A116-J$6,0),MAX(J$6-$A116,0))-J$11*((1+J$3)^J$5))","v":-2.4585609326942155},{"$f":"IF(L$8=\"d\",1,-1)*IF(L$7=\"c\",call_wycena($A116, L$6,L$3, L$4,L$5),put_wycena($A116, L$6,L$3, L$4,L$5))","v":-21.570494247871395},{"$f":"IF(L$8=\"d\",1,-1)*(IF(L$7=\"c\",MAX($A116-L$6,0),MAX(L$6-$A116,0))-L$11*((1+L$3)^L$5))","v":-2.4585609326942155},null,23.827939407157693,-3.9541207794610971]
[122,{"$f":"IF(B$8=\"d\",1,-1)*IF(B$7=\"c\",call_wycena($A117, B$6,B$3, B$4,B$5),put_wycena($A117, B$6,B$3, B$4,B$5))","v":2.2021934332598967},-6.4126817121553126,{"$f":"IF(D$8=\"d\",1,-1)*IF(D$7=\"c\",call_wycena($A117, D$6,D$3, D$4,D$5),put_wycena($A117, D$6,D$3, D$4,D$5))","v":21.925763397004744},2.9585609326942155,{"$f":"IF(F$8=\"d\",1,-1)*IF(F$7=\"c\",call_wycena($A117, F$6,F$3, F$4,F$5),put_wycena($A117, F$6,F$3, F$4,F$5))","v":0.90627012889082881},{"$f":"IF(F$8=\"d\",1,-1)*(IF(F$7=\"c\",MAX($A117-F$6,0),MAX(F$6-$A117,0))-F$11*((1+F$3)^F$5))","v":-3.1763179780037953},{"$f":"IF(H$8=\"d\",1,-1)*IF(H$7=\"c\",call_wycena($A117, H$6,H$3, H$4,H$5),put_wycena($A117, H$6,H$3, H$4,H$5))","v":-21.925763397004744},{"$f":"IF(H$8=\"d\",1,-1)*(IF(H$7=\"c\",MAX($A117-H$6,0),MAX(H$6-$A117,0))-H$11*((1+H$3)^H$5))","v":-2.9585609326942155},{"$f":"IF(J$8=\"d\",1,-1)*IF(J$7=\"c\",call_wycena($A117, J$6,J$3, J$4,J$5),put_wycena($A117, J$6,J$3, J$4,J$5))","v":-21.925763397004744},{"$f":"IF(J$8=\"d\",1,-1)*(IF(J$7=\"c\",MAX($A117-J$6,0),MAX(J$6-$A117,0))-J$11*((1+J$3)^J$5))","v":-2.9585609326942155},{"$f":"IF(L$8=\"d\",1,-1)*IF(L$7=\"c\",call_wycena($A117, L$6,L$3, L$4,L$5),put_wycena($A117, L$6,L$3, L$4,L$5))","v":-21.925763397004744},{"$f":"IF(L$8=\"d\",1,-1)*(IF(L$7=\"c\",MAX($A117-L$6,0),MAX(L$6-$A117,0))-L$11*((1+L$3)^L$5))","v":-2.9585609326942155},null,24.12795683026464,-3.4541207794610971]
[122.5,{"$f":"IF(B$8=\"d\",1,-1)*IF(B$7=\"c\",call_wycena($A118, B$6,B$3, B$4,B$5),put_wycena($A118, B$6,B$3, B$4,B$5))","v":2.1482195652985094},-6.4126817121553126,{"$f":"IF(D$8=\"d\",1,-1)*IF(D$7=\"c\",call_wycena($A118, D$6,D$3, D$4,D$5),put_wycena($A118, D$6,D$3, D$4,D$5))","v":22.283359740188658},3.4585609326942155,{"$f":"IF(F$8=\"d\",1,-1)*IF(F$7=\"c\",call_wycena($A118, F$6,F$3, F$4,F$5),put_wycena($A118, F$6,F$3, F$4,F$5))","v":0.88050127225641361},{"$f":"IF(F$8=\"d\",1,-1)*(IF(F$7=\"c\",MAX($A118-F$6,0),MAX(F$6-$A118,0))-F$11*((1+F$3)^F$5))","v":-3.1763179780037953},{"$f":"IF(H$8=\"d\",1,-1)*IF(H$7=\"c\",call_wycena($A118, H$6,H$3, H$4,H$5),put_wycena($A118, H$6,H$3, H$4,H$5))","v":-22.283359740188658},{"$f":"IF(H$8=\"d\",1,-1)*(IF(H$7=\"c\",MAX($A118-H$6,0),MAX(H$6-$A118,0))-H$11*((1+H$3)^H$5))","v":-3.4585609326942155},{"$f":"IF(J$8=\"d\",1,-1)*IF(J$7=\"c\",call_wycena($A118, J$6,J$3, J$4,J$5),put_wycena($A118, J$6,J$3, J$4,J$5))","v":-22.283359740188658},{"$f":"IF(J$8=\"d\",1,-1)*(IF(J$7=\"c\",MAX($A118-J$6,0),MAX(J$6-$A118,0))-J$11*((1+J$3)^J$5))","v":-3.4585609326942155},{"$f":"IF(L$8=\"d\",1,-1)*IF(L$7=\"c\",call_wycena($A118, L$6,L$3, L$4,L$5),put_wycena($A118, L$6,L$3, L$4,L$5))","v":-22.283359740188658},{"$f":"IF(L$8=\"d\",1,-1)*(IF(L$7=\"c\",MAX($A118-L$6,0),MAX(L$6-$A118,0))-L$11*((1+L$3)^L$5))","v":-3.4585609326942155},null,24.431579305487169,-2.9541207794610971]
[123,{"$f":"IF(B$8=\"d\",1,-1)*IF(B$7=\"c\",call_wycena($A119, B$6,B$3, B$4,B$5),put_wycena($A119, B$6,B$3, B$4,B$5))","v":2.095497049012339},-6.4126817121553126,{"$f":"IF(D$8=\"d\",1,-1)*IF(D$7=\"c\",call_wycena($A119, D$6,D$3, D$4,D$5),put_wycena($A119, D$6,D$3, D$4,D$5))","v":22.643255882013435},3.9585609326942155,{"$f":"IF(F$8=\"d\",1,-1)*IF(F$7=\"c\",call_wycena($A119, F$6,F$3, F$4,F$5),put_wycena($A119, F$6,F$3, F$4,F$5))","v":0.85544321590641381},{"$f":"IF(F$8=\"d\",1,-1)*(IF(F$7=\"c\",MAX($A119-F$6,0),MAX(F$6-$A119,0))-F$11*((1+F$3)^F$5))","v":-3.1763179780037953},{"$f":"IF(H$8=\"d\",1,-1)*IF(H$7=\"c\",call_wycena($A119, H$6,H$3, H$4,H$5),put_wycena($A119, H$6,H$3, H$4,H$5))","v":-22.643255882013435},{"$f":"IF(H$8=\"d\",1,-1)*(IF(H$7=\"c\",MAX($A119-H$6,0),MAX(H$6-$A119,0))-H$11*((1+H$3)^H$5))","v":-3.9585609326942155},{"$f":"IF(J$8=\"d\",1,-1)*IF(J$7=\"c\",call_wycena($A119, J$6,J$3, J$4,J$5),put_wycena($A119, J$6,J$3, J$4,J$5))","v":-22.643255882013435},{"$f":"IF(J$8=\"d\",1,-1)*(IF(J$7=\"c\",MAX($A119-J$6,0),MAX(J$6-$A119,0))-J$11*((1+J$3)^J$5))","v":-3.9585609326942155},{"$f":"IF(L$8=\"d\",1,-1)*IF(L$7=\"c\",call_wycena($A119, L$6,L$3, L$4,L$5),put_wycena($A119, L$6,L$3, L$4,L$5))","v":-22.643255882013435},{"$f":"IF(L$8=\"d\",1,-1)*(IF(L$7=\"c\",MAX($A119-L$6,0),MAX(L$6-$A119,0))-L$11*((1+L$3)^L$5))","v":-3.9585609326942155},null,24.738752931025772,-2.4541207794610971]
[123.5,{"$f":"IF(B$8=\"d\",1,-1)*IF(B$7=\"c\",call_wycena($A120, B$6,B$3, B$4,B$5),put_wycena($A120, B$6,B$3, B$4,B$5))","v":2.0439998060855089},-6.4126817121553126,{"$f":"IF(D$8=\"d\",1,-1)*IF(D$7=\"c\",call_wycena($A120, D$6,D$3, D$4,D$5),put_wycena($A120, D$6,D$3, D$4,D$5))","v":23.005424439361832},4.4585609326942155,{"$f":"IF(F$8=\"d\",1,-1)*IF(F$7=\"c\",call_wycena($A120, F$6,F$3, F$4,F$5),put_wycena($A120, F$6,F$3, F$4,F$5))","v":0.83107744639306169},{"$f":"IF(F$8=\"d\",1,-1)*(IF(F$7=\"c\",MAX($A120-F$6,0),MAX(F$6-$A120,0))-F$11*((1+F$3)^F$5))","v":-3.1763179780037953},{"$f":"IF(H$8=\"d\",1,-1)*IF(H$7=\"c\",call_wycena($A120, H$6,H$3, H$4,H$5),put_wycena($A120, H$6,H$3, H$4,H$5))","v":-23.005424439361832},{"$f":"IF(H$8=\"d\",1,-1)*(IF(H$7=\"c\",MAX($A120-H$6,0),MAX(H$6-$A120,0))-H$11*((1+H$3)^H$5))","v":-4.4585609326942155},{"$f":"IF(J$8=\"d\",1,-1)*IF(J$7=\"c\",call_wycena($A120, J$6,J$3, J$4,J$5),put_wycena($A120, J$6,J$3, J$4,J$5))","v":-23.005424439361832},{"$f":"IF(J$8=\"d\",1,-1)*(IF(J$7=\"c\",MAX($A120-J$6,0),MAX(J$6-$A120,0))-J$11*((1+J$3)^J$5))","v":-4.4585609326942155},{"$f":"IF(L$8=\"d\",1,-1)*IF(L$7=\"c\",call_wycena($A120, L$6,L$3, L$4,L$5),put_wycena($A120, L$6,L$3, L$4,L$5))","v":-23.005424439361832},{"$f":"IF(L$8=\"d\",1,-1)*(IF(L$7=\"c\",MAX($A120-L$6,0),MAX(L$6-$A120,0))-L$11*((1+L$3)^L$5))","v":-4.4585609326942155},null,25.049424245447341,-1.9541207794610971]
[124,{"$f":"IF(B$8=\"d\",1,-1)*IF(B$7=\"c\",call_wycena($A121, B$6,B$3, B$4,B$5),put_wycena($A121, B$6,B$3, B$4,B$5))","v":1.9937021843472209},-6.4126817121553126,{"$f":"IF(D$8=\"d\",1,-1)*IF(D$7=\"c\",call_wycena($A121, D$6,D$3, D$4,D$5),put_wycena($A121, D$6,D$3, D$4,D$5))","v":23.369838052858938},4.9585609326942155,{"$f":"IF(F$8=\"d\",1,-1)*IF(F$7=\"c\",call_wycena($A121, F$6,F$3, F$4,F$5),put_wycena($A121, F$6,F$3, F$4,F$5))","v":0.80738588110795373},{"$f":"IF(F$8=\"d\",1,-1)*(IF(F$7=\"c\",MAX($A121-F$6,0),MAX(F$6-$A121,0))-F$11*((1+F$3)^F$5))","v":-3.1763179780037953},{"$f":"IF(H$8=\"d\",1,-1)*IF(H$7=\"c\",call_wycena($A121, H$6,H$3, H$4,H$5),put_wycena($A121, H$6,H$3, H$4,H$5))","v":-23.369838052858938},{"$f":"IF(H$8=\"d\",1,-1)*(IF(H$7=\"c\",MAX($A121-H$6,0),MAX(H$6-$A121,0))-H$11*((1+H$3)^H$5))","v":-4.9585609326942155},{"$f":"IF(J$8=\"d\",1,-1)*IF(J$7=\"c\",call_wycena($A121, J$6,J$3, J$4,J$5),put_wycena($A121, J$6,J$3, J$4,J$5))","v":-23.369838052858938},{"$f":"IF(J$8=\"d\",1,-1)*(IF(J$7=\"c\",MAX($A121-J$6,0),MAX(J$6-$A121,0))-J$11*((1+J$3)^J$5))","v":-4.9585609326942155},{"$f":"IF(L$8=\"d\",1,-1)*IF(L$7=\"c\",call_wycena($A121, L$6,L$3, L$4,L$5),put_wycena($A121, L$6,L$3, L$4,L$5))","v":-23.369838052858938},{"$f":"IF(L$8=\"d\",1,-1)*(IF(L$7=\"c\",MAX($A121-L$6,0),MAX(L$6-$A121,0))-L$11*((1+L$3)^L$5))","v":-4.9585609326942155},null,25.363540237206159,-1.4541207794610971]
[124.5,{"$f":"IF(B$8=\"d\",1,-1)*IF(B$7=\"c\",call_wycena($A122, B$6,B$3, B$4,B$5),put_wycena($A122, B$6,B$3, B$4,B$5))","v":1.9445789556105399},-6.4126817121553126,{"$f":"IF(D$8=\"d\",1,-1)*IF(D$7=\"c\",call_wycena($A122, D$6,D$3, D$4,D$5),put_wycena($A122, D$6,D$3, D$4,D$5))","v":23.736469397960079},5.4585609326942155,{"$f":"IF(F$8=\"d\",1,-1)*IF(F$7=\"c\",call_wycena($A122, F$6,F$3, F$4,F$5),put_wycena($A122, F$6,F$3, F$4,F$5))","v":0.78435086063652815},{"$f":"IF(F$8=\"d\",1,-1)*(IF(F$7=\"c\",MAX($A122-F$6,0),MAX(F$6-$A122,0))-F$11*((1+F$3)^F$5))","v":-3.1763179780037953},{"$f":"IF(H$8=\"d\",1,-1)*IF(H$7=\"c\",call_wycena($A122, H$6,H$3, H$4,H$5),put_wycena($A122, H$6,H$3, H$4,H$5))","v":-23.736469397960079},{"$f":"IF(H$8=\"d\",1,-1)*(IF(H$7=\"c\",MAX($A122-H$6,0),MAX(H$6-$A122,0))-H$11*((1+H$3)^H$5))","v":-5.4585609326942155},{"$f":"IF(J$8=\"d\",1,-1)*IF(J$7=\"c\",call_wycena($A122, J$6,J$3, J$4,J$5),put_wycena($A122, J$6,J$3, J$4,J$5))","v":-23.736469397960079},{"$f":"IF(J$8=\"d\",1,-1)*(IF(J$7=\"c\",MAX($A122-J$6,0),MAX(J$6-$A122,0))-J$11*((1+J$3)^J$5))","v":-5.4585609326942155},{"$f":"IF(L$8=\"d\",1,-1)*IF(L$7=\"c\",call_wycena($A122, L$6,L$3, L$4,L$5),put_wycena($A122, L$6,L$3, L$4,L$5))","v":-23.736469397960079},{"$f":"IF(L$8=\"d\",1,-1)*(IF(L$7=\"c\",MAX($A122-L$6,0),MAX(L$6-$A122,0))-L$11*((1+L$3)^L$5))","v":-5.4585609326942155},null,25.681048353570617,-0.95412077946109708]
[125,{"$f":"IF(B$8=\"d\",1,-1)*IF(B$7=\"c\",call_wycena($A123, B$6,B$3, B$4,B$5),put_wycena($A123, B$6,B$3, B$4,B$5))","v":1.8966053132920919},-6.4126817121553126,{"$f":"IF(D$8=\"d\",1,-1)*IF(D$7=\"c\",call_wycena($A123, D$6,D$3, D$4,D$5),put_wycena($A123, D$6,D$3, D$4,D$5))","v":24.105291195680977},5.9585609326942155,{"$f":"IF(F$8=\"d\",1,-1)*IF(F$7=\"c\",call_wycena($A123, F$6,F$3, F$4,F$5),put_wycena($A123, F$6,F$3, F$4,F$5))","v":0.76195514113307095},{"$f":"IF(F$8=\"d\",1,-1)*(IF(F$7=\"c\",MAX($A123-F$6,0),MAX(F$6-$A123,0))-F$11*((1+F$3)^F$5))","v":-3.1763179780037953},{"$f":"IF(H$8=\"d\",1,-1)*IF(H$7=\"c\",call_wycena($A123, H$6,H$3, H$4,H$5),put_wycena($A123, H$6,H$3, H$4,H$5))","v":-24.105291195680977},{"$f":"IF(H$8=\"d\",1,-1)*(IF(H$7=\"c\",MAX($A123-H$6,0),MAX(H$6-$A123,0))-H$11*((1+H$3)^H$5))","v":-5.9585609326942155},{"$f":"IF(J$8=\"d\",1,-1)*IF(J$7=\"c\",call_wycena($A123, J$6,J$3, J$4,J$5),put_wycena($A123, J$6,J$3, J$4,J$5))","v":-24.105291195680977},{"$f":"IF(J$8=\"d\",1,-1)*(IF(J$7=\"c\",MAX($A123-J$6,0),MAX(J$6-$A123,0))-J$11*((1+J$3)^J$5))","v":-5.9585609326942155},{"$f":"IF(L$8=\"d\",1,-1)*IF(L$7=\"c\",call_wycena($A123, L$6,L$3, L$4,L$5),put_wycena($A123, L$6,L$3, L$4,L$5))","v":-24.105291195680977},{"$f":"IF(L$8=\"d\",1,-1)*(IF(L$7=\"c\",MAX($A123-L$6,0),MAX(L$6-$A123,0))-L$11*((1+L$3)^L$5))","v":-5.9585609326942155},null,26.001896508973068,-0.45412077946109708]
[125.5,{"$f":"IF(B$8=\"d\",1,-1)*IF(B$7=\"c\",call_wycena($A124, B$6,B$3, B$4,B$5),put_wycena($A124, B$6,B$3, B$4,B$5))","v":1.8497568698248354},-6.4126817121553126,{"$f":"IF(D$8=\"d\",1,-1)*IF(D$7=\"c\",call_wycena($A124, D$6,D$3, D$4,D$5),put_wycena($A124, D$6,D$3, D$4,D$5))","v":24.476276222972885},6.4585609326942155,{"$f":"IF(F$8=\"d\",1,-1)*IF(F$7=\"c\",call_wycena($A124, F$6,F$3, F$4,F$5),put_wycena($A124, F$6,F$3, F$4,F$5))","v":0.74018188672261775},{"$f":"IF(F$8=\"d\",1,-1)*(IF(F$7=\"c\",MAX($A124-F$6,0),MAX(F$6-$A124,0))-F$11*((1+F$3)^F$5))","v":-3.1763179780037953},{"$f":"IF(H$8=\"d\",1,-1)*IF(H$7=\"c\",call_wycena($A124, H$6,H$3, H$4,H$5),put_wycena($A124, H$6,H$3, H$4,H$5))","v":-24.476276222972885},{"$f":"IF(H$8=\"d\",1,-1)*(IF(H$7=\"c\",MAX($A124-H$6,0),MAX(H$6-$A124,0))-H$11*((1+H$3)^H$5))","v":-6.4585609326942155},{"$f":"IF(J$8=\"d\",1,-1)*IF(J$7=\"c\",call_wycena($A124, J$6,J$3, J$4,J$5),put_wycena($A124, J$6,J$3, J$4,J$5))","v":-24.476276222972885},{"$f":"IF(J$8=\"d\",1,-1)*(IF(J$7=\"c\",MAX($A124-J$6,0),MAX(J$6-$A124,0))-J$11*((1+J$3)^J$5))","v":-6.4585609326942155},{"$f":"IF(L$8=\"d\",1,-1)*IF(L$7=\"c\",call_wycena($A124, L$6,L$3, L$4,L$5),put_wycena($A124, L$6,L$3, L$4,L$5))","v":-24.476276222972885},{"$f":"IF(L$8=\"d\",1,-1)*(IF(L$7=\"c\",MAX($A124-L$6,0),MAX(L$6-$A124,0))-L$11*((1+L$3)^L$5))","v":-6.4585609326942155},null,26.326033092797722,4.5879220538902921E-2]
[126,{"$f":"IF(B$8=\"d\",1,-1)*IF(B$7=\"c\",call_wycena($A125, B$6,B$3, B$4,B$5),put_wycena($A125, B$6,B$3, B$4,B$5))","v":1.8040096538751751},-6.4126817121553126,{"$f":"IF(D$8=\"d\",1,-1)*IF(D$7=\"c\",call_wycena($A125, D$6,D$3, D$4,D$5),put_wycena($A125, D$6,D$3, D$4,D$5))","v":24.849397322746299},6.9585609326942155,{"$f":"IF(F$8=\"d\",1,-1)*IF(F$7=\"c\",call_wycena($A125, F$6,F$3, F$4,F$5),put_wycena($A125, F$6,F$3, F$4,F$5))","v":0.71901466193649455},{"$f":"IF(F$8=\"d\",1,-1)*(IF(F$7=\"c\",MAX($A125-F$6,0),MAX(F$6-$A125,0))-F$11*((1+F$3)^F$5))","v":-3.1763179780037953},{"$f":"IF(H$8=\"d\",1,-1)*IF(H$7=\"c\",call_wycena($A125, H$6,H$3, H$4,H$5),put_wycena($A125, H$6,H$3, H$4,H$5))","v":-24.849397322746299},{"$f":"IF(H$8=\"d\",1,-1)*(IF(H$7=\"c\",MAX($A125-H$6,0),MAX(H$6-$A125,0))-H$11*((1+H$3)^H$5))","v":-6.9585609326942155},{"$f":"IF(J$8=\"d\",1,-1)*IF(J$7=\"c\",call_wycena($A125, J$6,J$3, J$4,J$5),put_wycena($A125, J$6,J$3, J$4,J$5))","v":-24.849397322746299},{"$f":"IF(J$8=\"d\",1,-1)*(IF(J$7=\"c\",MAX($A125-J$6,0),MAX(J$6-$A125,0))-J$11*((1+J$3)^J$5))","v":-6.9585609326942155},{"$f":"IF(L$8=\"d\",1,-1)*IF(L$7=\"c\",call_wycena($A125, L$6,L$3, L$4,L$5),put_wycena($A125, L$6,L$3, L$4,L$5))","v":-24.849397322746299},{"$f":"IF(L$8=\"d\",1,-1)*(IF(L$7=\"c\",MAX($A125-L$6,0),MAX(L$6-$A125,0))-L$11*((1+L$3)^L$5))","v":-6.9585609326942155},null,26.653406976621476,0.54587922053890292]
[126.5,{"$f":"IF(B$8=\"d\",1,-1)*IF(B$7=\"c\",call_wycena($A126, B$6,B$3, B$4,B$5),put_wycena($A126, B$6,B$3, B$4,B$5))","v":1.7593401073767989},-6.4126817121553126,{"$f":"IF(D$8=\"d\",1,-1)*IF(D$7=\"c\",call_wycena($A126, D$6,D$3, D$4,D$5),put_wycena($A126, D$6,D$3, D$4,D$5))","v":25.224627413547296},7.4585609326942155,{"$f":"IF(F$8=\"d\",1,-1)*IF(F$7=\"c\",call_wycena($A126, F$6,F$3, F$4,F$5),put_wycena($A126, F$6,F$3, F$4,F$5))","v":0.69843742418764343},{"$f":"IF(F$8=\"d\",1,-1)*(IF(F$7=\"c\",MAX($A126-F$6,0),MAX(F$6-$A126,0))-F$11*((1+F$3)^F$5))","v":-3.1763179780037953},{"$f":"IF(H$8=\"d\",1,-1)*IF(H$7=\"c\",call_wycena($A126, H$6,H$3, H$4,H$5),put_wycena($A126, H$6,H$3, H$4,H$5))","v":-25.224627413547296},{"$f":"IF(H$8=\"d\",1,-1)*(IF(H$7=\"c\",MAX($A126-H$6,0),MAX(H$6-$A126,0))-H$11*((1+H$3)^H$5))","v":-7.4585609326942155},{"$f":"IF(J$8=\"d\",1,-1)*IF(J$7=\"c\",call_wycena($A126, J$6,J$3, J$4,J$5),put_wycena($A126, J$6,J$3, J$4,J$5))","v":-25.224627413547296},{"$f":"IF(J$8=\"d\",1,-1)*(IF(J$7=\"c\",MAX($A126-J$6,0),MAX(J$6-$A126,0))-J$11*((1+J$3)^J$5))","v":-7.4585609326942155},{"$f":"IF(L$8=\"d\",1,-1)*IF(L$7=\"c\",call_wycena($A126, L$6,L$3, L$4,L$5),put_wycena($A126, L$6,L$3, L$4,L$5))","v":-25.224627413547296},{"$f":"IF(L$8=\"d\",1,-1)*(IF(L$7=\"c\",MAX($A126-L$6,0),MAX(L$6-$A126,0))-L$11*((1+L$3)^L$5))","v":-7.4585609326942155},null,26.983967520924097,1.0458792205389029]
[127,{"$f":"IF(B$8=\"d\",1,-1)*IF(B$7=\"c\",call_wycena($A127, B$6,B$3, B$4,B$5),put_wycena($A127, B$6,B$3, B$4,B$5))","v":1.7157250823918897},-6.4126817121553126,{"$f":"IF(D$8=\"d\",1,-1)*IF(D$7=\"c\",call_wycena($A127, D$6,D$3, D$4,D$5),put_wycena($A127, D$6,D$3, D$4,D$5))","v":25.601939498890616},7.9585609326942155,{"$f":"IF(F$8=\"d\",1,-1)*IF(F$7=\"c\",call_wycena($A127, F$6,F$3, F$4,F$5),put_wycena($A127, F$6,F$3, F$4,F$5))","v":0.67843451629065576},{"$f":"IF(F$8=\"d\",1,-1)*(IF(F$7=\"c\",MAX($A127-F$6,0),MAX(F$6-$A127,0))-F$11*((1+F$3)^F$5))","v":-3.1763179780037953},{"$f":"IF(H$8=\"d\",1,-1)*IF(H$7=\"c\",call_wycena($A127, H$6,H$3, H$4,H$5),put_wycena($A127, H$6,H$3, H$4,H$5))","v":-25.601939498890616},{"$f":"IF(H$8=\"d\",1,-1)*(IF(H$7=\"c\",MAX($A127-H$6,0),MAX(H$6-$A127,0))-H$11*((1+H$3)^H$5))","v":-7.9585609326942155},{"$f":"IF(J$8=\"d\",1,-1)*IF(J$7=\"c\",call_wycena($A127, J$6,J$3, J$4,J$5),put_wycena($A127, J$6,J$3, J$4,J$5))","v":-25.601939498890616},{"$f":"IF(J$8=\"d\",1,-1)*(IF(J$7=\"c\",MAX($A127-J$6,0),MAX(J$6-$A127,0))-J$11*((1+J$3)^J$5))","v":-7.9585609326942155},{"$f":"IF(L$8=\"d\",1,-1)*IF(L$7=\"c\",call_wycena($A127, L$6,L$3, L$4,L$5),put_wycena($A127, L$6,L$3, L$4,L$5))","v":-25.601939498890616},{"$f":"IF(L$8=\"d\",1,-1)*(IF(L$7=\"c\",MAX($A127-L$6,0),MAX(L$6-$A127,0))-L$11*((1+L$3)^L$5))","v":-7.9585609326942155},null,27.317664581282507,1.5458792205389029]
[127.5,{"$f":"IF(B$8=\"d\",1,-1)*IF(B$7=\"c\",call_wycena($A128, B$6,B$3, B$4,B$5),put_wycena($A128, B$6,B$3, B$4,B$5))","v":1.6731418378103147},-6.4126817121553126,{"$f":"IF(D$8=\"d\",1,-1)*IF(D$7=\"c\",call_wycena($A128, D$6,D$3, D$4,D$5),put_wycena($A128, D$6,D$3, D$4,D$5))","v":25.98130667625351},8.4585609326942155,{"$f":"IF(F$8=\"d\",1,-1)*IF(F$7=\"c\",call_wycena($A128, F$6,F$3, F$4,F$5),put_wycena($A128, F$6,F$3, F$4,F$5))","v":0.65899065903284626},{"$f":"IF(F$8=\"d\",1,-1)*(IF(F$7=\"c\",MAX($A128-F$6,0),MAX(F$6-$A128,0))-F$11*((1+F$3)^F$5))","v":-3.1763179780037953},{"$f":"IF(H$8=\"d\",1,-1)*IF(H$7=\"c\",call_wycena($A128, H$6,H$3, H$4,H$5),put_wycena($A128, H$6,H$3, H$4,H$5))","v":-25.98130667625351},{"$f":"IF(H$8=\"d\",1,-1)*(IF(H$7=\"c\",MAX($A128-H$6,0),MAX(H$6-$A128,0))-H$11*((1+H$3)^H$5))","v":-8.4585609326942155},{"$f":"IF(J$8=\"d\",1,-1)*IF(J$7=\"c\",call_wycena($A128, J$6,J$3, J$4,J$5),put_wycena($A128, J$6,J$3, J$4,J$5))","v":-25.98130667625351},{"$f":"IF(J$8=\"d\",1,-1)*(IF(J$7=\"c\",MAX($A128-J$6,0),MAX(J$6-$A128,0))-J$11*((1+J$3)^J$5))","v":-8.4585609326942155},{"$f":"IF(L$8=\"d\",1,-1)*IF(L$7=\"c\",call_wycena($A128, L$6,L$3, L$4,L$5),put_wycena($A128, L$6,L$3, L$4,L$5))","v":-25.98130667625351},{"$f":"IF(L$8=\"d\",1,-1)*(IF(L$7=\"c\",MAX($A128-L$6,0),MAX(L$6-$A128,0))-L$11*((1+L$3)^L$5))","v":-8.4585609326942155},null,27.654448514063823,2.0458792205389029]
[128,{"$f":"IF(B$8=\"d\",1,-1)*IF(B$7=\"c\",call_wycena($A129, B$6,B$3, B$4,B$5),put_wycena($A129, B$6,B$3, B$4,B$5))","v":1.6315680358980238},-6.4126817121553126,{"$f":"IF(D$8=\"d\",1,-1)*IF(D$7=\"c\",call_wycena($A129, D$6,D$3, D$4,D$5),put_wycena($A129, D$6,D$3, D$4,D$5))","v":26.362702145735},8.9585609326942155,{"$f":"IF(F$8=\"d\",1,-1)*IF(F$7=\"c\",call_wycena($A129, F$6,F$3, F$4,F$5),put_wycena($A129, F$6,F$3, F$4,F$5))","v":0.64009094379991005},{"$f":"IF(F$8=\"d\",1,-1)*(IF(F$7=\"c\",MAX($A129-F$6,0),MAX(F$6-$A129,0))-F$11*((1+F$3)^F$5))","v":-3.1763179780037953},{"$f":"IF(H$8=\"d\",1,-1)*IF(H$7=\"c\",call_wycena($A129, H$6,H$3, H$4,H$5),put_wycena($A129, H$6,H$3, H$4,H$5))","v":-26.362702145735},{"$f":"IF(H$8=\"d\",1,-1)*(IF(H$7=\"c\",MAX($A129-H$6,0),MAX(H$6-$A129,0))-H$11*((1+H$3)^H$5))","v":-8.9585609326942155},{"$f":"IF(J$8=\"d\",1,-1)*IF(J$7=\"c\",call_wycena($A129, J$6,J$3, J$4,J$5),put_wycena($A129, J$6,J$3, J$4,J$5))","v":-26.362702145735},{"$f":"IF(J$8=\"d\",1,-1)*(IF(J$7=\"c\",MAX($A129-J$6,0),MAX(J$6-$A129,0))-J$11*((1+J$3)^J$5))","v":-8.9585609326942155},{"$f":"IF(L$8=\"d\",1,-1)*IF(L$7=\"c\",call_wycena($A129, L$6,L$3, L$4,L$5),put_wycena($A129, L$6,L$3, L$4,L$5))","v":-26.362702145735},{"$f":"IF(L$8=\"d\",1,-1)*(IF(L$7=\"c\",MAX($A129-L$6,0),MAX(L$6-$A129,0))-L$11*((1+L$3)^L$5))","v":-8.9585609326942155},null,27.994270181633023,2.5458792205389029]
[128.5,{"$f":"IF(B$8=\"d\",1,-1)*IF(B$7=\"c\",call_wycena($A130, B$6,B$3, B$4,B$5),put_wycena($A130, B$6,B$3, B$4,B$5))","v":1.5909817387037197},-6.4126817121553126,{"$f":"IF(D$8=\"d\",1,-1)*IF(D$7=\"c\",call_wycena($A130, D$6,D$3, D$4,D$5),put_wycena($A130, D$6,D$3, D$4,D$5))","v":26.746099218385424},9.4585609326942155,{"$f":"IF(F$8=\"d\",1,-1)*IF(F$7=\"c\",call_wycena($A130, F$6,F$3, F$4,F$5),put_wycena($A130, F$6,F$3, F$4,F$5))","v":0.6217208252621047},{"$f":"IF(F$8=\"d\",1,-1)*(IF(F$7=\"c\",MAX($A130-F$6,0),MAX(F$6-$A130,0))-F$11*((1+F$3)^F$5))","v":-3.1763179780037953},{"$f":"IF(H$8=\"d\",1,-1)*IF(H$7=\"c\",call_wycena($A130, H$6,H$3, H$4,H$5),put_wycena($A130, H$6,H$3, H$4,H$5))","v":-26.746099218385424},{"$f":"IF(H$8=\"d\",1,-1)*(IF(H$7=\"c\",MAX($A130-H$6,0),MAX(H$6-$A130,0))-H$11*((1+H$3)^H$5))","v":-9.4585609326942155},{"$f":"IF(J$8=\"d\",1,-1)*IF(J$7=\"c\",call_wycena($A130, J$6,J$3, J$4,J$5),put_wycena($A130, J$6,J$3, J$4,J$5))","v":-26.746099218385424},{"$f":"IF(J$8=\"d\",1,-1)*(IF(J$7=\"c\",MAX($A130-J$6,0),MAX(J$6-$A130,0))-J$11*((1+J$3)^J$5))","v":-9.4585609326942155},{"$f":"IF(L$8=\"d\",1,-1)*IF(L$7=\"c\",call_wycena($A130, L$6,L$3, L$4,L$5),put_wycena($A130, L$6,L$3, L$4,L$5))","v":-26.746099218385424},{"$f":"IF(L$8=\"d\",1,-1)*(IF(L$7=\"c\",MAX($A130-L$6,0),MAX(L$6-$A130,0))-L$11*((1+L$3)^L$5))","v":-9.4585609326942155},null,28.337080957089142,3.0458792205389029]
[129,{"$f":"IF(B$8=\"d\",1,-1)*IF(B$7=\"c\",call_wycena($A131, B$6,B$3, B$4,B$5),put_wycena($A131, B$6,B$3, B$4,B$5))","v":1.5513614043345072},-6.4126817121553126,{"$f":"IF(D$8=\"d\",1,-1)*IF(D$7=\"c\",call_wycena($A131, D$6,D$3, D$4,D$5),put_wycena($A131, D$6,D$3, D$4,D$5))","v":27.131471324210821},9.9585609326942155,{"$f":"IF(F$8=\"d\",1,-1)*IF(F$7=\"c\",call_wycena($A131, F$6,F$3, F$4,F$5),put_wycena($A131, F$6,F$3, F$4,F$5))","v":0.60386611412392455},{"$f":"IF(F$8=\"d\",1,-1)*(IF(F$7=\"c\",MAX($A131-F$6,0),MAX(F$6-$A131,0))-F$11*((1+F$3)^F$5))","v":-3.1763179780037953},{"$f":"IF(H$8=\"d\",1,-1)*IF(H$7=\"c\",call_wycena($A131, H$6,H$3, H$4,H$5),put_wycena($A131, H$6,H$3, H$4,H$5))","v":-27.131471324210821},{"$f":"IF(H$8=\"d\",1,-1)*(IF(H$7=\"c\",MAX($A131-H$6,0),MAX(H$6-$A131,0))-H$11*((1+H$3)^H$5))","v":-9.9585609326942155},{"$f":"IF(J$8=\"d\",1,-1)*IF(J$7=\"c\",call_wycena($A131, J$6,J$3, J$4,J$5),put_wycena($A131, J$6,J$3, J$4,J$5))","v":-27.131471324210821},{"$f":"IF(J$8=\"d\",1,-1)*(IF(J$7=\"c\",MAX($A131-J$6,0),MAX(J$6-$A131,0))-J$11*((1+J$3)^J$5))","v":-9.9585609326942155},{"$f":"IF(L$8=\"d\",1,-1)*IF(L$7=\"c\",call_wycena($A131, L$6,L$3, L$4,L$5),put_wycena($A131, L$6,L$3, L$4,L$5))","v":-27.131471324210821},{"$f":"IF(L$8=\"d\",1,-1)*(IF(L$7=\"c\",MAX($A131-L$6,0),MAX(L$6-$A131,0))-L$11*((1+L$3)^L$5))","v":-9.9585609326942155},null,28.682832728545328,3.5458792205389029]
[129.5,{"$f":"IF(B$8=\"d\",1,-1)*IF(B$7=\"c\",call_wycena($A132, B$6,B$3, B$4,B$5),put_wycena($A132, B$6,B$3, B$4,B$5))","v":1.5126858831092029},-6.4126817121553126,{"$f":"IF(D$8=\"d\",1,-1)*IF(D$7=\"c\",call_wycena($A132, D$6,D$3, D$4,D$5),put_wycena($A132, D$6,D$3, D$4,D$5))","v":27.518792019857329},10.458560932694215,{"$f":"IF(F$8=\"d\",1,-1)*IF(F$7=\"c\",call_wycena($A132, F$6,F$3, F$4,F$5),put_wycena($A132, F$6,F$3, F$4,F$5))","v":0.58651296994196045},{"$f":"IF(F$8=\"d\",1,-1)*(IF(F$7=\"c\",MAX($A132-F$6,0),MAX(F$6-$A132,0))-F$11*((1+F$3)^F$5))","v":-3.1763179780037953},{"$f":"IF(H$8=\"d\",1,-1)*IF(H$7=\"c\",call_wycena($A132, H$6,H$3, H$4,H$5),put_wycena($A132, H$6,H$3, H$4,H$5))","v":-27.518792019857329},{"$f":"IF(H$8=\"d\",1,-1)*(IF(H$7=\"c\",MAX($A132-H$6,0),MAX(H$6-$A132,0))-H$11*((1+H$3)^H$5))","v":-10.458560932694215},{"$f":"IF(J$8=\"d\",1,-1)*IF(J$7=\"c\",call_wycena($A132, J$6,J$3, J$4,J$5),put_wycena($A132, J$6,J$3, J$4,J$5))","v":-27.518792019857329},{"$f":"IF(J$8=\"d\",1,-1)*(IF(J$7=\"c\",MAX($A132-J$6,0),MAX(J$6-$A132,0))-J$11*((1+J$3)^J$5))","v":-10.458560932694215},{"$f":"IF(L$8=\"d\",1,-1)*IF(L$7=\"c\",call_wycena($A132, L$6,L$3, L$4,L$5),put_wycena($A132, L$6,L$3, L$4,L$5))","v":-27.518792019857329},{"$f":"IF(L$8=\"d\",1,-1)*(IF(L$7=\"c\",MAX($A132-L$6,0),MAX(L$6-$A132,0))-L$11*((1+L$3)^L$5))","v":-10.458560932694215},null,29.031477902966532,4.0458792205389029]
[130,{"$f":"IF(B$8=\"d\",1,-1)*IF(B$7=\"c\",call_wycena($A133, B$6,B$3, B$4,B$5),put_wycena($A133, B$6,B$3, B$4,B$5))","v":1.4749344135988647},-6.4126817121553126,{"$f":"IF(D$8=\"d\",1,-1)*IF(D$7=\"c\",call_wycena($A133, D$6,D$3, D$4,D$5),put_wycena($A133, D$6,D$3, D$4,D$5))","v":27.908034995980685},10.958560932694215,{"$f":"IF(F$8=\"d\",1,-1)*IF(F$7=\"c\",call_wycena($A133, F$6,F$3, F$4,F$5),put_wycena($A133, F$6,F$3, F$4,F$5))","v":0.56964789401431482},{"$f":"IF(F$8=\"d\",1,-1)*(IF(F$7=\"c\",MAX($A133-F$6,0),MAX(F$6-$A133,0))-F$11*((1+F$3)^F$5))","v":-3.1763179780037953},{"$f":"IF(H$8=\"d\",1,-1)*IF(H$7=\"c\",call_wycena($A133, H$6,H$3, H$4,H$5),put_wycena($A133, H$6,H$3, H$4,H$5))","v":-27.908034995980685},{"$f":"IF(H$8=\"d\",1,-1)*(IF(H$7=\"c\",MAX($A133-H$6,0),MAX(H$6-$A133,0))-H$11*((1+H$3)^H$5))","v":-10.958560932694215},{"$f":"IF(J$8=\"d\",1,-1)*IF(J$7=\"c\",call_wycena($A133, J$6,J$3, J$4,J$5),put_wycena($A133, J$6,J$3, J$4,J$5))","v":-27.908034995980685},{"$f":"IF(J$8=\"d\",1,-1)*(IF(J$7=\"c\",MAX($A133-J$6,0),MAX(J$6-$A133,0))-J$11*((1+J$3)^J$5))","v":-10.958560932694215},{"$f":"IF(L$8=\"d\",1,-1)*IF(L$7=\"c\",call_wycena($A133, L$6,L$3, L$4,L$5),put_wycena($A133, L$6,L$3, L$4,L$5))","v":-27.908034995980685},{"$f":"IF(L$8=\"d\",1,-1)*(IF(L$7=\"c\",MAX($A133-L$6,0),MAX(L$6-$A133,0))-L$11*((1+L$3)^L$5))","v":-10.958560932694215},null,29.382969409579552,4.5458792205389029]

{"sheet":"Arkusz3","index":2,"n_rows":25,"n_cols":7,"rows_kept":25,"cut":false,"hidden":false,"merged":[]}
[null,"opcja 1","opcja 2","opcja 3","opcja 4","opcja 5","opcja 6"]
["r",0.02,0.02,0.02,0.02,0.02,0.02]
["sigma",0.3,0.3,0.3,0.3,0.3,0.3]
["Czas do wykonania",1,1,1,1,1,1]
["Cena wykonania",90,110,80,110,110,110]
["Call/put","p","c","p","c","c","c"]
["długa/krótka","d","d","d","k","k","k"]
["w portfelu",1,1,0,0,0,0]
[]
[]
[]
[]
[]
[]
[]
[]
[]
[]
[]
[]
[]
[]
[]
[]
["Uwaga: wykresy przedstawiają wynik po uwzględnieniu premii opcyjnej"]